{"text_format":"1","workbook":"xlsx","n_sheets":7,"sheets":["classement","Poussins JP R2","Poussins JP R3","Poussins JP R 1","Challenge ","total ","juges"],"not_rendered":{"charts":0,"images":1,"macros":1,"external_links":0,"defined_names":2,"comments":0,"pivot_tables":0},"unopened":[],"bounds":{"document_bytes":16777216,"sheet_cells":100000,"rows_first":2000,"rows_last":500,"rows_between":2000,"halvings":0,"cell_chars":16384,"cell_head_chars":4096},"cells_cut":0,"cells_raw":0,"read":"whole","date_system":"1900"}

{"sheet":"classement","index":0,"n_rows":41,"n_cols":4,"rows_kept":41,"cut":false,"hidden":false,"merged":[[10,5,10,7]]}
[]
[null,null,"MOUVAUX le 1° Juin 2025"]
[]
[null,"CLASSEMENT REGIONAL POUSSINS 2025"]
[]
[]
[]
[]
[]
[]
[null,"CLUB","VILLE","TOTAL"]
[null,"POUSSINS JP R 2"]
[{"$f":"'Poussins JP R2'!A2","v":1},{"$f":"'Poussins JP R2'!B32","v":"LA JEANNE ARC "},{"$f":"'Poussins JP R2'!C32","v":"FOURNES "},{"$f":"'Poussins JP R2'!AA45","v":379.2}]
[{"$f":"'Poussins JP R2'!A17","v":2},{"$f":"'Poussins JP R2'!B2","v":"LA LORRAINE "},{"$f":"'Poussins JP R2'!C2","v":"RACHES "},{"$f":"'Poussins JP R2'!AA15","v":365.2}]
[{"$f":"'Poussins JP R2'!A32","v":3},{"$f":"'Poussins JP R2'!B17","v":"L'AMANDINOISE "},{"$f":"'Poussins JP R2'!C17","v":"ST AMAND "},{"$f":"'Poussins JP R2'!AA30","v":353.85}]
[{"$f":"'Poussins JP R2'!A47","v":4},{"$f":"'Poussins JP R2'!B47","v":"LA BAILLEULOISE "},{"$f":"'Poussins JP R2'!C47","v":"BAILLEUL"},{"$f":"'Poussins JP R2'!AA60","v":351.04999999999995}]
[null,{"$f":"'Poussins JP R2'!B63","v":0},{"$f":"'Poussins JP R2'!C63","v":0},{"$f":"'Poussins JP R2'!AA76","v":0}]
[null,{"$f":"'Poussins JP R2'!B78","v":0},{"$f":"'Poussins JP R2'!C78","v":0},{"$f":"'Poussins JP R2'!AA91","v":0}]
[null,{"$f":"'Poussins JP R2'!B99","v":0},{"$f":"'Poussins JP R2'!C99","v":0},{"$f":"'Poussins JP R2'!AA112","v":0}]
[]
[]
[null,"POUSSINS JP R 1"]
[]
[1,{"$f":"'Poussins JP R 1'!B4","v":"JEANNE ARC "},{"$f":"'Poussins JP R 1'!C4","v":"MOUVAUX "},{"$f":"'Poussins JP R 1'!AA25","v":579.29999999999995}]
[2,{"$f":"'Poussins JP R 1'!B58","v":"JEUNE GARDE "},{"$f":"'Poussins JP R 1'!C58","v":"ARMENTIERES"},{"$f":"'Poussins JP R 1'!AA79","v":485.79999999999995}]
[3,{"$f":"'Poussins JP R 1'!B28","v":"JEUNE GARDE "},{"$f":"'Poussins JP R 1'!C28","v":"ARMENTIERES"},{"$f":"'Poussins JP R 1'!AA49","v":485.79999999999995}]
[]
[]
[]
[]
[]
[]
[null,"POUSSINS JP R3"]
[]
[1,{"$f":"'Poussins JP R3'!B13","v":"LA JEANNE ARC "},{"$f":"'Poussins JP R3'!C13","v":"ESTAIRES "},{"$f":"'Poussins JP R3'!AA23","v":184.95}]
[2,{"$f":"'Poussins JP R3'!B1","v":"L'USSA "},{"$f":"'Poussins JP R3'!C1","v":"ST ANDRE "},{"$f":"'Poussins JP R3'!AA11","v":169.60000000000002}]
[3,{"$f":"'Poussins JP R3'!B25","v":0},{"$f":"'Poussins JP R3'!C25","v":0},{"$f":"'Poussins JP R3'!AA35","v":0}]
[4]
[5]
[6]
[7]

{"sheet":"Poussins JP R2","index":1,"n_rows":112,"n_cols":27,"rows_kept":112,"cut":false,"hidden":false,"merged":[]}
[]
[1,"LA LORRAINE ","RACHES "]
[]
[null,"Nom ","Prénom","Degré ","Note ",null,"Sol ","Degré ","Note ",null,"Saut ","Degré ","Note ",null,"BP ","Degré ","Note ",null,"BF","Note ",null,"Arçons","Note ",null,"AN ","Total; des 6 Meilleurs notes "]
[null,null,null,1,7.75,{"$f":"IF(OR(E5<7,NOT(ISNUMBER(D5))),\"\",IF(D5=0,\"\",CHOOSE(D5,1,2,3,4,5)))","v":1},{"$f":"SUM(E5:F5)","v":8.75},2,8.25,{"$f":"IF(OR(I5<7,NOT(ISNUMBER(H5))),\"\",IF(H5=0,\"\",CHOOSE(H5,1,2,3,4,5)))","v":2},{"$f":"SUM(I5:J5)","v":10.25},1,7.25,{"$f":"IF(OR(M5<7,NOT(ISNUMBER(L5))),\"\",IF(L5=0,\"\",CHOOSE(L5,1,2,3,4,5)))","v":1},{"$f":"SUM(M5:N5)","v":8.25},2,7.65,{"$f":"IF(OR(Q5<7,NOT(ISNUMBER(P5))),\"\",IF(P5=0,\"\",CHOOSE(P5,1,2,3,4,5)))","v":2},{"$f":"SUM(Q5:R5)","v":9.65},3.05,0,{"$f":"SUM(T5:U5)","v":3.05},1,{"$f":"IF(OR(W5<7,NOT(ISNUMBER(#REF!))),\"\",IF(#REF!=0,\"\",CHOOSE(#REF!,1,2,3,4,5)))","v":""},{"$f":"SUM(W5:X5)","v":1}]
[null,null,null,4,8.15,{"$f":"IF(OR(E6<7,NOT(ISNUMBER(D6))),\"\",IF(D6=0,\"\",CHOOSE(D6,1,2,3,4,5)))","v":4},{"$f":"SUM(E6:F6)","v":12.15},4,7.7,4,{"$f":"SUM(I6:J6)","v":11.7},3,8.5,{"$f":"IF(OR(M6<7,NOT(ISNUMBER(L6))),\"\",IF(L6=0,\"\",CHOOSE(L6,1,2,3,4,5)))","v":3},{"$f":"SUM(M6:N6)","v":11.5},3,8.5500000000000007,{"$f":"IF(OR(Q6<7,NOT(ISNUMBER(P6))),\"\",IF(P6=0,\"\",CHOOSE(P6,1,2,3,4,5)))","v":3},{"$f":"SUM(Q6:R6)","v":11.55},5.15,0,{"$f":"SUM(T6:U6)","v":5.15},8.3000000000000007,{"$f":"IF(OR(W6<7,NOT(ISNUMBER(#REF!))),\"\",IF(#REF!=0,\"\",CHOOSE(#REF!,1,2,3,4,5)))","v":""},{"$f":"SUM(W6:X6)","v":8.3000000000000007},"Sol",{"$f":"LARGE(G5:G14,1)+LARGE(G5:G14,2)+LARGE(G5:G14,3)+LARGE(G5:G14,4)+LARGE(G5:G14,5)+LARGE(G5:G14,6)","v":71.25}]
[null,null,null,3,8.4499999999999993,3,11.45,3,9.1,3,12.1,3,9.5,3,12.5,3,8.9,3,11.9,6.15,0,6.15,7.9,{"$f":"IF(OR(W7<7,NOT(ISNUMBER(#REF!))),\"\",IF(#REF!=0,\"\",CHOOSE(#REF!,1,2,3,4,5)))","v":""},7.9,"Saut ",{"$f":"LARGE(K5:K14,1)+LARGE(K5:K14,2)+LARGE(K5:K14,3)+LARGE(K5:K14,4)+LARGE(K5:K14,5)+LARGE(K5:K14,6)","v":74.149999999999991}]
[null,null,null,4,8.15,4,12.15,2,8.25,2,10.25,4,8.5,4,12.5,3,8.9499999999999993,3,11.95,6.9,0,6.9,8.0500000000000007,{"$f":"IF(OR(W8<7,NOT(ISNUMBER(#REF!))),\"\",IF(#REF!=0,\"\",CHOOSE(#REF!,1,2,3,4,5)))","v":""},8.0500000000000007,"BP ",{"$f":"LARGE(O5:O14,1)+LARGE(O5:O14,2)+LARGE(O5:O14,3)+LARGE(O5:O14,4)+LARGE(O5:O14,5)+LARGE(O5:O14,6)","v":69.5}]
[null,null,null,1,8.5,1,9.5,3,9.3000000000000007,3,12.3,2,7.6,2,9.6,2,7.9,2,9.9,3.8,0,3.8,3.2,{"$f":"IF(OR(W9<7,NOT(ISNUMBER(#REF!))),\"\",IF(#REF!=0,\"\",CHOOSE(#REF!,1,2,3,4,5)))","v":""},3.2,"BF",{"$f":"LARGE(S5:S14,1)+LARGE(S5:S14,2)+LARGE(S5:S14,3)+LARGE(S5:S14,4)+LARGE(S5:S14,5)+LARGE(S5:S14,6)","v":68.55}]
[null,null,null,4,8.75,4,12.75,3,9.25,3,12.25,3,7.4,3,10.4,3,8.9499999999999993,3,11.95,5.85,0,5.85,8.6999999999999993,null,8.6999999999999993,"Arcons",{"$f":"LARGE(V5:V14,1)+LARGE(V5:V14,2)+LARGE(V5:V14,3)+LARGE(V5:V14,4)+LARGE(V5:V14,5)+LARGE(V5:V14,6)","v":32.799999999999997}]
[null,null,null,3,8.5500000000000007,3,11.55,4,9.1999999999999993,4,13.2,3,8.9,3,11.9,3,7.15,3,10.15,4.95,0,4.95,7.9,null,7.9,"Anneaux",{"$f":"LARGE(Y5:Y14,1)+LARGE(Y5:Y14,2)+LARGE(Y5:Y14,3)+LARGE(Y5:Y14,4)+LARGE(Y5:Y14,5)+LARGE(Y5:Y14,6)","v":48.95}]
[null,null,null,3,8.1999999999999993,3,11.2,3,9.6,3,12.6,3,7.7,3,10.7,3,8.0500000000000007,3,11.05,3.5,0,3.5,8.1,null,8.1]
[null,null,null,null,null,"",0,null,null,"",0,null,null,"",0,null,null,"",0,null,0,0,null,null,0]
[null,null,null,null,null,{"$f":"IF(OR(E14<7,NOT(ISNUMBER(D14))),\"\",IF(D14=0,\"\",CHOOSE(D14,1,2,3,4,5)))","v":""},null,null,null,"",null,null,null,{"$f":"IF(OR(M14<7,NOT(ISNUMBER(L14))),\"\",IF(L14=0,\"\",CHOOSE(L14,1,2,3,4,5)))","v":""},null,null,null,"",null,null,{"$f":"IF(OR(T14<7,NOT(ISNUMBER(#REF!))),\"\",IF(#REF!=0,\"\",CHOOSE(#REF!,1,2,3,4,5)))","v":""},null,null,{"$f":"IF(OR(W14<7,NOT(ISNUMBER(#REF!))),\"\",IF(#REF!=0,\"\",CHOOSE(#REF!,1,2,3,4,5)))","v":""}]
[null,null,"Total",null,null,null,{"$f":"SUM(G5:G14)","v":89.5},null,null,null,{"$f":"SUM(K5:K14)","v":94.649999999999991},null,null,null,{"$f":"SUM(O5:O14)","v":87.350000000000009},null,null,null,{"$f":"SUM(S5:S14)","v":88.1},null,null,{"$f":"SUM(V5:V14)","v":39.35},null,null,{"$f":"SUM(Y5:Y14)","v":53.150000000000006},"Total Gal ",{"$f":"SUM(AA5:AA14)","v":365.2}]
[]
[2,"L'AMANDINOISE ","ST AMAND "]
[]
[null,"Nom ","Prénom","Degré ","Note ",null,"Sol ","Degré ","Note ",null,"Saut ","Degré ","Note ",null,"BP ","Degré ","Note ",null,"BF","Note ",null,"Arçons","Note ",null,"AN ","Total; des 6 Meilleurs notes "]
[null,null,null,1,8.5,{"$f":"IF(OR(E20<7,NOT(ISNUMBER(D20))),\"\",IF(D20=0,\"\",CHOOSE(D20,1,2,3,4,5)))","v":1},{"$f":"SUM(E20:F20)","v":9.5},2,8.1999999999999993,{"$f":"IF(OR(I20<7,NOT(ISNUMBER(H20))),\"\",IF(H20=0,\"\",CHOOSE(H20,1,2,3,4,5)))","v":2},{"$f":"SUM(I20:J20)","v":10.199999999999999},2,7.65,{"$f":"IF(OR(M20<7,NOT(ISNUMBER(L20))),\"\",IF(L20=0,\"\",CHOOSE(L20,1,2,3,4,5)))","v":2},{"$f":"SUM(M20:N20)","v":9.65},2,8.8000000000000007,{"$f":"IF(OR(Q20<7,NOT(ISNUMBER(P20))),\"\",IF(P20=0,\"\",CHOOSE(P20,1,2,3,4,5)))","v":2},{"$f":"SUM(Q20:R20)","v":10.8},2.9,{"$f":"IF(OR(T20<7,NOT(ISNUMBER(#REF!))),\"\",IF(#REF!=0,\"\",CHOOSE(#REF!,1,2,3,4,5)))","v":""},{"$f":"SUM(T20:U20)","v":2.9},7.75,{"$f":"IF(OR(W20<7,NOT(ISNUMBER(#REF!))),\"\",IF(#REF!=0,\"\",CHOOSE(#REF!,1,2,3,4,5)))","v":""},{"$f":"SUM(W20:X20)","v":7.75}]
[null,null,null,3,7.6,{"$f":"IF(OR(E21<7,NOT(ISNUMBER(D21))),\"\",IF(D21=0,\"\",CHOOSE(D21,1,2,3,4,5)))","v":3},{"$f":"SUM(E21:F21)","v":10.6},3,9.1999999999999993,{"$f":"IF(OR(I21<7,NOT(ISNUMBER(H21))),\"\",IF(H21=0,\"\",CHOOSE(H21,1,2,3,4,5)))","v":3},{"$f":"SUM(I21:J21)","v":12.2},3,8.6999999999999993,{"$f":"IF(OR(M21<7,NOT(ISNUMBER(L21))),\"\",IF(L21=0,\"\",CHOOSE(L21,1,2,3,4,5)))","v":3},{"$f":"SUM(M21:N21)","v":11.7},3,8.75,{"$f":"IF(OR(Q21<7,NOT(ISNUMBER(P21))),\"\",IF(P21=0,\"\",CHOOSE(P21,1,2,3,4,5)))","v":3},{"$f":"SUM(Q21:R21)","v":11.75},3.55,{"$f":"IF(OR(T21<7,NOT(ISNUMBER(#REF!))),\"\",IF(#REF!=0,\"\",CHOOSE(#REF!,1,2,3,4,5)))","v":""},{"$f":"SUM(T21:U21)","v":3.55},7.95,{"$f":"IF(OR(W21<7,NOT(ISNUMBER(#REF!))),\"\",IF(#REF!=0,\"\",CHOOSE(#REF!,1,2,3,4,5)))","v":""},{"$f":"SUM(W21:X21)","v":7.95},"Sol",{"$f":"LARGE(G20:G29,1)+LARGE(G20:G29,2)+LARGE(G20:G29,3)+LARGE(G20:G29,4)+LARGE(G20:G29,5)+LARGE(G20:G29,6)","v":66.599999999999994}]
[null,null,null,2,8.4499999999999993,2,10.45,2,8.4,{"$f":"IF(OR(I22<7,NOT(ISNUMBER(H22))),\"\",IF(H22=0,\"\",CHOOSE(H22,1,2,3,4,5)))","v":2},{"$f":"SUM(I22:J22)","v":10.4},2,9.4,{"$f":"IF(OR(M22<7,NOT(ISNUMBER(L22))),\"\",IF(L22=0,\"\",CHOOSE(L22,1,2,3,4,5)))","v":2},{"$f":"SUM(M22:N22)","v":11.4},2,8.8000000000000007,{"$f":"IF(OR(Q22<7,NOT(ISNUMBER(P22))),\"\",IF(P22=0,\"\",CHOOSE(P22,1,2,3,4,5)))","v":2},{"$f":"SUM(Q22:R22)","v":10.8},4.25,{"$f":"IF(OR(T22<7,NOT(ISNUMBER(#REF!))),\"\",IF(#REF!=0,\"\",CHOOSE(#REF!,1,2,3,4,5)))","v":""},4.25,6.9,{"$f":"IF(OR(W22<7,NOT(ISNUMBER(#REF!))),\"\",IF(#REF!=0,\"\",CHOOSE(#REF!,1,2,3,4,5)))","v":""},6.9,"Saut ",{"$f":"LARGE(K20:K29,1)+LARGE(K20:K29,2)+LARGE(K20:K29,3)+LARGE(K20:K29,4)+LARGE(K20:K29,5)+LARGE(K20:K29,6)","v":72.149999999999991}]
[null,null,null,4,7.35,4,11.35,4,8.4499999999999993,4,12.45,3,8.5500000000000007,3,11.55,3,9,3,12,5.85,{"$f":"IF(OR(T23<7,NOT(ISNUMBER(#REF!))),\"\",IF(#REF!=0,\"\",CHOOSE(#REF!,1,2,3,4,5)))","v":""},{"$f":"SUM(T23:U23)","v":5.85},8.4499999999999993,null,8.4499999999999993,"BP ",{"$f":"LARGE(O20:O29,1)+LARGE(O20:O29,2)+LARGE(O20:O29,3)+LARGE(O20:O29,4)+LARGE(O20:O29,5)+LARGE(O20:O29,6)","v":68}]
[null,null,null,2,7.95,2,9.9499999999999993,2,8.8000000000000007,2,10.8,2,9.0500000000000007,2,11.05,2,8.15,2,10.15,4.5999999999999996,{"$f":"IF(OR(T24<7,NOT(ISNUMBER(#REF!))),\"\",IF(#REF!=0,\"\",CHOOSE(#REF!,1,2,3,4,5)))","v":""},4.5999999999999996,7.7,null,7.7,"BF",{"$f":"LARGE(S20:S29,1)+LARGE(S20:S29,2)+LARGE(S20:S29,3)+LARGE(S20:S29,4)+LARGE(S20:S29,5)+LARGE(S20:S29,6)","v":69.95}]
[null,null,null,3,8.0500000000000007,3,11.05,3,8.6999999999999993,3,11.7,2,8.75,2,10.75,3,9,3,12,4.25,{"$f":"IF(OR(T25<7,NOT(ISNUMBER(#REF!))),\"\",IF(#REF!=0,\"\",CHOOSE(#REF!,1,2,3,4,5)))","v":""},4.25,8.1,null,8.1,"Arçons ",{"$f":"LARGE(V20:V29,1)+LARGE(V20:V29,2)+LARGE(V20:V29,3)+LARGE(V20:V29,4)+LARGE(V20:V29,5)+LARGE(V20:V29,6)","v":29}]
[null,null,null,3,8.3000000000000007,3,11.3,3,9.6,3,12.6,2,9.3000000000000007,2,11.3,3,8.6,3,11.6,5.35,{"$f":"IF(OR(T26<7,NOT(ISNUMBER(#REF!))),\"\",IF(#REF!=0,\"\",CHOOSE(#REF!,1,2,3,4,5)))","v":""},5.35,8.1999999999999993,{"$f":"IF(OR(W26<7,NOT(ISNUMBER(#REF!))),\"\",IF(#REF!=0,\"\",CHOOSE(#REF!,1,2,3,4,5)))","v":""},8.1999999999999993,"Anneaux",{"$f":"LARGE(Y20:Y29,1)+LARGE(Y20:Y29,2)+LARGE(Y20:Y29,3)+LARGE(Y20:Y29,4)+LARGE(Y20:Y29,5)+LARGE(Y20:Y29,6)","v":48.150000000000006}]
[null,null,null,4,7.85,4,11.85,3,9.4,3,12.4,2,9,2,11,3,8.8000000000000007,3,11.8,4.7,{"$f":"IF(OR(T27<7,NOT(ISNUMBER(#REF!))),\"\",IF(#REF!=0,\"\",CHOOSE(#REF!,1,2,3,4,5)))","v":""},4.7,7.6,null,7.6]
[null,null,null,null,null,{"$f":"IF(OR(E28<7,NOT(ISNUMBER(D28))),\"\",IF(D28=0,\"\",CHOOSE(D28,1,2,3,4,5)))","v":""},{"$f":"SUM(E28:F28)","v":0},null,null,"",0,null,null,"",0,null,null,"",0,null,{"$f":"IF(OR(T28<7,NOT(ISNUMBER(#REF!))),\"\",IF(#REF!=0,\"\",CHOOSE(#REF!,1,2,3,4,5)))","v":""},0,null,null,0]
[null,null,null,null,null,""]
[null,null,"Total",null,null,null,{"$f":"SUM(G20:G29)","v":86.049999999999983},null,null,null,{"$f":"SUM(K20:K29)","v":92.75},null,null,null,{"$f":"SUM(O20:O29)","v":88.399999999999991},null,null,null,{"$f":"SUM(S20:S29)","v":90.899999999999991},null,null,{"$f":"SUM(V20:V29)","v":35.450000000000003},null,null,{"$f":"SUM(Y20:Y29)","v":62.65},"Total Gal ",{"$f":"SUM(AA20:AA29)","v":353.85}]
[]
[3,"LA JEANNE ARC ","FOURNES "]
[]
[null,"Nom ","Prénom","Degré ","Note ",null,"Sol ","Degré ","Note ",null,"Saut ","Degré ","Note ",null,"BP ","Degré ","Note ",null,"BF","Note ",null,"Arçons","Note ",null,"AN ","Total; des 6 Meilleurs notes "]
[null,null,null,4,7.45,{"$f":"IF(OR(E35<7,NOT(ISNUMBER(D35))),\"\",IF(D35=0,\"\",CHOOSE(D35,1,2,3,4,5)))","v":4},{"$f":"SUM(E35:F35)","v":11.45},3,9.1,{"$f":"IF(OR(I35<7,NOT(ISNUMBER(H35))),\"\",IF(H35=0,\"\",CHOOSE(H35,1,2,3,4,5)))","v":3},{"$f":"SUM(I35:J35)","v":12.1},4,8.6,{"$f":"IF(OR(M35<7,NOT(ISNUMBER(L35))),\"\",IF(L35=0,\"\",CHOOSE(L35,1,2,3,4,5)))","v":4},{"$f":"SUM(M35:N35)","v":12.6},4,9.1,{"$f":"IF(OR(Q35<7,NOT(ISNUMBER(P35))),\"\",IF(P35=0,\"\",CHOOSE(P35,1,2,3,4,5)))","v":4},{"$f":"SUM(Q35:R35)","v":13.1},7.95,{"$f":"IF(OR(T35<7,NOT(ISNUMBER(#REF!))),\"\",IF(#REF!=0,\"\",CHOOSE(#REF!,1,2,3,4,5)))","v":""},{"$f":"SUM(T35:U35)","v":7.95},8.15,{"$f":"IF(OR(W35<7,NOT(ISNUMBER(#REF!))),\"\",IF(#REF!=0,\"\",CHOOSE(#REF!,1,2,3,4,5)))","v":""},{"$f":"SUM(W35:X35)","v":8.15}]
[null,null,null,4,8.4,{"$f":"IF(OR(E36<7,NOT(ISNUMBER(D36))),\"\",IF(D36=0,\"\",CHOOSE(D36,1,2,3,4,5)))","v":4},{"$f":"SUM(E36:F36)","v":12.4},3,9.0500000000000007,{"$f":"IF(OR(I36<7,NOT(ISNUMBER(H36))),\"\",IF(H36=0,\"\",CHOOSE(H36,1,2,3,4,5)))","v":3},{"$f":"SUM(I36:J36)","v":12.05},3,9.4499999999999993,{"$f":"IF(OR(M36<7,NOT(ISNUMBER(L36))),\"\",IF(L36=0,\"\",CHOOSE(L36,1,2,3,4,5)))","v":3},{"$f":"SUM(M36:N36)","v":12.45},4,8.65,{"$f":"IF(OR(Q36<7,NOT(ISNUMBER(P36))),\"\",IF(P36=0,\"\",CHOOSE(P36,1,2,3,4,5)))","v":4},{"$f":"SUM(Q36:R36)","v":12.65},7.5,{"$f":"IF(OR(T36<7,NOT(ISNUMBER(#REF!))),\"\",IF(#REF!=0,\"\",CHOOSE(#REF!,1,2,3,4,5)))","v":""},{"$f":"SUM(T36:U36)","v":7.5},7.7,{"$f":"IF(OR(W36<7,NOT(ISNUMBER(#REF!))),\"\",IF(#REF!=0,\"\",CHOOSE(#REF!,1,2,3,4,5)))","v":""},{"$f":"SUM(W36:X36)","v":7.7},"Sol",{"$f":"LARGE(G35:G44,1)+LARGE(G35:G44,2)+LARGE(G35:G44,3)+LARGE(G35:G44,4)+LARGE(G35:G44,5)+LARGE(G35:G44,6)","v":68.75}]
[null,null,null,3,7,{"$f":"IF(OR(E37<7,NOT(ISNUMBER(D37))),\"\",IF(D37=0,\"\",CHOOSE(D37,1,2,3,4,5)))","v":3},{"$f":"SUM(E37:F37)","v":10},3,8.5,{"$f":"IF(OR(I37<7,NOT(ISNUMBER(H37))),\"\",IF(H37=0,\"\",CHOOSE(H37,1,2,3,4,5)))","v":3},{"$f":"SUM(I37:J37)","v":11.5},3,8.5,{"$f":"IF(OR(M37<7,NOT(ISNUMBER(L37))),\"\",IF(L37=0,\"\",CHOOSE(L37,1,2,3,4,5)))","v":3},{"$f":"SUM(M37:N37)","v":11.5},3,8.8000000000000007,{"$f":"IF(OR(Q37<7,NOT(ISNUMBER(P37))),\"\",IF(P37=0,\"\",CHOOSE(P37,1,2,3,4,5)))","v":3},{"$f":"SUM(Q37:R37)","v":11.8},3.95,{"$f":"IF(OR(T37<7,NOT(ISNUMBER(#REF!))),\"\",IF(#REF!=0,\"\",CHOOSE(#REF!,1,2,3,4,5)))","v":""},{"$f":"SUM(T37:U37)","v":3.95},7.7,null,7.7,"Saut ",{"$f":"LARGE(K35:K44,1)+LARGE(K35:K44,2)+LARGE(K35:K44,3)+LARGE(K35:K44,4)+LARGE(K35:K44,5)+LARGE(K35:K44,6)","v":73.75}]
[null,null,null,2,8.25,2,10.25,3,5,"",5,2,9,2,11,2,8.8000000000000007,2,10.8,4.45,{"$f":"IF(OR(T38<7,NOT(ISNUMBER(#REF!))),\"\",IF(#REF!=0,\"\",CHOOSE(#REF!,1,2,3,4,5)))","v":""},4.45,7.7,null,7.7,"BP ",{"$f":"LARGE(O35:O44,1)+LARGE(O35:O44,2)+LARGE(O35:O44,3)+LARGE(O35:O44,4)+LARGE(O35:O44,5)+LARGE(O35:O44,6)","v":74.900000000000006}]
[null,null,null,3,7.3,3,10.3,3,9.1,3,12.1,3,9.4,3,12.4,3,8.6999999999999993,3,11.7,4.4000000000000004,{"$f":"IF(OR(T39<7,NOT(ISNUMBER(#REF!))),\"\",IF(#REF!=0,\"\",CHOOSE(#REF!,1,2,3,4,5)))","v":""},4.4000000000000004,5,null,5,"BF",{"$f":"LARGE(S35:S44,1)+LARGE(S35:S44,2)+LARGE(S35:S44,3)+LARGE(S35:S44,4)+LARGE(S35:S44,5)+LARGE(S35:S44,6)","v":73.75}]
[null,null,null,2,7.55,2,9.5500000000000007,2,8.4,2,10.4,2,8.5500000000000007,2,10.55,2,8.6999999999999993,2,10.7,4.4000000000000004,{"$f":"IF(OR(T40<7,NOT(ISNUMBER(#REF!))),\"\",IF(#REF!=0,\"\",CHOOSE(#REF!,1,2,3,4,5)))","v":""},4.4000000000000004,5.4,{"$f":"IF(OR(W40<7,NOT(ISNUMBER(#REF!))),\"\",IF(#REF!=0,\"\",CHOOSE(#REF!,1,2,3,4,5)))","v":""},5.4,"Arçons ",{"$f":"LARGE(V35:V44,1)+LARGE(V35:V44,2)+LARGE(V35:V44,3)+LARGE(V35:V44,4)+LARGE(V35:V44,5)+LARGE(V35:V44,6)","v":40.5}]
[null,null,null,4,9.4499999999999993,4,13.45,4,9.8000000000000007,4,13.8,4,9.6,4,13.6,4,9.6999999999999993,4,13.7,9.6999999999999993,{"$f":"IF(OR(T41<7,NOT(ISNUMBER(#REF!))),\"\",IF(#REF!=0,\"\",CHOOSE(#REF!,1,2,3,4,5)))","v":""},9.6999999999999993,8.35,{"$f":"IF(OR(W41<7,NOT(ISNUMBER(#REF!))),\"\",IF(#REF!=0,\"\",CHOOSE(#REF!,1,2,3,4,5)))","v":""},8.35,"Anneaux",{"$f":"LARGE(Y35:Y44,1)+LARGE(Y35:Y44,2)+LARGE(Y35:Y44,3)+LARGE(Y35:Y44,4)+LARGE(Y35:Y44,5)+LARGE(Y35:Y44,6)","v":47.550000000000004}]
[null,null,null,3,7.9,3,10.9,3,9.1999999999999993,3,12.2,3,9.35,3,12.35,3,7.35,3,10.35,6.5,{"$f":"IF(OR(T42<7,NOT(ISNUMBER(#REF!))),\"\",IF(#REF!=0,\"\",CHOOSE(#REF!,1,2,3,4,5)))","v":""},6.5,7.95,null,7.95]
[null,null,null,null,null,"",0,null,null,"",0,null,null,"",0,null,null,"",0,null,{"$f":"IF(OR(T43<7,NOT(ISNUMBER(#REF!))),\"\",IF(#REF!=0,\"\",CHOOSE(#REF!,1,2,3,4,5)))","v":""},0,null,null,0]
[null,null,null,null,null,""]
[null,null,"Total",null,null,null,{"$f":"SUM(G35:G44)","v":88.300000000000011},null,null,null,{"$f":"SUM(K35:K44)","v":89.15},null,null,null,{"$f":"SUM(O35:O44)","v":96.449999999999989},null,null,null,{"$f":"SUM(S35:S44)","v":94.8},null,null,{"$f":"SUM(V35:V44)","v":48.849999999999994},null,null,{"$f":"SUM(Y35:Y44)","v":57.95},"Total Gal ",{"$f":"SUM(AA35:AA44)","v":379.2}]
[]
[4,"LA BAILLEULOISE ","BAILLEUL"]
[]
[null,"Nom ","Prénom","Degré ","Note ",null,"Sol ","Degré ","Note ",null,"Saut ","Degré ","Note ",null,"BP ","Degré ","Note ",null,"BF","Note ",null,"Arçons","Note ",null,"AN ","Total; des 6 Meilleurs notes "]
[null,null,null,2,7.75,{"$f":"IF(OR(E50<7,NOT(ISNUMBER(D50))),\"\",IF(D50=0,\"\",CHOOSE(D50,1,2,3,4,5)))","v":2},{"$f":"SUM(E50:F50)","v":9.75},2,7.25,{"$f":"IF(OR(I50<7,NOT(ISNUMBER(H50))),\"\",IF(H50=0,\"\",CHOOSE(H50,1,2,3,4,5)))","v":2},{"$f":"SUM(I50:J50)","v":9.25},2,8.5500000000000007,{"$f":"IF(OR(M50<7,NOT(ISNUMBER(L50))),\"\",IF(L50=0,\"\",CHOOSE(L50,1,2,3,4,5)))","v":2},{"$f":"SUM(M50:N50)","v":10.55},2,8.9,{"$f":"IF(OR(Q50<7,NOT(ISNUMBER(P50))),\"\",IF(P50=0,\"\",CHOOSE(P50,1,2,3,4,5)))","v":2},{"$f":"SUM(Q50:R50)","v":10.9},2.65,{"$f":"IF(OR(T50<7,NOT(ISNUMBER(#REF!))),\"\",IF(#REF!=0,\"\",CHOOSE(#REF!,1,2,3,4,5)))","v":""},{"$f":"SUM(T50:U50)","v":2.65},5.9,{"$f":"IF(OR(W50<7,NOT(ISNUMBER(#REF!))),\"\",IF(#REF!=0,\"\",CHOOSE(#REF!,1,2,3,4,5)))","v":""},{"$f":"SUM(W50:X50)","v":5.9}]
[null,null,null,3,6.9,{"$f":"IF(OR(E51<7,NOT(ISNUMBER(D51))),\"\",IF(D51=0,\"\",CHOOSE(D51,1,2,3,4,5)))","v":""},{"$f":"SUM(E51:F51)","v":6.9},2,8.5,{"$f":"IF(OR(I51<7,NOT(ISNUMBER(H51))),\"\",IF(H51=0,\"\",CHOOSE(H51,1,2,3,4,5)))","v":2},{"$f":"SUM(I51:J51)","v":10.5},2,9.1,{"$f":"IF(OR(M51<7,NOT(ISNUMBER(L51))),\"\",IF(L51=0,\"\",CHOOSE(L51,1,2,3,4,5)))","v":2},{"$f":"SUM(M51:N51)","v":11.1},3,8.6,{"$f":"IF(OR(Q51<7,NOT(ISNUMBER(P51))),\"\",IF(P51=0,\"\",CHOOSE(P51,1,2,3,4,5)))","v":3},{"$f":"SUM(Q51:R51)","v":11.6},3.65,{"$f":"IF(OR(T51<7,NOT(ISNUMBER(#REF!))),\"\",IF(#REF!=0,\"\",CHOOSE(#REF!,1,2,3,4,5)))","v":""},{"$f":"SUM(T51:U51)","v":3.65},6.75,{"$f":"IF(OR(W51<7,NOT(ISNUMBER(#REF!))),\"\",IF(#REF!=0,\"\",CHOOSE(#REF!,1,2,3,4,5)))","v":""},{"$f":"SUM(W51:X51)","v":6.75},"Sol",{"$f":"LARGE(G50:G59,1)+LARGE(G50:G59,2)+LARGE(G50:G59,3)+LARGE(G50:G59,4)+LARGE(G50:G59,5)+LARGE(G50:G59,6)","v":65.649999999999991}]
[null,null,null,3,7.95,3,10.95,3,9.1,3,12.1,3,8.9499999999999993,3,11.95,3,8.8000000000000007,3,11.8,4.05,{"$f":"IF(OR(T52<7,NOT(ISNUMBER(#REF!))),\"\",IF(#REF!=0,\"\",CHOOSE(#REF!,1,2,3,4,5)))","v":""},4.05,8.1,{"$f":"IF(OR(W52<7,NOT(ISNUMBER(#REF!))),\"\",IF(#REF!=0,\"\",CHOOSE(#REF!,1,2,3,4,5)))","v":""},8.1,"Saut ",{"$f":"LARGE(K50:K59,1)+LARGE(K50:K59,2)+LARGE(K50:K59,3)+LARGE(K50:K59,4)+LARGE(K50:K59,5)+LARGE(K50:K59,6)","v":69.349999999999994}]
[null,null,null,4,8.1999999999999993,4,12.2,3,8.9,3,11.9,3,9.1,3,12.1,3,7.45,3,10.45,7.55,{"$f":"IF(OR(T53<7,NOT(ISNUMBER(#REF!))),\"\",IF(#REF!=0,\"\",CHOOSE(#REF!,1,2,3,4,5)))","v":""},7.55,8.5,{"$f":"IF(OR(W53<7,NOT(ISNUMBER(#REF!))),\"\",IF(#REF!=0,\"\",CHOOSE(#REF!,1,2,3,4,5)))","v":""},8.5,"BP ",{"$f":"LARGE(O50:O59,1)+LARGE(O50:O59,2)+LARGE(O50:O59,3)+LARGE(O50:O59,4)+LARGE(O50:O59,5)+LARGE(O50:O59,6)","v":69.849999999999994}]
[null,null,null,4,6.6,"",6.6,3,8.1,3,11.1,3,8.0500000000000007,3,11.05,3,7.1,3,10.1,6.05,{"$f":"IF(OR(T54<7,NOT(ISNUMBER(#REF!))),\"\",IF(#REF!=0,\"\",CHOOSE(#REF!,1,2,3,4,5)))","v":""},6.05,7.4,{"$f":"IF(OR(W54<7,NOT(ISNUMBER(#REF!))),\"\",IF(#REF!=0,\"\",CHOOSE(#REF!,1,2,3,4,5)))","v":""},7.4,"BF",{"$f":"LARGE(S50:S59,1)+LARGE(S50:S59,2)+LARGE(S50:S59,3)+LARGE(S50:S59,4)+LARGE(S50:S59,5)+LARGE(S50:S59,6)","v":68.45}]
[null,null,null,3,6.9,"",6.9,2,8.1999999999999993,2,10.199999999999999,2,9.15,2,11.15,2,8.9,2,10.9,4.55,{"$f":"IF(OR(T55<7,NOT(ISNUMBER(#REF!))),\"\",IF(#REF!=0,\"\",CHOOSE(#REF!,1,2,3,4,5)))","v":""},4.55,8.15,{"$f":"IF(OR(W55<7,NOT(ISNUMBER(#REF!))),\"\",IF(#REF!=0,\"\",CHOOSE(#REF!,1,2,3,4,5)))","v":""},8.15,"Arçons ",{"$f":"LARGE(V50:V59,1)+LARGE(V50:V59,2)+LARGE(V50:V59,3)+LARGE(V50:V59,4)+LARGE(V50:V59,5)+LARGE(V50:V59,6)","v":32.849999999999994}]
[null,null,null,4,8.6999999999999993,4,12.7,3,9.0500000000000007,3,12.05,3,9.0500000000000007,3,12.05,4,8.4499999999999993,4,12.45,6.3,{"$f":"IF(OR(T56<7,NOT(ISNUMBER(#REF!))),\"\",IF(#REF!=0,\"\",CHOOSE(#REF!,1,2,3,4,5)))","v":""},6.3,6,{"$f":"IF(OR(W56<7,NOT(ISNUMBER(#REF!))),\"\",IF(#REF!=0,\"\",CHOOSE(#REF!,1,2,3,4,5)))","v":""},6,"Anneaux",{"$f":"LARGE(Y50:Y59,1)+LARGE(Y50:Y59,2)+LARGE(Y50:Y59,3)+LARGE(Y50:Y59,4)+LARGE(Y50:Y59,5)+LARGE(Y50:Y59,6)","v":44.9}]
[null,null,null,3,7.85,3,10.85,3,8.6999999999999993,3,11.7,2,9.1999999999999993,2,11.2,2,8.75,2,10.75,2.6,{"$f":"IF(OR(T57<7,NOT(ISNUMBER(#REF!))),\"\",IF(#REF!=0,\"\",CHOOSE(#REF!,1,2,3,4,5)))","v":""},2.6,4.9000000000000004,{"$f":"IF(OR(W57<7,NOT(ISNUMBER(#REF!))),\"\",IF(#REF!=0,\"\",CHOOSE(#REF!,1,2,3,4,5)))","v":""},4.9000000000000004]
[null,null,null,1,8.1999999999999993,1,9.1999999999999993,2,7.7,2,9.6999999999999993,2,9.4,2,11.4,2,8.8000000000000007,2,10.8,4.3499999999999996,{"$f":"IF(OR(T58<7,NOT(ISNUMBER(#REF!))),\"\",IF(#REF!=0,\"\",CHOOSE(#REF!,1,2,3,4,5)))","v":""},4.3499999999999996,null,{"$f":"IF(OR(W58<7,NOT(ISNUMBER(#REF!))),\"\",IF(#REF!=0,\"\",CHOOSE(#REF!,1,2,3,4,5)))","v":""},0]
[null,null,null,null,null,{"$f":"IF(OR(E59<7,NOT(ISNUMBER(D59))),\"\",IF(D59=0,\"\",CHOOSE(D59,1,2,3,4,5)))","v":""}]
[null,null,"Total",null,null,null,{"$f":"SUM(G50:G59)","v":86.05},null,null,null,{"$f":"SUM(K50:K59)","v":98.5},null,null,null,{"$f":"SUM(O50:O59)","v":102.55000000000001},null,null,null,{"$f":"SUM(S50:S59)","v":99.75},null,null,{"$f":"SUM(V50:V59)","v":41.75},null,null,{"$f":"SUM(Y50:Y59)","v":55.699999999999996},"Total Gal ",{"$f":"SUM(AA50:AA59)","v":351.04999999999995}]
[]
[]
[5]
[]
[null,"Nom ","Prénom","Degré ","Note ",null,"Sol ","Degré ","Note ",null,"Saut ","Degré ","Note ",null,"BP ","Degré ","Note ",null,"BF","Note ",null,"Arçons","Note ",null,"AN ","Total; des 6 Meilleurs notes "]
[null,null,null,null,null,{"$f":"IF(OR(E66<7,NOT(ISNUMBER(D66))),\"\",IF(D66=0,\"\",CHOOSE(D66,1,2,3,4,5)))","v":""},{"$f":"SUM(E66:F66)","v":0},null,null,{"$f":"IF(OR(I66<7,NOT(ISNUMBER(H66))),\"\",IF(H66=0,\"\",CHOOSE(H66,1,2,3,4,5)))","v":""},{"$f":"SUM(I66:J66)","v":0},null,null,{"$f":"IF(OR(M66<7,NOT(ISNUMBER(L66))),\"\",IF(L66=0,\"\",CHOOSE(L66,1,2,3,4,5)))","v":""},{"$f":"SUM(M66:N66)","v":0},null,null,{"$f":"IF(OR(Q66<7,NOT(ISNUMBER(P66))),\"\",IF(P66=0,\"\",CHOOSE(P66,1,2,3,4,5)))","v":""},{"$f":"SUM(Q66:R66)","v":0},null,{"$f":"IF(OR(T66<7,NOT(ISNUMBER(#REF!))),\"\",IF(#REF!=0,\"\",CHOOSE(#REF!,1,2,3,4,5)))","v":""},{"$f":"SUM(T66:U66)","v":0},null,{"$f":"IF(OR(W66<7,NOT(ISNUMBER(#REF!))),\"\",IF(#REF!=0,\"\",CHOOSE(#REF!,1,2,3,4,5)))","v":""},{"$f":"SUM(W66:X66)","v":0}]
[null,null,null,null,null,{"$f":"IF(OR(E67<7,NOT(ISNUMBER(D67))),\"\",IF(D67=0,\"\",CHOOSE(D67,1,2,3,4,5)))","v":""},{"$f":"SUM(E67:F67)","v":0},null,null,{"$f":"IF(OR(I67<7,NOT(ISNUMBER(H67))),\"\",IF(H67=0,\"\",CHOOSE(H67,1,2,3,4,5)))","v":""},{"$f":"SUM(I67:J67)","v":0},null,null,{"$f":"IF(OR(M67<7,NOT(ISNUMBER(L67))),\"\",IF(L67=0,\"\",CHOOSE(L67,1,2,3,4,5)))","v":""},{"$f":"SUM(M67:N67)","v":0},null,null,{"$f":"IF(OR(Q67<7,NOT(ISNUMBER(P67))),\"\",IF(P67=0,\"\",CHOOSE(P67,1,2,3,4,5)))","v":""},{"$f":"SUM(Q67:R67)","v":0},null,{"$f":"IF(OR(T67<7,NOT(ISNUMBER(#REF!))),\"\",IF(#REF!=0,\"\",CHOOSE(#REF!,1,2,3,4,5)))","v":""},{"$f":"SUM(T67:U67)","v":0},null,{"$f":"IF(OR(W67<7,NOT(ISNUMBER(#REF!))),\"\",IF(#REF!=0,\"\",CHOOSE(#REF!,1,2,3,4,5)))","v":""},{"$f":"SUM(W67:X67)","v":0},"Sol",{"$f":"LARGE(G66:G75,1)+LARGE(G66:G75,2)+LARGE(G66:G75,3)+LARGE(G66:G75,4)+LARGE(G66:G75,5)+LARGE(G66:G75,6)","v":0}]
[null,null,null,null,null,{"$f":"IF(OR(E68<7,NOT(ISNUMBER(D68))),\"\",IF(D68=0,\"\",CHOOSE(D68,1,2,3,4,5)))","v":""},{"$f":"SUM(E68:F68)","v":0},null,null,{"$f":"IF(OR(I68<7,NOT(ISNUMBER(H68))),\"\",IF(H68=0,\"\",CHOOSE(H68,1,2,3,4,5)))","v":""},{"$f":"SUM(I68:J68)","v":0},null,null,{"$f":"IF(OR(M68<7,NOT(ISNUMBER(L68))),\"\",IF(L68=0,\"\",CHOOSE(L68,1,2,3,4,5)))","v":""},{"$f":"SUM(M68:N68)","v":0},null,null,{"$f":"IF(OR(Q68<7,NOT(ISNUMBER(P68))),\"\",IF(P68=0,\"\",CHOOSE(P68,1,2,3,4,5)))","v":""},{"$f":"SUM(Q68:R68)","v":0},null,{"$f":"IF(OR(T68<7,NOT(ISNUMBER(#REF!))),\"\",IF(#REF!=0,\"\",CHOOSE(#REF!,1,2,3,4,5)))","v":""},{"$f":"SUM(T68:U68)","v":0},null,{"$f":"IF(OR(W68<7,NOT(ISNUMBER(#REF!))),\"\",IF(#REF!=0,\"\",CHOOSE(#REF!,1,2,3,4,5)))","v":""},{"$f":"SUM(W68:X68)","v":0},"Saut ",{"$f":"LARGE(K66:K75,1)+LARGE(K66:K75,2)+LARGE(K66:K75,3)+LARGE(K66:K75,4)+LARGE(K66:K75,5)+LARGE(K66:K75,6)","v":0}]
[null,null,null,null,null,"",0,null,null,"",0,null,null,"",0,null,null,"",0,null,{"$f":"IF(OR(T69<7,NOT(ISNUMBER(#REF!))),\"\",IF(#REF!=0,\"\",CHOOSE(#REF!,1,2,3,4,5)))","v":""},0,null,{"$f":"IF(OR(W69<7,NOT(ISNUMBER(#REF!))),\"\",IF(#REF!=0,\"\",CHOOSE(#REF!,1,2,3,4,5)))","v":""},0,"BP ",{"$f":"LARGE(O66:O75,1)+LARGE(O66:O75,2)+LARGE(O66:O75,3)+LARGE(O66:O75,4)+LARGE(O66:O75,5)+LARGE(O66:O75,6)","v":0}]
[null,null,null,null,null,"",0,null,null,"",0,null,null,"",0,null,null,"",0,null,{"$f":"IF(OR(T70<7,NOT(ISNUMBER(#REF!))),\"\",IF(#REF!=0,\"\",CHOOSE(#REF!,1,2,3,4,5)))","v":""},0,null,{"$f":"IF(OR(W70<7,NOT(ISNUMBER(#REF!))),\"\",IF(#REF!=0,\"\",CHOOSE(#REF!,1,2,3,4,5)))","v":""},0,"BF",{"$f":"LARGE(S66:S75,1)+LARGE(S66:S75,2)+LARGE(S66:S75,3)+LARGE(S66:S75,4)+LARGE(S66:S75,5)+LARGE(S66:S75,6)","v":0}]
[null,null,null,null,null,"",0,null,null,"",0,null,null,"",0,null,null,"",0,null,{"$f":"IF(OR(T71<7,NOT(ISNUMBER(#REF!))),\"\",IF(#REF!=0,\"\",CHOOSE(#REF!,1,2,3,4,5)))","v":""},0,null,{"$f":"IF(OR(W71<7,NOT(ISNUMBER(#REF!))),\"\",IF(#REF!=0,\"\",CHOOSE(#REF!,1,2,3,4,5)))","v":""},0,"Arçons ",{"$f":"LARGE(V66:V75,1)+LARGE(V66:V75,2)+LARGE(V66:V75,3)+LARGE(V66:V75,4)+LARGE(V66:V75,5)+LARGE(V66:V75,6)","v":0}]
[null,null,null,null,null,"",0,null,null,"",0,null,null,"",0,null,null,"",0,null,{"$f":"IF(OR(T72<7,NOT(ISNUMBER(#REF!))),\"\",IF(#REF!=0,\"\",CHOOSE(#REF!,1,2,3,4,5)))","v":""},0,null,{"$f":"IF(OR(W72<7,NOT(ISNUMBER(#REF!))),\"\",IF(#REF!=0,\"\",CHOOSE(#REF!,1,2,3,4,5)))","v":""},0,"Anneaux",{"$f":"LARGE(Y66:Y75,1)+LARGE(Y66:Y75,2)+LARGE(Y66:Y75,3)+LARGE(Y66:Y75,4)+LARGE(Y66:Y75,5)+LARGE(Y66:Y75,6)","v":0}]
[null,null,null,null,null,"",0,null,null,"",0,null,null,"",0,null,null,"",0,null,null,0,null,{"$f":"IF(OR(W73<7,NOT(ISNUMBER(#REF!))),\"\",IF(#REF!=0,\"\",CHOOSE(#REF!,1,2,3,4,5)))","v":""},0]
[null,null,null,null,null,"",0,null,null,null,0,null,null,"",0,null,null,"",0,null,null,0,null,null,0]
[null,null,null,null,null,""]
[null,null,"Total",null,null,null,{"$f":"SUM(G66:G75)","v":0},null,null,null,{"$f":"SUM(K66:K75)","v":0},null,null,null,{"$f":"SUM(O66:O75)","v":0},null,null,null,{"$f":"SUM(S66:S75)","v":0},null,null,{"$f":"SUM(V66:V75)","v":0},null,null,{"$f":"SUM(Y66:Y75)","v":0},"Total Gal ",{"$f":"SUM(AA66:AA75)","v":0}]
[]
[6]
[]
[null,"Nom ","Prénom","Degré ","Note ",null,"Sol ","Degré ","Note ",null,"Saut ","Degré ","Note ",null,"BP ","Degré ","Note ",null,"BF","Note ",null,"Arçons","Note ",null,"AN ","Total; des 6 Meilleurs notes "]
[null,null,null,null,null,{"$f":"IF(OR(E81<7,NOT(ISNUMBER(D81))),\"\",IF(D81=0,\"\",CHOOSE(D81,1,2,3,4,5)))","v":""},{"$f":"SUM(E81:F81)","v":0},null,null,{"$f":"IF(OR(I81<7,NOT(ISNUMBER(H81))),\"\",IF(H81=0,\"\",CHOOSE(H81,1,2,3,4,5)))","v":""},{"$f":"SUM(I81:J81)","v":0},null,null,{"$f":"IF(OR(M81<7,NOT(ISNUMBER(L81))),\"\",IF(L81=0,\"\",CHOOSE(L81,1,2,3,4,5)))","v":""},{"$f":"SUM(M81:N81)","v":0},null,null,{"$f":"IF(OR(Q81<7,NOT(ISNUMBER(P81))),\"\",IF(P81=0,\"\",CHOOSE(P81,1,2,3,4,5)))","v":""},{"$f":"SUM(Q81:R81)","v":0},null,null,{"$f":"SUM(T81:U81)","v":0},null,{"$f":"IF(OR(W81<7,NOT(ISNUMBER(#REF!))),\"\",IF(#REF!=0,\"\",CHOOSE(#REF!,1,2,3,4,5)))","v":""},{"$f":"SUM(W81:X81)","v":0}]
[null,null,null,null,null,{"$f":"IF(OR(E82<7,NOT(ISNUMBER(D82))),\"\",IF(D82=0,\"\",CHOOSE(D82,1,2,3,4,5)))","v":""},{"$f":"SUM(E82:F82)","v":0},null,null,{"$f":"IF(OR(I82<7,NOT(ISNUMBER(H82))),\"\",IF(H82=0,\"\",CHOOSE(H82,1,2,3,4,5)))","v":""},{"$f":"SUM(I82:J82)","v":0},null,null,{"$f":"IF(OR(M82<7,NOT(ISNUMBER(L82))),\"\",IF(L82=0,\"\",CHOOSE(L82,1,2,3,4,5)))","v":""},{"$f":"SUM(M82:N82)","v":0},null,null,{"$f":"IF(OR(Q82<7,NOT(ISNUMBER(P82))),\"\",IF(P82=0,\"\",CHOOSE(P82,1,2,3,4,5)))","v":""},{"$f":"SUM(Q82:R82)","v":0},null,null,{"$f":"SUM(T82:U82)","v":0},null,{"$f":"IF(OR(W82<7,NOT(ISNUMBER(#REF!))),\"\",IF(#REF!=0,\"\",CHOOSE(#REF!,1,2,3,4,5)))","v":""},{"$f":"SUM(W82:X82)","v":0},"Sol",{"$f":"LARGE(G81:G90,1)+LARGE(G81:G90,2)+LARGE(G81:G90,3)+LARGE(G81:G90,4)+LARGE(G81:G90,5)+LARGE(G81:G90,6)","v":0}]
[null,null,null,null,null,{"$f":"IF(OR(E83<7,NOT(ISNUMBER(D83))),\"\",IF(D83=0,\"\",CHOOSE(D83,1,2,3,4,5)))","v":""},{"$f":"SUM(E83:F83)","v":0},null,null,{"$f":"IF(OR(I83<7,NOT(ISNUMBER(H83))),\"\",IF(H83=0,\"\",CHOOSE(H83,1,2,3,4,5)))","v":""},{"$f":"SUM(I83:J83)","v":0},null,null,{"$f":"IF(OR(M83<7,NOT(ISNUMBER(L83))),\"\",IF(L83=0,\"\",CHOOSE(L83,1,2,3,4,5)))","v":""},{"$f":"SUM(M83:N83)","v":0},null,null,"",0,null,null,0,null,{"$f":"IF(OR(W83<7,NOT(ISNUMBER(#REF!))),\"\",IF(#REF!=0,\"\",CHOOSE(#REF!,1,2,3,4,5)))","v":""},0,"Saut ",{"$f":"LARGE(K81:K90,1)+LARGE(K81:K90,2)+LARGE(K81:K90,3)+LARGE(K81:K90,4)+LARGE(K81:K90,5)+LARGE(K81:K90,6)","v":0}]
[null,null,null,null,null,"",0,null,null,"",0,null,null,"",0,null,null,{"$f":"IF(OR(Q84<7,NOT(ISNUMBER(P84))),\"\",IF(P84=0,\"\",CHOOSE(P84,1,2,3,4,5)))","v":""},{"$f":"SUM(Q84:R84)","v":0},null,null,{"$f":"SUM(T84:U84)","v":0},null,{"$f":"IF(OR(W84<7,NOT(ISNUMBER(#REF!))),\"\",IF(#REF!=0,\"\",CHOOSE(#REF!,1,2,3,4,5)))","v":""},{"$f":"SUM(W84:X84)","v":0},"BP ",{"$f":"LARGE(O81:O90,1)+LARGE(O81:O90,2)+LARGE(O81:O90,3)+LARGE(O81:O90,4)+LARGE(O81:O90,5)+LARGE(O81:O90,6)","v":0}]
[null,null,null,null,null,"",0,null,null,"",0,null,null,"",0,null,null,"",0,null,null,0,null,{"$f":"IF(OR(W85<7,NOT(ISNUMBER(#REF!))),\"\",IF(#REF!=0,\"\",CHOOSE(#REF!,1,2,3,4,5)))","v":""},0,"BF",{"$f":"LARGE(S81:S90,1)+LARGE(S81:S90,2)+LARGE(S81:S90,3)+LARGE(S81:S90,4)+LARGE(S81:S90,5)+LARGE(S81:S90,6)","v":0}]
[null,null,null,null,null,"",0,null,null,"",0,null,null,"",0,null,null,"",0,null,null,0,null,{"$f":"IF(OR(W86<7,NOT(ISNUMBER(#REF!))),\"\",IF(#REF!=0,\"\",CHOOSE(#REF!,1,2,3,4,5)))","v":""},0,"Arçons ",{"$f":"LARGE(V81:V90,1)+LARGE(V81:V90,2)+LARGE(V81:V90,3)+LARGE(V81:V90,4)+LARGE(V81:V90,5)+LARGE(V81:V90,6)","v":0}]
[null,null,null,null,null,"",0,null,null,"",0,null,null,"",0,null,null,"",0,null,null,0,null,{"$f":"IF(OR(W87<7,NOT(ISNUMBER(#REF!))),\"\",IF(#REF!=0,\"\",CHOOSE(#REF!,1,2,3,4,5)))","v":""},0,"Anneaux",{"$f":"LARGE(Y81:Y90,1)+LARGE(Y81:Y90,2)+LARGE(Y81:Y90,3)+LARGE(Y81:Y90,4)+LARGE(Y81:Y90,5)+LARGE(Y81:Y90,6)","v":0}]
[null,null,null,null,null,"",0,null,null,"",0,null,null,"",0,null,null,"",0,null,null,0,null,{"$f":"IF(OR(W88<7,NOT(ISNUMBER(#REF!))),\"\",IF(#REF!=0,\"\",CHOOSE(#REF!,1,2,3,4,5)))","v":""},0]
[null,null,null,null,null,"",0,null,null,"",0,null,null,"",0,null,null,"",0,null,null,0,null,{"$f":"IF(OR(W89<7,NOT(ISNUMBER(#REF!))),\"\",IF(#REF!=0,\"\",CHOOSE(#REF!,1,2,3,4,5)))","v":""},0]
[null,null,null,null,null,""]
[null,null,"Total",null,null,null,{"$f":"SUM(G81:G90)","v":0},null,null,null,{"$f":"SUM(K81:K90)","v":0},null,null,null,{"$f":"SUM(O81:O90)","v":0},null,null,null,{"$f":"SUM(S81:S90)","v":0},null,null,{"$f":"SUM(V81:V90)","v":0},null,null,{"$f":"SUM(Y81:Y90)","v":0},"Total Gal ",{"$f":"SUM(AA81:AA90)","v":0}]
[]
[]
[]
[]
[]
[]
[]
[7]
[]
[null,"Nom ","Prénom","Degré ","Note ",null,"Sol ","Degré ","Note ",null,"Saut ","Degré ","Note ",null,"BP ","Degré ","Note ",null,"BF","Note ",null,"Arçons","Note ",null,"AN ","Total; des 6 Meilleurs notes "]
[null,null,null,null,null,{"$f":"IF(OR(E102<7,NOT(ISNUMBER(D102))),\"\",IF(D102=0,\"\",CHOOSE(D102,1,2,3,4,5)))","v":""},{"$f":"SUM(E102:F102)","v":0},null,null,{"$f":"IF(OR(I102<7,NOT(ISNUMBER(H102))),\"\",IF(H102=0,\"\",CHOOSE(H102,1,2,3,4,5)))","v":""},{"$f":"SUM(I102:J102)","v":0},null,null,{"$f":"IF(OR(M102<7,NOT(ISNUMBER(L102))),\"\",IF(L102=0,\"\",CHOOSE(L102,1,2,3,4,5)))","v":""},{"$f":"SUM(M102:N102)","v":0},null,null,{"$f":"IF(OR(Q102<7,NOT(ISNUMBER(P102))),\"\",IF(P102=0,\"\",CHOOSE(P102,1,2,3,4,5)))","v":""},{"$f":"SUM(Q102:R102)","v":0},null,{"$f":"IF(OR(T102<7,NOT(ISNUMBER(#REF!))),\"\",IF(#REF!=0,\"\",CHOOSE(#REF!,1,2,3,4,5)))","v":""},{"$f":"SUM(T102:U102)","v":0},null,{"$f":"IF(OR(W102<7,NOT(ISNUMBER(#REF!))),\"\",IF(#REF!=0,\"\",CHOOSE(#REF!,1,2,3,4,5)))","v":""},{"$f":"SUM(W102:X102)","v":0}]
[null,null,null,null,null,{"$f":"IF(OR(E103<7,NOT(ISNUMBER(D103))),\"\",IF(D103=0,\"\",CHOOSE(D103,1,2,3,4,5)))","v":""},0,null,null,{"$f":"IF(OR(I103<7,NOT(ISNUMBER(H103))),\"\",IF(H103=0,\"\",CHOOSE(H103,1,2,3,4,5)))","v":""},{"$f":"SUM(I103:J103)","v":0},null,null,{"$f":"IF(OR(M103<7,NOT(ISNUMBER(L103))),\"\",IF(L103=0,\"\",CHOOSE(L103,1,2,3,4,5)))","v":""},{"$f":"SUM(M103:N103)","v":0},null,null,{"$f":"IF(OR(Q103<7,NOT(ISNUMBER(P103))),\"\",IF(P103=0,\"\",CHOOSE(P103,1,2,3,4,5)))","v":""},{"$f":"SUM(Q103:R103)","v":0},null,{"$f":"IF(OR(T103<7,NOT(ISNUMBER(#REF!))),\"\",IF(#REF!=0,\"\",CHOOSE(#REF!,1,2,3,4,5)))","v":""},{"$f":"SUM(T103:U103)","v":0},null,{"$f":"IF(OR(W103<7,NOT(ISNUMBER(#REF!))),\"\",IF(#REF!=0,\"\",CHOOSE(#REF!,1,2,3,4,5)))","v":""},{"$f":"SUM(W103:X103)","v":0},"Sol",{"$f":"LARGE(G102:G111,1)+LARGE(G102:G111,2)+LARGE(G102:G111,3)+LARGE(G102:G111,4)+LARGE(G102:G111,5)+LARGE(G102:G111,6)","v":0}]
[null,null,null,null,null,{"$f":"IF(OR(E104<7,NOT(ISNUMBER(D104))),\"\",IF(D104=0,\"\",CHOOSE(D104,1,2,3,4,5)))","v":""},{"$f":"SUM(E104:F104)","v":0},null,null,{"$f":"IF(OR(I104<7,NOT(ISNUMBER(H104))),\"\",IF(H104=0,\"\",CHOOSE(H104,1,2,3,4,5)))","v":""},{"$f":"SUM(I104:J104)","v":0},null,null,{"$f":"IF(OR(M104<7,NOT(ISNUMBER(L104))),\"\",IF(L104=0,\"\",CHOOSE(L104,1,2,3,4,5)))","v":""},{"$f":"SUM(M104:N104)","v":0},null,null,{"$f":"IF(OR(Q104<7,NOT(ISNUMBER(P104))),\"\",IF(P104=0,\"\",CHOOSE(P104,1,2,3,4,5)))","v":""},{"$f":"SUM(Q104:R104)","v":0},null,{"$f":"IF(OR(T104<7,NOT(ISNUMBER(#REF!))),\"\",IF(#REF!=0,\"\",CHOOSE(#REF!,1,2,3,4,5)))","v":""},0,null,{"$f":"IF(OR(W104<7,NOT(ISNUMBER(#REF!))),\"\",IF(#REF!=0,\"\",CHOOSE(#REF!,1,2,3,4,5)))","v":""},0,"Saut ",{"$f":"LARGE(K102:K111,1)+LARGE(K102:K111,2)+LARGE(K102:K111,3)+LARGE(K102:K111,4)+LARGE(K102:K111,5)+LARGE(K102:K111,6)","v":0}]
[null,null,null,null,null,"",0,null,null,"",0,null,null,"",0,null,null,"",0,null,{"$f":"IF(OR(T105<7,NOT(ISNUMBER(#REF!))),\"\",IF(#REF!=0,\"\",CHOOSE(#REF!,1,2,3,4,5)))","v":""},{"$f":"SUM(T105:U105)","v":0},null,{"$f":"IF(OR(W105<7,NOT(ISNUMBER(#REF!))),\"\",IF(#REF!=0,\"\",CHOOSE(#REF!,1,2,3,4,5)))","v":""},{"$f":"SUM(W105:X105)","v":0},"BP ",{"$f":"LARGE(O102:O111,1)+LARGE(O102:O111,2)+LARGE(O102:O111,3)+LARGE(O102:O111,4)+LARGE(O102:O111,5)+LARGE(O102:O111,6)","v":0}]
[null,null,null,null,null,"",0,null,null,"",0,null,null,"",0,null,null,"",0,null,{"$f":"IF(OR(T106<7,NOT(ISNUMBER(#REF!))),\"\",IF(#REF!=0,\"\",CHOOSE(#REF!,1,2,3,4,5)))","v":""},0,null,{"$f":"IF(OR(W106<7,NOT(ISNUMBER(#REF!))),\"\",IF(#REF!=0,\"\",CHOOSE(#REF!,1,2,3,4,5)))","v":""},0,"BF",{"$f":"LARGE(S102:S111,1)+LARGE(S102:S111,2)+LARGE(S102:S111,3)+LARGE(S102:S111,4)+LARGE(S102:S111,5)+LARGE(S102:S111,6)","v":0}]
[null,null,null,null,null,"",0,null,null,"",0,null,null,"",0,null,null,"",0,null,{"$f":"IF(OR(T107<7,NOT(ISNUMBER(#REF!))),\"\",IF(#REF!=0,\"\",CHOOSE(#REF!,1,2,3,4,5)))","v":""},0,null,{"$f":"IF(OR(W107<7,NOT(ISNUMBER(#REF!))),\"\",IF(#REF!=0,\"\",CHOOSE(#REF!,1,2,3,4,5)))","v":""},0,"Arçons ",{"$f":"LARGE(V102:V111,1)+LARGE(V102:V111,2)+LARGE(V102:V111,3)+LARGE(V102:V111,4)+LARGE(V102:V111,5)+LARGE(V102:V111,6)","v":0}]
[null,null,null,null,null,"",0,null,null,"",0,null,null,"",0,null,null,"",0,null,{"$f":"IF(OR(T108<7,NOT(ISNUMBER(#REF!))),\"\",IF(#REF!=0,\"\",CHOOSE(#REF!,1,2,3,4,5)))","v":""},0,null,{"$f":"IF(OR(W108<7,NOT(ISNUMBER(#REF!))),\"\",IF(#REF!=0,\"\",CHOOSE(#REF!,1,2,3,4,5)))","v":""},0,"Anneaux",{"$f":"LARGE(Y102:Y111,1)+LARGE(Y102:Y111,2)+LARGE(Y102:Y111,3)+LARGE(Y102:Y111,4)+LARGE(Y102:Y111,5)+LARGE(Y102:Y111,6)","v":0}]
[null,null,null,null,null,"",0,null,null,"",0,null,null,"",0,null,null,"",0,null,{"$f":"IF(OR(T109<7,NOT(ISNUMBER(#REF!))),\"\",IF(#REF!=0,\"\",CHOOSE(#REF!,1,2,3,4,5)))","v":""},0,null,{"$f":"IF(OR(W109<7,NOT(ISNUMBER(#REF!))),\"\",IF(#REF!=0,\"\",CHOOSE(#REF!,1,2,3,4,5)))","v":""},0]
[null,null,null,null,null,"",0,null,null,"",0,null,null,"",0,null,null,"",0,null,{"$f":"IF(OR(T110<7,NOT(ISNUMBER(#REF!))),\"\",IF(#REF!=0,\"\",CHOOSE(#REF!,1,2,3,4,5)))","v":""},0,null,{"$f":"IF(OR(W110<7,NOT(ISNUMBER(#REF!))),\"\",IF(#REF!=0,\"\",CHOOSE(#REF!,1,2,3,4,5)))","v":""},0]
[null,null,null,null,null,""]
[null,null,"Total",null,null,null,{"$f":"SUM(G102:G111)","v":0},null,null,null,{"$f":"SUM(K102:K111)","v":0},null,null,null,{"$f":"SUM(O102:O111)","v":0},null,null,null,{"$f":"SUM(S102:S111)","v":0},null,null,{"$f":"SUM(V102:V111)","v":0},null,null,{"$f":"SUM(Y102:Y111)","v":0},"Total Gal ",{"$f":"SUM(AA102:AA111)","v":0}]

{"sheet":"Poussins JP R3","index":2,"n_rows":159,"n_cols":27,"rows_kept":159,"cut":false,"hidden":false,"merged":[]}
[1,"L'USSA ","ST ANDRE "]
[]
[null,"Nom ","Prénom","Degré ","Note ",null,"Sol ","Degré ","Note ",null,"Saut ","Degré ","Note ",null,"BP ","Degré ","Note ",null,"BF","Note ",null,"Arçons","Note ",null,"AN ","Total; des 3 Meilleurs notes "]
[null,null,null,4,8.1,{"$f":"IF(OR(E4<7,NOT(ISNUMBER(D4))),\"\",IF(D4=0,\"\",CHOOSE(D4,1,2,3,4,5)))","v":4},{"$f":"SUM(E4:F4)","v":12.1},3,9,{"$f":"IF(OR(I4<7,NOT(ISNUMBER(H4))),\"\",IF(H4=0,\"\",CHOOSE(H4,1,2,3,4,5)))","v":3},{"$f":"SUM(I4:J4)","v":12},3,9.15,{"$f":"IF(OR(M4<7,NOT(ISNUMBER(L4))),\"\",IF(L4=0,\"\",CHOOSE(L4,1,2,3,4,5)))","v":3},{"$f":"SUM(M4:N4)","v":12.15},3,8.65,{"$f":"IF(OR(Q4<7,NOT(ISNUMBER(P4))),\"\",IF(P4=0,\"\",CHOOSE(P4,1,2,3,4,5)))","v":3},{"$f":"SUM(Q4:R4)","v":11.65},5.25,{"$f":"IF(OR(T4<7,NOT(ISNUMBER(#REF!))),\"\",IF(#REF!=0,\"\",CHOOSE(#REF!,1,2,3,4,5)))","v":""},{"$f":"SUM(T4:U4)","v":5.25},8.4,{"$f":"IF(OR(W4<7,NOT(ISNUMBER(#REF!))),\"\",IF(#REF!=0,\"\",CHOOSE(#REF!,1,2,3,4,5)))","v":""},{"$f":"SUM(W4:X4)","v":8.4}]
[null,null,null,2,8.15,{"$f":"IF(OR(E5<7,NOT(ISNUMBER(D5))),\"\",IF(D5=0,\"\",CHOOSE(D5,1,2,3,4,5)))","v":2},{"$f":"SUM(E5:F5)","v":10.15},3,8.4499999999999993,3,11.45,3,8,{"$f":"IF(OR(M5<7,NOT(ISNUMBER(L5))),\"\",IF(L5=0,\"\",CHOOSE(L5,1,2,3,4,5)))","v":3},{"$f":"SUM(M5:N5)","v":11},2,8.8000000000000007,{"$f":"IF(OR(Q5<7,NOT(ISNUMBER(P5))),\"\",IF(P5=0,\"\",CHOOSE(P5,1,2,3,4,5)))","v":2},{"$f":"SUM(Q5:R5)","v":10.8},3,{"$f":"IF(OR(T5<7,NOT(ISNUMBER(#REF!))),\"\",IF(#REF!=0,\"\",CHOOSE(#REF!,1,2,3,4,5)))","v":""},{"$f":"SUM(T5:U5)","v":3},7.7,{"$f":"IF(OR(W5<7,NOT(ISNUMBER(#REF!))),\"\",IF(#REF!=0,\"\",CHOOSE(#REF!,1,2,3,4,5)))","v":""},{"$f":"SUM(W5:X5)","v":7.7},"Sol",{"$f":"LARGE(G4:G10,1)+LARGE(G4:G10,2)+LARGE(G4:G10,3)","v":32.449999999999996}]
[null,null,null,2,7.65,2,9.65,2,8.5,2,10.5,2,7.9,2,9.9,2,6.25,"",6.25,3.3,{"$f":"IF(OR(T6<7,NOT(ISNUMBER(#REF!))),\"\",IF(#REF!=0,\"\",CHOOSE(#REF!,1,2,3,4,5)))","v":""},3.3,1,{"$f":"IF(OR(W6<7,NOT(ISNUMBER(#REF!))),\"\",IF(#REF!=0,\"\",CHOOSE(#REF!,1,2,3,4,5)))","v":""},1,"Saut ",{"$f":"LARGE(K4:K10,1)+LARGE(K4:K10,2)+LARGE(K4:K10,3)","v":34.65}]
[null,null,null,2,7.8,2,9.8000000000000007,2,8.5500000000000007,2,10.55,2,8.85,2,10.85,2,7.55,2,9.5500000000000007,3.7,{"$f":"IF(OR(T7<7,NOT(ISNUMBER(#REF!))),\"\",IF(#REF!=0,\"\",CHOOSE(#REF!,1,2,3,4,5)))","v":""},3.7,7.5,{"$f":"IF(OR(W7<7,NOT(ISNUMBER(#REF!))),\"\",IF(#REF!=0,\"\",CHOOSE(#REF!,1,2,3,4,5)))","v":""},7.5,"BP ",{"$f":"LARGE(O4:O10,1)+LARGE(O4:O10,2)+LARGE(O4:O10,3)","v":34}]
[null,null,null,3,7.2,3,10.199999999999999,3,8.1999999999999993,3,11.2,3,6.55,"",6.55,2,8,2,10,3,{"$f":"IF(OR(T8<7,NOT(ISNUMBER(#REF!))),\"\",IF(#REF!=0,\"\",CHOOSE(#REF!,1,2,3,4,5)))","v":""},3,7.7,{"$f":"IF(OR(W8<7,NOT(ISNUMBER(#REF!))),\"\",IF(#REF!=0,\"\",CHOOSE(#REF!,1,2,3,4,5)))","v":""},7.7,"BF",{"$f":"LARGE(S4:S10,1)+LARGE(S4:S10,2)+LARGE(S4:S10,3)","v":32.450000000000003}]
[null,null,null,null,null,"",0,null,null,"",0,null,null,"",0,null,null,"",0,null,{"$f":"IF(OR(T9<7,NOT(ISNUMBER(#REF!))),\"\",IF(#REF!=0,\"\",CHOOSE(#REF!,1,2,3,4,5)))","v":""},0,null,{"$f":"IF(OR(W9<7,NOT(ISNUMBER(#REF!))),\"\",IF(#REF!=0,\"\",CHOOSE(#REF!,1,2,3,4,5)))","v":""},0,"Arçons ",{"$f":"LARGE(V4:V10,1)+LARGE(V4:V10,2)+LARGE(V4:V10,3)","v":12.25}]
[null,null,null,null,null,"",null,null,null,"",null,null,null,"",null,null,null,"",null,null,{"$f":"IF(OR(T10<7,NOT(ISNUMBER(#REF!))),\"\",IF(#REF!=0,\"\",CHOOSE(#REF!,1,2,3,4,5)))","v":""},null,null,{"$f":"IF(OR(W10<7,NOT(ISNUMBER(#REF!))),\"\",IF(#REF!=0,\"\",CHOOSE(#REF!,1,2,3,4,5)))","v":""},null,"Anneaux",{"$f":"LARGE(Y4:Y10,1)+LARGE(Y4:Y10,2)+LARGE(Y4:Y10,3)","v":23.8}]
[null,null,"Total",null,null,null,{"$f":"SUM(G4:G10)","v":51.900000000000006},null,null,null,{"$f":"SUM(K4:K10)","v":55.7},null,null,null,{"$f":"SUM(O4:O10)","v":50.449999999999996},null,null,null,{"$f":"SUM(S4:S10)","v":48.25},null,null,{"$f":"SUM(V4:V10)","v":18.25},null,null,{"$f":"SUM(Y4:Y10)","v":32.300000000000004},"Total Gal ",{"$f":"SUM(AA4:AA10)","v":169.60000000000002}]
[]
[2,"LA JEANNE ARC ","ESTAIRES "]
[]
[null,"Nom ","Prénom","Degré ","Note ",null,"Sol ","Degré ","Note ",null,"Saut ","Degré ","Note ",null,"BP ","Degré ","Note ",null,"BF","Note ",null,"Arçons","Note ",null,"AN ","Total; des 3 Meilleurs notes "]
[null,null,null,2,7.6,{"$f":"IF(OR(E16<7,NOT(ISNUMBER(D16))),\"\",IF(D16=0,\"\",CHOOSE(D16,1,2,3,4,5)))","v":2},{"$f":"SUM(E16:F16)","v":9.6},2,8.5,{"$f":"IF(OR(I16<7,NOT(ISNUMBER(H16))),\"\",IF(H16=0,\"\",CHOOSE(H16,1,2,3,4,5)))","v":2},{"$f":"SUM(I16:J16)","v":10.5},2,6.55,{"$f":"IF(OR(M16<7,NOT(ISNUMBER(L16))),\"\",IF(L16=0,\"\",CHOOSE(L16,1,2,3,4,5)))","v":""},{"$f":"SUM(M16:N16)","v":6.55},2,8.15,{"$f":"IF(OR(Q16<7,NOT(ISNUMBER(P16))),\"\",IF(P16=0,\"\",CHOOSE(P16,1,2,3,4,5)))","v":2},{"$f":"SUM(Q16:R16)","v":10.15},3.25,{"$f":"IF(OR(T16<7,NOT(ISNUMBER(#REF!))),\"\",IF(#REF!=0,\"\",CHOOSE(#REF!,1,2,3,4,5)))","v":""},{"$f":"SUM(T16:U16)","v":3.25},8.1999999999999993,{"$f":"IF(OR(W16<7,NOT(ISNUMBER(#REF!))),\"\",IF(#REF!=0,\"\",CHOOSE(#REF!,1,2,3,4,5)))","v":""},{"$f":"SUM(W16:X16)","v":8.1999999999999993}]
[null,null,null,4,8.15,{"$f":"IF(OR(E17<7,NOT(ISNUMBER(D17))),\"\",IF(D17=0,\"\",CHOOSE(D17,1,2,3,4,5)))","v":4},{"$f":"SUM(E17:F17)","v":12.15},3,8.9,{"$f":"IF(OR(I17<7,NOT(ISNUMBER(H17))),\"\",IF(H17=0,\"\",CHOOSE(H17,1,2,3,4,5)))","v":3},{"$f":"SUM(I17:J17)","v":11.9},3,9,{"$f":"IF(OR(M17<7,NOT(ISNUMBER(L17))),\"\",IF(L17=0,\"\",CHOOSE(L17,1,2,3,4,5)))","v":3},{"$f":"SUM(M17:N17)","v":12},2,8.9,{"$f":"IF(OR(Q17<7,NOT(ISNUMBER(P17))),\"\",IF(P17=0,\"\",CHOOSE(P17,1,2,3,4,5)))","v":2},{"$f":"SUM(Q17:R17)","v":10.9},6.35,{"$f":"IF(OR(T17<7,NOT(ISNUMBER(#REF!))),\"\",IF(#REF!=0,\"\",CHOOSE(#REF!,1,2,3,4,5)))","v":""},{"$f":"SUM(T17:U17)","v":6.35},5.8,{"$f":"IF(OR(W17<7,NOT(ISNUMBER(#REF!))),\"\",IF(#REF!=0,\"\",CHOOSE(#REF!,1,2,3,4,5)))","v":""},{"$f":"SUM(W17:X17)","v":5.8},"Sol",{"$f":"LARGE(G16:G22,1)+LARGE(G16:G22,2)+LARGE(G16:G22,3)","v":35.799999999999997}]
[null,null,null,2,8.65,2,10.65,3,9.1999999999999993,3,12.2,3,8.5500000000000007,3,11.55,2,8.9,2,10.9,2.95,{"$f":"IF(OR(T18<7,NOT(ISNUMBER(#REF!))),\"\",IF(#REF!=0,\"\",CHOOSE(#REF!,1,2,3,4,5)))","v":""},2.95,8,{"$f":"IF(OR(W18<7,NOT(ISNUMBER(#REF!))),\"\",IF(#REF!=0,\"\",CHOOSE(#REF!,1,2,3,4,5)))","v":""},8,"Saut ",{"$f":"LARGE(K16:K22,1)+LARGE(K16:K22,2)+LARGE(K16:K22,3)","v":36.25}]
[null,null,null,4,7.55,4,11.55,3,9,3,12,3,9.0500000000000007,3,12.05,3,9.1,3,12.1,5.9,{"$f":"IF(OR(T19<7,NOT(ISNUMBER(#REF!))),\"\",IF(#REF!=0,\"\",CHOOSE(#REF!,1,2,3,4,5)))","v":""},5.9,8.3000000000000007,{"$f":"IF(OR(W19<7,NOT(ISNUMBER(#REF!))),\"\",IF(#REF!=0,\"\",CHOOSE(#REF!,1,2,3,4,5)))","v":""},8.3000000000000007,"BP ",{"$f":"LARGE(O16:O22,1)+LARGE(O16:O22,2)+LARGE(O16:O22,3)","v":36.549999999999997}]
[null,null,null,4,8.1,4,12.1,3,9.0500000000000007,3,12.05,3,9.5,3,12.5,2,9.15,2,11.15,4.8499999999999996,null,4.8499999999999996,8.6,null,8.6,"BF",{"$f":"LARGE(S16:S22,1)+LARGE(S16:S22,2)+LARGE(S16:S22,3)","v":34.15}]
[null,null,null,null,null,"",0,null,null,null,0,null,null,null,0,null,null,null,0,null,null,0,null,null,0,"Arçons ",{"$f":"LARGE(V16:V22,1)+LARGE(V16:V22,2)+LARGE(V16:V22,3)","v":17.100000000000001}]
[null,null,null,null,null,"",null,null,null,null,null,null,null,null,null,null,null,null,null,null,null,null,null,null,null,"Anneaux",{"$f":"LARGE(Y16:Y22,1)+LARGE(Y16:Y22,2)+LARGE(Y16:Y22,3)","v":25.099999999999998}]
[null,null,"Total",null,null,null,{"$f":"SUM(G16:G22)","v":56.050000000000004},null,null,null,{"$f":"SUM(K16:K22)","v":58.649999999999991},null,null,null,{"$f":"SUM(O16:O22)","v":54.650000000000006},null,null,null,{"$f":"SUM(S16:S22)","v":55.2},null,null,{"$f":"SUM(V16:V22)","v":23.300000000000004},null,null,{"$f":"SUM(Y16:Y22)","v":38.9},"Total Gal ",{"$f":"SUM(AA16:AA22)","v":184.95}]
[]
[3]
[]
[null,"Nom ","Prénom","Degré ","Note ",null,"Sol ","Degré ","Note ",null,"Saut ","Degré ","Note ",null,"BP ","Degré ","Note ",null,"BF","Note ",null,"Arçons","Note ",null,"AN ","Total; des 3 Meilleurs notes "]
[null,null,null,null,null,{"$f":"IF(OR(E28<7,NOT(ISNUMBER(D28))),\"\",IF(D28=0,\"\",CHOOSE(D28,1,2,3,4,5)))","v":""},{"$f":"SUM(E28:F28)","v":0},null,null,{"$f":"IF(OR(I28<7,NOT(ISNUMBER(H28))),\"\",IF(H28=0,\"\",CHOOSE(H28,1,2,3,4,5)))","v":""},{"$f":"SUM(I28:J28)","v":0},null,null,{"$f":"IF(OR(M28<7,NOT(ISNUMBER(L28))),\"\",IF(L28=0,\"\",CHOOSE(L28,1,2,3,4,5)))","v":""},{"$f":"SUM(M28:N28)","v":0},null,null,{"$f":"IF(OR(Q28<7,NOT(ISNUMBER(P28))),\"\",IF(P28=0,\"\",CHOOSE(P28,1,2,3,4,5)))","v":""},{"$f":"SUM(Q28:R28)","v":0},null,{"$f":"IF(OR(T28<7,NOT(ISNUMBER(#REF!))),\"\",IF(#REF!=0,\"\",CHOOSE(#REF!,1,2,3,4,5)))","v":""},{"$f":"SUM(T28:U28)","v":0},null,{"$f":"IF(OR(W28<7,NOT(ISNUMBER(#REF!))),\"\",IF(#REF!=0,\"\",CHOOSE(#REF!,1,2,3,4,5)))","v":""},{"$f":"SUM(W28:X28)","v":0}]
[null,null,null,null,null,{"$f":"IF(OR(E29<7,NOT(ISNUMBER(D29))),\"\",IF(D29=0,\"\",CHOOSE(D29,1,2,3,4,5)))","v":""},{"$f":"SUM(E29:F29)","v":0},null,null,{"$f":"IF(OR(I29<7,NOT(ISNUMBER(H29))),\"\",IF(H29=0,\"\",CHOOSE(H29,1,2,3,4,5)))","v":""},{"$f":"SUM(I29:J29)","v":0},null,null,{"$f":"IF(OR(M29<7,NOT(ISNUMBER(L29))),\"\",IF(L29=0,\"\",CHOOSE(L29,1,2,3,4,5)))","v":""},{"$f":"SUM(M29:N29)","v":0},null,null,{"$f":"IF(OR(Q29<7,NOT(ISNUMBER(P29))),\"\",IF(P29=0,\"\",CHOOSE(P29,1,2,3,4,5)))","v":""},{"$f":"SUM(Q29:R29)","v":0},null,{"$f":"IF(OR(T29<7,NOT(ISNUMBER(#REF!))),\"\",IF(#REF!=0,\"\",CHOOSE(#REF!,1,2,3,4,5)))","v":""},{"$f":"SUM(T29:U29)","v":0},null,{"$f":"IF(OR(W29<7,NOT(ISNUMBER(#REF!))),\"\",IF(#REF!=0,\"\",CHOOSE(#REF!,1,2,3,4,5)))","v":""},{"$f":"SUM(W29:X29)","v":0},"Sol",{"$f":"LARGE(G28:G34,1)+LARGE(G28:G34,2)+LARGE(G28:G34,3)","v":0}]
[null,null,null,null,null,"",0,null,null,"",0,null,null,"",0,null,null,"",0,null,{"$f":"IF(OR(T30<7,NOT(ISNUMBER(#REF!))),\"\",IF(#REF!=0,\"\",CHOOSE(#REF!,1,2,3,4,5)))","v":""},0,null,{"$f":"IF(OR(W30<7,NOT(ISNUMBER(#REF!))),\"\",IF(#REF!=0,\"\",CHOOSE(#REF!,1,2,3,4,5)))","v":""},0,"Saut ",{"$f":"LARGE(K28:K34,1)+LARGE(K28:K34,2)+LARGE(K28:K34,3)","v":0}]
[null,null,null,null,null,"",0,null,null,"",0,null,null,"",0,null,null,"",0,null,{"$f":"IF(OR(T31<7,NOT(ISNUMBER(#REF!))),\"\",IF(#REF!=0,\"\",CHOOSE(#REF!,1,2,3,4,5)))","v":""},0,null,{"$f":"IF(OR(W31<7,NOT(ISNUMBER(#REF!))),\"\",IF(#REF!=0,\"\",CHOOSE(#REF!,1,2,3,4,5)))","v":""},0,"BP ",{"$f":"LARGE(O28:O34,1)+LARGE(O28:O34,2)+LARGE(O28:O34,3)","v":0}]
[null,null,null,null,null,"",0,null,null,null,0,null,null,null,0,null,null,null,0,null,null,0,null,null,0,"BF",{"$f":"LARGE(S28:S34,1)+LARGE(S28:S34,2)+LARGE(S28:S34,3)","v":0}]
[null,null,null,null,null,"",0,null,null,null,0,null,null,null,0,null,null,null,0,null,null,0,null,null,0,"Arçons ",{"$f":"LARGE(V28:V34,1)+LARGE(V28:V34,2)+LARGE(V28:V34,3)","v":0}]
[null,null,null,null,null,"",null,null,null,null,null,null,null,null,null,null,null,null,null,null,null,null,null,null,null,"Anneaux",{"$f":"LARGE(Y28:Y34,1)+LARGE(Y28:Y34,2)+LARGE(Y28:Y34,3)","v":0}]
[null,null,"Total",null,null,null,{"$f":"SUM(G28:G34)","v":0},null,null,null,{"$f":"SUM(K28:K34)","v":0},null,null,null,{"$f":"SUM(O28:O34)","v":0},null,null,null,{"$f":"SUM(S28:S34)","v":0},null,null,{"$f":"SUM(V28:V34)","v":0},null,null,{"$f":"SUM(Y28:Y34)","v":0},"Total Gal ",{"$f":"SUM(AA28:AA34)","v":0}]
[]
[]
[]
[4]
[]
[null,"Nom ","Prénom","Degré ","Note ",null,"Sol ","Degré ","Note ",null,"Saut ","Degré ","Note ",null,"BP ","Degré ","Note ",null,"BF","Note ",null,"Arçons","Note ",null,"AN ","Total; des 3 Meilleurs notes "]
[null,null,null,null,null,{"$f":"IF(OR(E42<7,NOT(ISNUMBER(D42))),\"\",IF(D42=0,\"\",CHOOSE(D42,1,2,3,4,5)))","v":""},{"$f":"SUM(E42:F42)","v":0},null,null,{"$f":"IF(OR(I42<7,NOT(ISNUMBER(H42))),\"\",IF(H42=0,\"\",CHOOSE(H42,1,2,3,4,5)))","v":""},{"$f":"SUM(I42:J42)","v":0},null,null,{"$f":"IF(OR(M42<7,NOT(ISNUMBER(L42))),\"\",IF(L42=0,\"\",CHOOSE(L42,1,2,3,4,5)))","v":""},{"$f":"SUM(M42:N42)","v":0},null,null,{"$f":"IF(OR(Q42<7,NOT(ISNUMBER(P42))),\"\",IF(P42=0,\"\",CHOOSE(P42,1,2,3,4,5)))","v":""},{"$f":"SUM(Q42:R42)","v":0},null,{"$f":"IF(OR(T42<7,NOT(ISNUMBER(#REF!))),\"\",IF(#REF!=0,\"\",CHOOSE(#REF!,1,2,3,4,5)))","v":""},{"$f":"SUM(T42:U42)","v":0},null,{"$f":"IF(OR(W42<7,NOT(ISNUMBER(#REF!))),\"\",IF(#REF!=0,\"\",CHOOSE(#REF!,1,2,3,4,5)))","v":""},{"$f":"SUM(W42:X42)","v":0}]
[null,null,null,null,null,{"$f":"IF(OR(E43<7,NOT(ISNUMBER(D43))),\"\",IF(D43=0,\"\",CHOOSE(D43,1,2,3,4,5)))","v":""},{"$f":"SUM(E43:F43)","v":0},null,null,{"$f":"IF(OR(I43<7,NOT(ISNUMBER(H43))),\"\",IF(H43=0,\"\",CHOOSE(H43,1,2,3,4,5)))","v":""},{"$f":"SUM(I43:J43)","v":0},null,null,{"$f":"IF(OR(M43<7,NOT(ISNUMBER(L43))),\"\",IF(L43=0,\"\",CHOOSE(L43,1,2,3,4,5)))","v":""},{"$f":"SUM(M43:N43)","v":0},null,null,{"$f":"IF(OR(Q43<7,NOT(ISNUMBER(P43))),\"\",IF(P43=0,\"\",CHOOSE(P43,1,2,3,4,5)))","v":""},{"$f":"SUM(Q43:R43)","v":0},null,{"$f":"IF(OR(T43<7,NOT(ISNUMBER(#REF!))),\"\",IF(#REF!=0,\"\",CHOOSE(#REF!,1,2,3,4,5)))","v":""},{"$f":"SUM(T43:U43)","v":0},null,{"$f":"IF(OR(W43<7,NOT(ISNUMBER(#REF!))),\"\",IF(#REF!=0,\"\",CHOOSE(#REF!,1,2,3,4,5)))","v":""},{"$f":"SUM(W43:X43)","v":0},"Sol",{"$f":"LARGE(G42:G48,1)+LARGE(G42:G48,2)+LARGE(G42:G48,3)","v":0}]
[null,null,null,null,null,"",0,null,null,"",0,null,null,"",0,null,null,"",0,null,{"$f":"IF(OR(T44<7,NOT(ISNUMBER(#REF!))),\"\",IF(#REF!=0,\"\",CHOOSE(#REF!,1,2,3,4,5)))","v":""},0,null,{"$f":"IF(OR(W44<7,NOT(ISNUMBER(#REF!))),\"\",IF(#REF!=0,\"\",CHOOSE(#REF!,1,2,3,4,5)))","v":""},0,"Saut ",{"$f":"LARGE(K42:K48,1)+LARGE(K42:K48,2)+LARGE(K42:K48,3)","v":0}]
[null,null,null,null,null,"",0,null,null,"",0,null,null,"",0,null,null,"",0,null,{"$f":"IF(OR(T45<7,NOT(ISNUMBER(#REF!))),\"\",IF(#REF!=0,\"\",CHOOSE(#REF!,1,2,3,4,5)))","v":""},0,null,{"$f":"IF(OR(W45<7,NOT(ISNUMBER(#REF!))),\"\",IF(#REF!=0,\"\",CHOOSE(#REF!,1,2,3,4,5)))","v":""},0,"BP ",{"$f":"LARGE(O42:O48,1)+LARGE(O42:O48,2)+LARGE(O42:O48,3)","v":0}]
[null,null,null,null,null,"",0,null,null,"",0,null,null,"",0,null,null,"",0,null,null,0,null,null,0,"BF",{"$f":"LARGE(S42:S48,1)+LARGE(S42:S48,2)+LARGE(S42:S48,3)","v":0}]
[null,null,null,null,null,"",0,null,null,null,0,null,null,null,0,null,null,null,0,null,null,0,null,null,0,"Arçons ",{"$f":"LARGE(V42:V48,1)+LARGE(V42:V48,2)+LARGE(V42:V48,3)","v":0}]
[null,null,null,null,null,"",null,null,null,null,null,null,null,null,null,null,null,null,null,null,null,null,null,null,null,"Anneaux",{"$f":"LARGE(Y42:Y48,1)+LARGE(Y42:Y48,2)+LARGE(Y42:Y48,3)","v":0}]
[null,null,"Total",null,null,null,{"$f":"SUM(G42:G48)","v":0},null,null,null,{"$f":"SUM(K42:K48)","v":0},null,null,null,{"$f":"SUM(O42:O48)","v":0},null,null,null,{"$f":"SUM(S42:S48)","v":0},null,null,{"$f":"SUM(V42:V48)","v":0},null,null,{"$f":"SUM(Y42:Y48)","v":0},"Total Gal ",{"$f":"SUM(AA42:AA48)","v":0}]
[]
[5]
[]
[null,"Nom ","Prénom","Degré ","Note ",null,"Sol ","Degré ","Note ",null,"Saut ","Degré ","Note ",null,"BP ","Degré ","Note ",null,"BF","Note ",null,"Arçons","Note ",null,"AN ","Total; des 3 Meilleurs notes "]
[null,null,null,null,null,{"$f":"IF(OR(E54<7,NOT(ISNUMBER(D54))),\"\",IF(D54=0,\"\",CHOOSE(D54,1,2,3,4,5)))","v":""},{"$f":"SUM(E54:F54)","v":0},null,null,{"$f":"IF(OR(I54<7,NOT(ISNUMBER(H54))),\"\",IF(H54=0,\"\",CHOOSE(H54,1,2,3,4,5)))","v":""},{"$f":"SUM(I54:J54)","v":0},null,null,{"$f":"IF(OR(M54<7,NOT(ISNUMBER(L54))),\"\",IF(L54=0,\"\",CHOOSE(L54,1,2,3,4,5)))","v":""},{"$f":"SUM(M54:N54)","v":0},null,null,{"$f":"IF(OR(Q54<7,NOT(ISNUMBER(P54))),\"\",IF(P54=0,\"\",CHOOSE(P54,1,2,3,4,5)))","v":""},{"$f":"SUM(Q54:R54)","v":0},null,{"$f":"IF(OR(T54<7,NOT(ISNUMBER(#REF!))),\"\",IF(#REF!=0,\"\",CHOOSE(#REF!,1,2,3,4,5)))","v":""},{"$f":"SUM(T54:U54)","v":0},null,{"$f":"IF(OR(W54<7,NOT(ISNUMBER(#REF!))),\"\",IF(#REF!=0,\"\",CHOOSE(#REF!,1,2,3,4,5)))","v":""},{"$f":"SUM(W54:X54)","v":0}]
[null,null,null,null,null,{"$f":"IF(OR(E55<7,NOT(ISNUMBER(D55))),\"\",IF(D55=0,\"\",CHOOSE(D55,1,2,3,4,5)))","v":""},{"$f":"SUM(E55:F55)","v":0},null,null,{"$f":"IF(OR(I55<7,NOT(ISNUMBER(H55))),\"\",IF(H55=0,\"\",CHOOSE(H55,1,2,3,4,5)))","v":""},{"$f":"SUM(I55:J55)","v":0},null,null,{"$f":"IF(OR(M55<7,NOT(ISNUMBER(L55))),\"\",IF(L55=0,\"\",CHOOSE(L55,1,2,3,4,5)))","v":""},{"$f":"SUM(M55:N55)","v":0},null,null,{"$f":"IF(OR(Q55<7,NOT(ISNUMBER(P55))),\"\",IF(P55=0,\"\",CHOOSE(P55,1,2,3,4,5)))","v":""},{"$f":"SUM(Q55:R55)","v":0},null,{"$f":"IF(OR(T55<7,NOT(ISNUMBER(#REF!))),\"\",IF(#REF!=0,\"\",CHOOSE(#REF!,1,2,3,4,5)))","v":""},{"$f":"SUM(T55:U55)","v":0},null,{"$f":"IF(OR(W55<7,NOT(ISNUMBER(#REF!))),\"\",IF(#REF!=0,\"\",CHOOSE(#REF!,1,2,3,4,5)))","v":""},{"$f":"SUM(W55:X55)","v":0},"Sol",{"$f":"LARGE(G54:G60,1)+LARGE(G54:G60,2)+LARGE(G54:G60,3)","v":0}]
[null,null,null,null,null,"",0,null,null,"",0,null,null,"",0,null,null,"",0,null,{"$f":"IF(OR(T56<7,NOT(ISNUMBER(#REF!))),\"\",IF(#REF!=0,\"\",CHOOSE(#REF!,1,2,3,4,5)))","v":""},0,null,{"$f":"IF(OR(W56<7,NOT(ISNUMBER(#REF!))),\"\",IF(#REF!=0,\"\",CHOOSE(#REF!,1,2,3,4,5)))","v":""},0,"Saut ",{"$f":"LARGE(K54:K60,1)+LARGE(K54:K60,2)+LARGE(K54:K60,3)","v":0}]
[null,null,null,null,null,"",0,null,null,"",0,null,null,"",0,null,null,"",0,null,{"$f":"IF(OR(T57<7,NOT(ISNUMBER(#REF!))),\"\",IF(#REF!=0,\"\",CHOOSE(#REF!,1,2,3,4,5)))","v":""},0,null,{"$f":"IF(OR(W57<7,NOT(ISNUMBER(#REF!))),\"\",IF(#REF!=0,\"\",CHOOSE(#REF!,1,2,3,4,5)))","v":""},0,"BP ",{"$f":"LARGE(O54:O60,1)+LARGE(O54:O60,2)+LARGE(O54:O60,3)","v":0}]
[null,null,null,null,null,"",0,null,null,"",0,null,null,"",0,null,null,"",0,null,null,0,null,null,0,"BF",{"$f":"LARGE(S54:S60,1)+LARGE(S54:S60,2)+LARGE(S54:S60,3)","v":0}]
[null,null,null,null,null,"",0,null,null,null,0,null,null,null,0,null,null,null,0,null,null,0,null,null,0,"Arçons ",{"$f":"LARGE(V54:V60,1)+LARGE(V54:V60,2)+LARGE(V54:V60,3)","v":0}]
[null,null,null,null,null,"",null,null,null,null,null,null,null,null,null,null,null,null,null,null,null,null,null,null,null,"Anneaux",{"$f":"LARGE(Y54:Y60,1)+LARGE(Y54:Y60,2)+LARGE(Y54:Y60,3)","v":0}]
[null,null,"Total",null,null,null,{"$f":"SUM(G54:G60)","v":0},null,null,null,{"$f":"SUM(K54:K60)","v":0},null,null,null,{"$f":"SUM(O54:O60)","v":0},null,null,null,{"$f":"SUM(S54:S60)","v":0},null,null,{"$f":"SUM(V54:V60)","v":0},null,null,{"$f":"SUM(Y54:Y60)","v":0},"Total Gal ",{"$f":"SUM(AA54:AA60)","v":0}]
[]
[6]
[]
[null,"Nom ","Prénom","Degré ","Note ",null,"Sol ","Degré ","Note ",null,"Saut ","Degré ","Note ",null,"BP ","Degré ","Note ",null,"BF","Note ",null,"Arçons","Note ",null,"AN ","Total; des 3 Meilleurs notes "]
[null,null,null,null,null,{"$f":"IF(OR(E66<7,NOT(ISNUMBER(D66))),\"\",IF(D66=0,\"\",CHOOSE(D66,1,2,3,4,5)))","v":""},{"$f":"SUM(E66:F66)","v":0},null,null,{"$f":"IF(OR(I66<7,NOT(ISNUMBER(H66))),\"\",IF(H66=0,\"\",CHOOSE(H66,1,2,3,4,5)))","v":""},{"$f":"SUM(I66:J66)","v":0},null,null,{"$f":"IF(OR(M66<7,NOT(ISNUMBER(L66))),\"\",IF(L66=0,\"\",CHOOSE(L66,1,2,3,4,5)))","v":""},{"$f":"SUM(M66:N66)","v":0},null,null,{"$f":"IF(OR(Q66<7,NOT(ISNUMBER(P66))),\"\",IF(P66=0,\"\",CHOOSE(P66,1,2,3,4,5)))","v":""},{"$f":"SUM(Q66:R66)","v":0},null,null,{"$f":"SUM(T66:U66)","v":0},null,{"$f":"IF(OR(W66<7,NOT(ISNUMBER(#REF!))),\"\",IF(#REF!=0,\"\",CHOOSE(#REF!,1,2,3,4,5)))","v":""},{"$f":"SUM(W66:X66)","v":0}]
[null,null,null,null,null,{"$f":"IF(OR(E67<7,NOT(ISNUMBER(D67))),\"\",IF(D67=0,\"\",CHOOSE(D67,1,2,3,4,5)))","v":""},{"$f":"SUM(E67:F67)","v":0},null,null,{"$f":"IF(OR(I67<7,NOT(ISNUMBER(H67))),\"\",IF(H67=0,\"\",CHOOSE(H67,1,2,3,4,5)))","v":""},{"$f":"SUM(I67:J67)","v":0},null,null,{"$f":"IF(OR(M67<7,NOT(ISNUMBER(L67))),\"\",IF(L67=0,\"\",CHOOSE(L67,1,2,3,4,5)))","v":""},{"$f":"SUM(M67:N67)","v":0},null,null,{"$f":"IF(OR(Q67<7,NOT(ISNUMBER(P67))),\"\",IF(P67=0,\"\",CHOOSE(P67,1,2,3,4,5)))","v":""},{"$f":"SUM(Q67:R67)","v":0},null,null,{"$f":"SUM(T67:U67)","v":0},null,{"$f":"IF(OR(W67<7,NOT(ISNUMBER(#REF!))),\"\",IF(#REF!=0,\"\",CHOOSE(#REF!,1,2,3,4,5)))","v":""},{"$f":"SUM(W67:X67)","v":0},"Sol",{"$f":"LARGE(G66:G72,1)+LARGE(G66:G72,2)+LARGE(G66:G72,3)","v":0}]
[null,null,null,null,null,"",0,null,null,"",0,null,null,"",0,null,null,"",0,null,null,0,null,{"$f":"IF(OR(W68<7,NOT(ISNUMBER(#REF!))),\"\",IF(#REF!=0,\"\",CHOOSE(#REF!,1,2,3,4,5)))","v":""},0,"Saut ",{"$f":"LARGE(K66:K72,1)+LARGE(K66:K72,2)+LARGE(K66:K72,3)","v":0}]
[null,null,null,null,null,"",0,null,null,"",0,null,null,"",0,null,null,"",0,null,null,0,null,{"$f":"IF(OR(W69<7,NOT(ISNUMBER(#REF!))),\"\",IF(#REF!=0,\"\",CHOOSE(#REF!,1,2,3,4,5)))","v":""},0,"BP ",{"$f":"LARGE(O66:O72,1)+LARGE(O66:O72,2)+LARGE(O66:O72,3)","v":0}]
[null,null,null,null,null,{"$f":"IF(OR(E70<7,NOT(ISNUMBER(D70))),\"\",IF(D70=0,\"\",CHOOSE(D70,1,2,3,4,5)))","v":""},{"$f":"SUM(E70:F70)","v":0},null,null,{"$f":"IF(OR(I70<7,NOT(ISNUMBER(H70))),\"\",IF(H70=0,\"\",CHOOSE(H70,1,2,3,4,5)))","v":""},{"$f":"SUM(I70:J70)","v":0},null,null,{"$f":"IF(OR(M70<7,NOT(ISNUMBER(L70))),\"\",IF(L70=0,\"\",CHOOSE(L70,1,2,3,4,5)))","v":""},{"$f":"SUM(M70:N70)","v":0},null,null,{"$f":"IF(OR(Q70<7,NOT(ISNUMBER(P70))),\"\",IF(P70=0,\"\",CHOOSE(P70,1,2,3,4,5)))","v":""},{"$f":"SUM(Q70:R70)","v":0},null,null,{"$f":"SUM(T70:U70)","v":0},null,{"$f":"IF(OR(W70<7,NOT(ISNUMBER(#REF!))),\"\",IF(#REF!=0,\"\",CHOOSE(#REF!,1,2,3,4,5)))","v":""},{"$f":"SUM(W70:X70)","v":0},"BF",{"$f":"LARGE(S66:S72,1)+LARGE(S66:S72,2)+LARGE(S66:S72,3)","v":0}]
[null,null,null,null,null,"",0,null,null,"",0,null,null,"",0,null,null,"",0,null,null,0,null,{"$f":"IF(OR(W71<7,NOT(ISNUMBER(#REF!))),\"\",IF(#REF!=0,\"\",CHOOSE(#REF!,1,2,3,4,5)))","v":""},0,"Arçons ",{"$f":"LARGE(V66:V72,1)+LARGE(V66:V72,2)+LARGE(V66:V72,3)","v":0}]
[null,null,null,null,null,"",null,null,null,null,null,null,null,null,null,null,null,null,null,null,null,null,null,null,null,"Anneaux",{"$f":"LARGE(Y66:Y72,1)+LARGE(Y66:Y72,2)+LARGE(Y66:Y72,3)","v":0}]
[null,null,"Total",null,null,null,{"$f":"SUM(G66:G72)","v":0},null,null,null,{"$f":"SUM(K66:K72)","v":0},null,null,null,{"$f":"SUM(O66:O72)","v":0},null,null,null,{"$f":"SUM(S66:S72)","v":0},null,null,{"$f":"SUM(V66:V72)","v":0},null,null,{"$f":"SUM(Y66:Y72)","v":0},"Total Gal ",{"$f":"SUM(AA66:AA72)","v":0}]
[]
[7]
[]
[null,"Nom ","Prénom","Degré ","Note ",null,"Sol ","Degré ","Note ",null,"Saut ","Degré ","Note ",null,"BP ","Degré ","Note ",null,"BF","Note ",null,"Arçons","Note ",null,"AN ","Total; des 3 Meilleurs notes "]
[null,null,null,null,null,{"$f":"IF(OR(E78<7,NOT(ISNUMBER(D78))),\"\",IF(D78=0,\"\",CHOOSE(D78,1,2,3,4,5)))","v":""},{"$f":"SUM(E78:F78)","v":0},null,null,{"$f":"IF(OR(I78<7,NOT(ISNUMBER(H78))),\"\",IF(H78=0,\"\",CHOOSE(H78,1,2,3,4,5)))","v":""},{"$f":"SUM(I78:J78)","v":0},null,null,{"$f":"IF(OR(M78<7,NOT(ISNUMBER(L78))),\"\",IF(L78=0,\"\",CHOOSE(L78,1,2,3,4,5)))","v":""},{"$f":"SUM(M78:N78)","v":0},null,null,{"$f":"IF(OR(Q78<7,NOT(ISNUMBER(P78))),\"\",IF(P78=0,\"\",CHOOSE(P78,1,2,3,4,5)))","v":""},{"$f":"SUM(Q78:R78)","v":0},null,{"$f":"IF(OR(T78<7,NOT(ISNUMBER(#REF!))),\"\",IF(#REF!=0,\"\",CHOOSE(#REF!,1,2,3,4,5)))","v":""},{"$f":"SUM(T78:U78)","v":0},null,{"$f":"IF(OR(W78<7,NOT(ISNUMBER(#REF!))),\"\",IF(#REF!=0,\"\",CHOOSE(#REF!,1,2,3,4,5)))","v":""},{"$f":"SUM(W78:X78)","v":0}]
[null,null,null,null,null,{"$f":"IF(OR(E79<7,NOT(ISNUMBER(D79))),\"\",IF(D79=0,\"\",CHOOSE(D79,1,2,3,4,5)))","v":""},0,null,null,{"$f":"IF(OR(I79<7,NOT(ISNUMBER(H79))),\"\",IF(H79=0,\"\",CHOOSE(H79,1,2,3,4,5)))","v":""},{"$f":"SUM(I79:J79)","v":0},null,null,{"$f":"IF(OR(M79<7,NOT(ISNUMBER(L79))),\"\",IF(L79=0,\"\",CHOOSE(L79,1,2,3,4,5)))","v":""},{"$f":"SUM(M79:N79)","v":0},null,null,{"$f":"IF(OR(Q79<7,NOT(ISNUMBER(P79))),\"\",IF(P79=0,\"\",CHOOSE(P79,1,2,3,4,5)))","v":""},{"$f":"SUM(Q79:R79)","v":0},null,{"$f":"IF(OR(T79<7,NOT(ISNUMBER(#REF!))),\"\",IF(#REF!=0,\"\",CHOOSE(#REF!,1,2,3,4,5)))","v":""},{"$f":"SUM(T79:U79)","v":0},null,{"$f":"IF(OR(W79<7,NOT(ISNUMBER(#REF!))),\"\",IF(#REF!=0,\"\",CHOOSE(#REF!,1,2,3,4,5)))","v":""},{"$f":"SUM(W79:X79)","v":0},"Sol",{"$f":"LARGE(G78:G84,1)+LARGE(G78:G84,2)+LARGE(G78:G84,3)","v":0}]
[null,null,null,null,null,"",0,null,null,"",0,null,null,"",0,null,null,"",0,null,{"$f":"IF(OR(T80<7,NOT(ISNUMBER(#REF!))),\"\",IF(#REF!=0,\"\",CHOOSE(#REF!,1,2,3,4,5)))","v":""},0,null,{"$f":"IF(OR(W80<7,NOT(ISNUMBER(#REF!))),\"\",IF(#REF!=0,\"\",CHOOSE(#REF!,1,2,3,4,5)))","v":""},0,"Saut ",{"$f":"LARGE(K78:K84,1)+LARGE(K78:K84,2)+LARGE(K78:K84,3)","v":0}]
[null,null,null,null,null,"",0,null,null,"",0,null,null,"",0,null,null,"",0,null,{"$f":"IF(OR(T81<7,NOT(ISNUMBER(#REF!))),\"\",IF(#REF!=0,\"\",CHOOSE(#REF!,1,2,3,4,5)))","v":""},0,null,{"$f":"IF(OR(W81<7,NOT(ISNUMBER(#REF!))),\"\",IF(#REF!=0,\"\",CHOOSE(#REF!,1,2,3,4,5)))","v":""},0,"BP ",{"$f":"LARGE(O78:O84,1)+LARGE(O78:O84,2)+LARGE(O78:O84,3)","v":0}]
[null,null,null,null,null,"",{"$f":"SUM(E82:F82)","v":0},null,null,"",0,null,null,"",0,null,null,"",0,null,{"$f":"IF(OR(T82<7,NOT(ISNUMBER(#REF!))),\"\",IF(#REF!=0,\"\",CHOOSE(#REF!,1,2,3,4,5)))","v":""},0,null,{"$f":"IF(OR(W82<7,NOT(ISNUMBER(#REF!))),\"\",IF(#REF!=0,\"\",CHOOSE(#REF!,1,2,3,4,5)))","v":""},0,"BF",{"$f":"LARGE(S78:S84,1)+LARGE(S78:S84,2)+LARGE(S78:S84,3)","v":0}]
[null,null,null,null,null,"",null,null,null,null,null,null,null,null,null,null,null,null,null,null,null,null,null,null,null,"Arçons ",{"$f":"LARGE(V78:V84,1)+LARGE(V78:V84,2)+LARGE(V78:V84,3)","v":0}]
[null,null,null,null,null,"",null,null,null,null,null,null,null,null,null,null,null,null,null,null,null,null,null,null,null,"Anneaux",{"$f":"LARGE(Y78:Y84,1)+LARGE(Y78:Y84,2)+LARGE(Y78:Y84,3)","v":0}]
[null,null,"Total",null,null,null,{"$f":"SUM(G78:G84)","v":0},null,null,null,{"$f":"SUM(K78:K84)","v":0},null,null,null,{"$f":"SUM(O78:O84)","v":0},null,null,null,{"$f":"SUM(S78:S84)","v":0},null,null,{"$f":"SUM(V78:V84)","v":0},null,null,{"$f":"SUM(Y78:Y84)","v":0},"Total Gal ",{"$f":"SUM(AA78:AA84)","v":0}]
[]
[]
[8]
[]
[null,"Nom ","Prénom","Degré ","Note ",null,"Sol ","Degré ","Note ",null,"Saut ","Degré ","Note ",null,"BP ","Degré ","Note ",null,"BF","Note ",null,"Arçons","Note ",null,"AN ","Total; des 3 Meilleurs notes "]
[null,null,null,null,null,{"$f":"IF(OR(E91<7,NOT(ISNUMBER(D91))),\"\",IF(D91=0,\"\",CHOOSE(D91,1,2,3,4,5)))","v":""},{"$f":"SUM(E91:F91)","v":0},null,null,{"$f":"IF(OR(I91<7,NOT(ISNUMBER(H91))),\"\",IF(H91=0,\"\",CHOOSE(H91,1,2,3,4,5)))","v":""},{"$f":"SUM(I91:J91)","v":0},null,null,{"$f":"IF(OR(M91<7,NOT(ISNUMBER(L91))),\"\",IF(L91=0,\"\",CHOOSE(L91,1,2,3,4,5)))","v":""},{"$f":"SUM(M91:N91)","v":0},null,null,{"$f":"IF(OR(Q91<7,NOT(ISNUMBER(P91))),\"\",IF(P91=0,\"\",CHOOSE(P91,1,2,3,4,5)))","v":""},{"$f":"SUM(Q91:R91)","v":0},null,{"$f":"IF(OR(T91<7,NOT(ISNUMBER(#REF!))),\"\",IF(#REF!=0,\"\",CHOOSE(#REF!,1,2,3,4,5)))","v":""},{"$f":"SUM(T91:U91)","v":0},null,{"$f":"IF(OR(W91<7,NOT(ISNUMBER(#REF!))),\"\",IF(#REF!=0,\"\",CHOOSE(#REF!,1,2,3,4,5)))","v":""},{"$f":"SUM(W91:X91)","v":0}]
[null,null,null,null,null,{"$f":"IF(OR(E92<7,NOT(ISNUMBER(D92))),\"\",IF(D92=0,\"\",CHOOSE(D92,1,2,3,4,5)))","v":""},{"$f":"SUM(E92:F92)","v":0},null,null,{"$f":"IF(OR(I92<7,NOT(ISNUMBER(H92))),\"\",IF(H92=0,\"\",CHOOSE(H92,1,2,3,4,5)))","v":""},{"$f":"SUM(I92:J92)","v":0},null,null,{"$f":"IF(OR(M92<7,NOT(ISNUMBER(L92))),\"\",IF(L92=0,\"\",CHOOSE(L92,1,2,3,4,5)))","v":""},{"$f":"SUM(M92:N92)","v":0},null,null,{"$f":"IF(OR(Q92<7,NOT(ISNUMBER(P92))),\"\",IF(P92=0,\"\",CHOOSE(P92,1,2,3,4,5)))","v":""},{"$f":"SUM(Q92:R92)","v":0},null,{"$f":"IF(OR(T92<7,NOT(ISNUMBER(#REF!))),\"\",IF(#REF!=0,\"\",CHOOSE(#REF!,1,2,3,4,5)))","v":""},{"$f":"SUM(T92:U92)","v":0},null,{"$f":"IF(OR(W92<7,NOT(ISNUMBER(#REF!))),\"\",IF(#REF!=0,\"\",CHOOSE(#REF!,1,2,3,4,5)))","v":""},0,"Sol",{"$f":"LARGE(G91:G97,1)+LARGE(G91:G97,2)+LARGE(G91:G97,3)","v":0}]
[null,null,null,null,null,"",0,null,null,"",0,null,null,"",0,null,null,"",0,null,{"$f":"IF(OR(T93<7,NOT(ISNUMBER(#REF!))),\"\",IF(#REF!=0,\"\",CHOOSE(#REF!,1,2,3,4,5)))","v":""},{"$f":"SUM(T93:U93)","v":0},null,{"$f":"IF(OR(W93<7,NOT(ISNUMBER(#REF!))),\"\",IF(#REF!=0,\"\",CHOOSE(#REF!,1,2,3,4,5)))","v":""},0,"Saut ",{"$f":"LARGE(K91:K97,1)+LARGE(K91:K97,2)+LARGE(K91:K97,3)","v":0}]
[null,null,null,null,null,"",0,null,null,"",0,null,null,"",0,null,null,"",0,null,{"$f":"IF(OR(T94<7,NOT(ISNUMBER(#REF!))),\"\",IF(#REF!=0,\"\",CHOOSE(#REF!,1,2,3,4,5)))","v":""},0,null,{"$f":"IF(OR(W94<7,NOT(ISNUMBER(#REF!))),\"\",IF(#REF!=0,\"\",CHOOSE(#REF!,1,2,3,4,5)))","v":""},0,"BP ",{"$f":"LARGE(O91:O97,1)+LARGE(O91:O97,2)+LARGE(O91:O97,3)","v":0}]
[null,null,null,null,null,{"$f":"IF(OR(E95<7,NOT(ISNUMBER(D95))),\"\",IF(D95=0,\"\",CHOOSE(D95,1,2,3,4,5)))","v":""},{"$f":"SUM(E95:F95)","v":0},null,null,{"$f":"IF(OR(I95<7,NOT(ISNUMBER(H95))),\"\",IF(H95=0,\"\",CHOOSE(H95,1,2,3,4,5)))","v":""},{"$f":"SUM(I95:J95)","v":0},null,null,{"$f":"IF(OR(M95<7,NOT(ISNUMBER(L95))),\"\",IF(L95=0,\"\",CHOOSE(L95,1,2,3,4,5)))","v":""},{"$f":"SUM(M95:N95)","v":0},null,null,{"$f":"IF(OR(Q95<7,NOT(ISNUMBER(P95))),\"\",IF(P95=0,\"\",CHOOSE(P95,1,2,3,4,5)))","v":""},{"$f":"SUM(Q95:R95)","v":0},null,{"$f":"IF(OR(T95<7,NOT(ISNUMBER(#REF!))),\"\",IF(#REF!=0,\"\",CHOOSE(#REF!,1,2,3,4,5)))","v":""},{"$f":"SUM(T95:U95)","v":0},null,{"$f":"IF(OR(W95<7,NOT(ISNUMBER(#REF!))),\"\",IF(#REF!=0,\"\",CHOOSE(#REF!,1,2,3,4,5)))","v":""},{"$f":"SUM(W95:X95)","v":0},"BF",{"$f":"LARGE(S91:S97,1)+LARGE(S91:S97,2)+LARGE(S91:S97,3)","v":0}]
[null,null,null,null,null,"",0,null,null,"",0,null,null,"",0,null,null,"",0,null,{"$f":"IF(OR(T96<7,NOT(ISNUMBER(#REF!))),\"\",IF(#REF!=0,\"\",CHOOSE(#REF!,1,2,3,4,5)))","v":""},0,null,{"$f":"IF(OR(W96<7,NOT(ISNUMBER(#REF!))),\"\",IF(#REF!=0,\"\",CHOOSE(#REF!,1,2,3,4,5)))","v":""},0,"Arçons ",{"$f":"LARGE(V91:V97,1)+LARGE(V91:V97,2)+LARGE(V91:V97,3)","v":0}]
[null,null,null,null,null,"",null,null,null,null,null,null,null,null,null,null,null,null,null,null,null,null,null,null,null,"Anneaux",{"$f":"LARGE(Y91:Y97,1)+LARGE(Y91:Y97,2)+LARGE(Y91:Y97,3)","v":0}]
[null,null,"Total",null,null,null,{"$f":"SUM(G91:G97)","v":0},null,null,null,{"$f":"SUM(K91:K97)","v":0},null,null,null,{"$f":"SUM(O91:O97)","v":0},null,null,null,{"$f":"SUM(S91:S97)","v":0},null,null,{"$f":"SUM(V91:V97)","v":0},null,null,{"$f":"SUM(Y91:Y97)","v":0},"Total Gal ",{"$f":"SUM(AA91:AA97)","v":0}]
[]
[]
[9]
[]
[null,"Nom ","Prénom","Degré ","Note ",null,"Sol ","Degré ","Note ",null,"Saut ","Degré ","Note ",null,"BP ","Degré ","Note ",null,"BF","Note ",null,"Arçons","Note ",null,"AN ","Total; des 3 Meilleurs notes "]
[null,null,null,null,null,{"$f":"IF(OR(E104<7,NOT(ISNUMBER(D104))),\"\",IF(D104=0,\"\",CHOOSE(D104,1,2,3,4,5)))","v":""},{"$f":"SUM(E104:F104)","v":0},null,null,{"$f":"IF(OR(I104<7,NOT(ISNUMBER(H104))),\"\",IF(H104=0,\"\",CHOOSE(H104,1,2,3,4,5)))","v":""},{"$f":"SUM(I104:J104)","v":0},null,null,{"$f":"IF(OR(M104<7,NOT(ISNUMBER(L104))),\"\",IF(L104=0,\"\",CHOOSE(L104,1,2,3,4,5)))","v":""},{"$f":"SUM(M104:N104)","v":0},null,null,{"$f":"IF(OR(Q104<7,NOT(ISNUMBER(P104))),\"\",IF(P104=0,\"\",CHOOSE(P104,1,2,3,4,5)))","v":""},{"$f":"SUM(Q104:R104)","v":0},null,{"$f":"IF(OR(T104<7,NOT(ISNUMBER(#REF!))),\"\",IF(#REF!=0,\"\",CHOOSE(#REF!,1,2,3,4,5)))","v":""},{"$f":"SUM(T104:U104)","v":0},null,{"$f":"IF(OR(W104<7,NOT(ISNUMBER(#REF!))),\"\",IF(#REF!=0,\"\",CHOOSE(#REF!,1,2,3,4,5)))","v":""},{"$f":"SUM(W104:X104)","v":0}]
[null,null,null,null,null,{"$f":"IF(OR(E105<7,NOT(ISNUMBER(D105))),\"\",IF(D105=0,\"\",CHOOSE(D105,1,2,3,4,5)))","v":""},{"$f":"SUM(E105:F105)","v":0},null,null,{"$f":"IF(OR(I105<7,NOT(ISNUMBER(H105))),\"\",IF(H105=0,\"\",CHOOSE(H105,1,2,3,4,5)))","v":""},{"$f":"SUM(I105:J105)","v":0},null,null,{"$f":"IF(OR(M105<7,NOT(ISNUMBER(L105))),\"\",IF(L105=0,\"\",CHOOSE(L105,1,2,3,4,5)))","v":""},{"$f":"SUM(M105:N105)","v":0},null,null,{"$f":"IF(OR(Q105<7,NOT(ISNUMBER(P105))),\"\",IF(P105=0,\"\",CHOOSE(P105,1,2,3,4,5)))","v":""},{"$f":"SUM(Q105:R105)","v":0},null,{"$f":"IF(OR(T105<7,NOT(ISNUMBER(#REF!))),\"\",IF(#REF!=0,\"\",CHOOSE(#REF!,1,2,3,4,5)))","v":""},{"$f":"SUM(T105:U105)","v":0},null,{"$f":"IF(OR(W105<7,NOT(ISNUMBER(#REF!))),\"\",IF(#REF!=0,\"\",CHOOSE(#REF!,1,2,3,4,5)))","v":""},{"$f":"SUM(W105:X105)","v":0},"Sol",{"$f":"LARGE(G104:G110,1)+LARGE(G104:G110,2)+LARGE(G104:G110,3)","v":0}]
[null,null,null,null,null,"",0,null,null,"",0,null,null,"",0,null,null,"",0,null,{"$f":"IF(OR(T106<7,NOT(ISNUMBER(#REF!))),\"\",IF(#REF!=0,\"\",CHOOSE(#REF!,1,2,3,4,5)))","v":""},0,null,{"$f":"IF(OR(W106<7,NOT(ISNUMBER(#REF!))),\"\",IF(#REF!=0,\"\",CHOOSE(#REF!,1,2,3,4,5)))","v":""},0,"Saut ",{"$f":"LARGE(K104:K110,1)+LARGE(K104:K110,2)+LARGE(K104:K110,3)","v":0}]
[null,null,null,null,null,"",0,null,null,"",0,null,null,"",0,null,null,"",0,null,{"$f":"IF(OR(T107<7,NOT(ISNUMBER(#REF!))),\"\",IF(#REF!=0,\"\",CHOOSE(#REF!,1,2,3,4,5)))","v":""},0,null,{"$f":"IF(OR(W107<7,NOT(ISNUMBER(#REF!))),\"\",IF(#REF!=0,\"\",CHOOSE(#REF!,1,2,3,4,5)))","v":""},0,"BP ",{"$f":"LARGE(O104:O110,1)+LARGE(O104:O110,2)+LARGE(O104:O110,3)","v":0}]
[null,null,null,null,null,{"$f":"IF(OR(E108<7,NOT(ISNUMBER(D108))),\"\",IF(D108=0,\"\",CHOOSE(D108,1,2,3,4,5)))","v":""},{"$f":"SUM(E108:F108)","v":0},null,null,{"$f":"IF(OR(I108<7,NOT(ISNUMBER(H108))),\"\",IF(H108=0,\"\",CHOOSE(H108,1,2,3,4,5)))","v":""},{"$f":"SUM(I108:J108)","v":0},null,null,{"$f":"IF(OR(M108<7,NOT(ISNUMBER(L108))),\"\",IF(L108=0,\"\",CHOOSE(L108,1,2,3,4,5)))","v":""},{"$f":"SUM(M108:N108)","v":0},null,null,{"$f":"IF(OR(Q108<7,NOT(ISNUMBER(P108))),\"\",IF(P108=0,\"\",CHOOSE(P108,1,2,3,4,5)))","v":""},{"$f":"SUM(Q108:R108)","v":0},null,{"$f":"IF(OR(T108<7,NOT(ISNUMBER(#REF!))),\"\",IF(#REF!=0,\"\",CHOOSE(#REF!,1,2,3,4,5)))","v":""},{"$f":"SUM(T108:U108)","v":0},null,{"$f":"IF(OR(W108<7,NOT(ISNUMBER(#REF!))),\"\",IF(#REF!=0,\"\",CHOOSE(#REF!,1,2,3,4,5)))","v":""},{"$f":"SUM(W108:X108)","v":0},"BF",{"$f":"LARGE(S104:S110,1)+LARGE(S104:S110,2)+LARGE(S104:S110,3)","v":0}]
[null,null,null,null,null,"",0,null,null,"",0,null,null,"",0,null,null,"",0,null,{"$f":"IF(OR(T109<7,NOT(ISNUMBER(#REF!))),\"\",IF(#REF!=0,\"\",CHOOSE(#REF!,1,2,3,4,5)))","v":""},0,null,{"$f":"IF(OR(W109<7,NOT(ISNUMBER(#REF!))),\"\",IF(#REF!=0,\"\",CHOOSE(#REF!,1,2,3,4,5)))","v":""},0,"Arçons ",{"$f":"LARGE(V104:V110,1)+LARGE(V104:V110,2)+LARGE(V104:V110,3)","v":0}]
[null,null,null,null,null,"",null,null,null,null,null,null,null,null,null,null,null,null,null,null,null,null,null,null,null,"Anneaux",{"$f":"LARGE(Y104:Y110,1)+LARGE(Y104:Y110,2)+LARGE(Y104:Y110,3)","v":0}]
[null,null,"Total",null,null,null,{"$f":"SUM(G104:G110)","v":0},null,null,null,{"$f":"SUM(K104:K110)","v":0},null,null,null,{"$f":"SUM(O104:O110)","v":0},null,null,null,{"$f":"SUM(S104:S110)","v":0},null,null,{"$f":"SUM(V104:V110)","v":0},null,null,{"$f":"SUM(Y104:Y110)","v":0},"Total Gal ",{"$f":"SUM(AA104:AA110)","v":0}]
[]
[]
[]
[10]
[]
[null,"Nom ","Prénom","Degré ","Note ",null,"Sol ","Degré ","Note ",null,"Saut ","Degré ","Note ",null,"BP ","Degré ","Note ",null,"BF","Note ",null,"Arçons","Note ",null,"AN ","Total; des 3 Meilleurs notes "]
[null,null,null,null,null,{"$f":"IF(OR(E118<7,NOT(ISNUMBER(D118))),\"\",IF(D118=0,\"\",CHOOSE(D118,1,2,3,4,5)))","v":""},{"$f":"SUM(E118:F118)","v":0},null,null,{"$f":"IF(OR(I118<7,NOT(ISNUMBER(H118))),\"\",IF(H118=0,\"\",CHOOSE(H118,1,2,3,4,5)))","v":""},{"$f":"SUM(I118:J118)","v":0},null,null,{"$f":"IF(OR(M118<7,NOT(ISNUMBER(L118))),\"\",IF(L118=0,\"\",CHOOSE(L118,1,2,3,4,5)))","v":""},{"$f":"SUM(M118:N118)","v":0},null,null,{"$f":"IF(OR(Q118<7,NOT(ISNUMBER(P118))),\"\",IF(P118=0,\"\",CHOOSE(P118,1,2,3,4,5)))","v":""},{"$f":"SUM(Q118:R118)","v":0},null,{"$f":"IF(OR(T118<7,NOT(ISNUMBER(#REF!))),\"\",IF(#REF!=0,\"\",CHOOSE(#REF!,1,2,3,4,5)))","v":""},{"$f":"SUM(T118:U118)","v":0},null,{"$f":"IF(OR(W118<7,NOT(ISNUMBER(#REF!))),\"\",IF(#REF!=0,\"\",CHOOSE(#REF!,1,2,3,4,5)))","v":""},{"$f":"SUM(W118:X118)","v":0}]
[null,null,null,null,null,{"$f":"IF(OR(E119<7,NOT(ISNUMBER(D119))),\"\",IF(D119=0,\"\",CHOOSE(D119,1,2,3,4,5)))","v":""},{"$f":"SUM(E119:F119)","v":0},null,null,{"$f":"IF(OR(I119<7,NOT(ISNUMBER(H119))),\"\",IF(H119=0,\"\",CHOOSE(H119,1,2,3,4,5)))","v":""},{"$f":"SUM(I119:J119)","v":0},null,null,{"$f":"IF(OR(M119<7,NOT(ISNUMBER(L119))),\"\",IF(L119=0,\"\",CHOOSE(L119,1,2,3,4,5)))","v":""},{"$f":"SUM(M119:N119)","v":0},null,null,{"$f":"IF(OR(Q119<7,NOT(ISNUMBER(P119))),\"\",IF(P119=0,\"\",CHOOSE(P119,1,2,3,4,5)))","v":""},{"$f":"SUM(Q119:R119)","v":0},null,{"$f":"IF(OR(T119<7,NOT(ISNUMBER(#REF!))),\"\",IF(#REF!=0,\"\",CHOOSE(#REF!,1,2,3,4,5)))","v":""},{"$f":"SUM(T119:U119)","v":0},null,{"$f":"IF(OR(W119<7,NOT(ISNUMBER(#REF!))),\"\",IF(#REF!=0,\"\",CHOOSE(#REF!,1,2,3,4,5)))","v":""},{"$f":"SUM(W119:X119)","v":0},"Sol",{"$f":"LARGE(G118:G124,1)+LARGE(G118:G124,2)+LARGE(G118:G124,3)","v":0}]
[null,null,null,null,null,"",0,null,null,"",0,null,null,"",0,null,null,"",0,null,{"$f":"IF(OR(T120<7,NOT(ISNUMBER(#REF!))),\"\",IF(#REF!=0,\"\",CHOOSE(#REF!,1,2,3,4,5)))","v":""},0,null,{"$f":"IF(OR(W120<7,NOT(ISNUMBER(#REF!))),\"\",IF(#REF!=0,\"\",CHOOSE(#REF!,1,2,3,4,5)))","v":""},0,"Saut ",{"$f":"LARGE(K118:K124,1)+LARGE(K118:K124,2)+LARGE(K118:K124,3)","v":0}]
[null,null,null,null,null,"",0,null,null,"",0,null,null,"",0,null,null,"",0,null,{"$f":"IF(OR(T121<7,NOT(ISNUMBER(#REF!))),\"\",IF(#REF!=0,\"\",CHOOSE(#REF!,1,2,3,4,5)))","v":""},0,null,{"$f":"IF(OR(W121<7,NOT(ISNUMBER(#REF!))),\"\",IF(#REF!=0,\"\",CHOOSE(#REF!,1,2,3,4,5)))","v":""},0,"BP ",{"$f":"LARGE(O118:O124,1)+LARGE(O118:O124,2)+LARGE(O118:O124,3)","v":0}]
[null,null,null,null,null,{"$f":"IF(OR(E122<7,NOT(ISNUMBER(D122))),\"\",IF(D122=0,\"\",CHOOSE(D122,1,2,3,4,5)))","v":""},{"$f":"SUM(E122:F122)","v":0},null,null,{"$f":"IF(OR(I122<7,NOT(ISNUMBER(H122))),\"\",IF(H122=0,\"\",CHOOSE(H122,1,2,3,4,5)))","v":""},{"$f":"SUM(I122:J122)","v":0},null,null,{"$f":"IF(OR(M122<7,NOT(ISNUMBER(L122))),\"\",IF(L122=0,\"\",CHOOSE(L122,1,2,3,4,5)))","v":""},{"$f":"SUM(M122:N122)","v":0},null,null,{"$f":"IF(OR(Q122<7,NOT(ISNUMBER(P122))),\"\",IF(P122=0,\"\",CHOOSE(P122,1,2,3,4,5)))","v":""},{"$f":"SUM(Q122:R122)","v":0},null,{"$f":"IF(OR(T122<7,NOT(ISNUMBER(#REF!))),\"\",IF(#REF!=0,\"\",CHOOSE(#REF!,1,2,3,4,5)))","v":""},{"$f":"SUM(T122:U122)","v":0},null,{"$f":"IF(OR(W122<7,NOT(ISNUMBER(#REF!))),\"\",IF(#REF!=0,\"\",CHOOSE(#REF!,1,2,3,4,5)))","v":""},{"$f":"SUM(W122:X122)","v":0},"BF",{"$f":"LARGE(S118:S124,1)+LARGE(S118:S124,2)+LARGE(S118:S124,3)","v":0}]
[null,null,null,null,null,"",0,null,null,"",0,null,null,"",0,null,null,"",0,null,{"$f":"IF(OR(T123<7,NOT(ISNUMBER(#REF!))),\"\",IF(#REF!=0,\"\",CHOOSE(#REF!,1,2,3,4,5)))","v":""},0,null,{"$f":"IF(OR(W123<7,NOT(ISNUMBER(#REF!))),\"\",IF(#REF!=0,\"\",CHOOSE(#REF!,1,2,3,4,5)))","v":""},0,"Arçons ",{"$f":"LARGE(V118:V124,1)+LARGE(V118:V124,2)+LARGE(V118:V124,3)","v":0}]
[null,null,null,null,null,"",null,null,null,null,null,null,null,null,null,null,null,null,null,null,null,null,null,null,null,"Anneaux",{"$f":"LARGE(Y118:Y124,1)+LARGE(Y118:Y124,2)+LARGE(Y118:Y124,3)","v":0}]
[null,null,"Total",null,null,null,{"$f":"SUM(G118:G124)","v":0},null,null,null,{"$f":"SUM(K118:K124)","v":0},null,null,null,{"$f":"SUM(O118:O124)","v":0},null,null,null,{"$f":"SUM(S118:S124)","v":0},null,null,{"$f":"SUM(V118:V124)","v":0},null,null,{"$f":"SUM(Y118:Y124)","v":0},"Total Gal ",{"$f":"SUM(AA118:AA124)","v":0}]
[]
[]
[11]
[]
[null,"Nom ","Prénom","Degré ","Note ",null,"Sol ","Degré ","Note ",null,"Saut ","Degré ","Note ",null,"BP ","Degré ","Note ",null,"BF","Note ",null,"Arçons","Note ",null,"AN ","Total; des 3 Meilleurs notes "]
[null,null,null,2,8,{"$f":"IF(OR(E131<7,NOT(ISNUMBER(D131))),\"\",IF(D131=0,\"\",CHOOSE(D131,1,2,3,4,5)))","v":2},{"$f":"SUM(E131:F131)","v":10},null,null,{"$f":"IF(OR(I131<7,NOT(ISNUMBER(H131))),\"\",IF(H131=0,\"\",CHOOSE(H131,1,2,3,4,5)))","v":""},{"$f":"SUM(I131:J131)","v":0},null,null,{"$f":"IF(OR(M131<7,NOT(ISNUMBER(L131))),\"\",IF(L131=0,\"\",CHOOSE(L131,1,2,3,4,5)))","v":""},{"$f":"SUM(M131:N131)","v":0},null,null,{"$f":"IF(OR(Q131<7,NOT(ISNUMBER(P131))),\"\",IF(P131=0,\"\",CHOOSE(P131,1,2,3,4,5)))","v":""},{"$f":"SUM(Q131:R131)","v":0},null,{"$f":"IF(OR(T131<7,NOT(ISNUMBER(#REF!))),\"\",IF(#REF!=0,\"\",CHOOSE(#REF!,1,2,3,4,5)))","v":""},{"$f":"SUM(T131:U131)","v":0},null,{"$f":"IF(OR(W131<7,NOT(ISNUMBER(#REF!))),\"\",IF(#REF!=0,\"\",CHOOSE(#REF!,1,2,3,4,5)))","v":""},{"$f":"SUM(W131:X131)","v":0}]
[null,null,null,null,null,{"$f":"IF(OR(E132<7,NOT(ISNUMBER(D132))),\"\",IF(D132=0,\"\",CHOOSE(D132,1,2,3,4,5)))","v":""},{"$f":"SUM(E132:F132)","v":0},null,null,{"$f":"IF(OR(I132<7,NOT(ISNUMBER(H132))),\"\",IF(H132=0,\"\",CHOOSE(H132,1,2,3,4,5)))","v":""},{"$f":"SUM(I132:J132)","v":0},null,null,{"$f":"IF(OR(M132<7,NOT(ISNUMBER(L132))),\"\",IF(L132=0,\"\",CHOOSE(L132,1,2,3,4,5)))","v":""},{"$f":"SUM(M132:N132)","v":0},null,null,{"$f":"IF(OR(Q132<7,NOT(ISNUMBER(P132))),\"\",IF(P132=0,\"\",CHOOSE(P132,1,2,3,4,5)))","v":""},{"$f":"SUM(Q132:R132)","v":0},null,{"$f":"IF(OR(T132<7,NOT(ISNUMBER(#REF!))),\"\",IF(#REF!=0,\"\",CHOOSE(#REF!,1,2,3,4,5)))","v":""},{"$f":"SUM(T132:U132)","v":0},null,{"$f":"IF(OR(W132<7,NOT(ISNUMBER(#REF!))),\"\",IF(#REF!=0,\"\",CHOOSE(#REF!,1,2,3,4,5)))","v":""},{"$f":"SUM(W132:X132)","v":0},"Sol",{"$f":"LARGE(G131:G137,1)+LARGE(G131:G137,2)+LARGE(G131:G137,3)","v":10}]
[null,null,null,null,null,"",0,null,null,"",0,null,null,"",0,null,null,"",0,null,{"$f":"IF(OR(T133<7,NOT(ISNUMBER(#REF!))),\"\",IF(#REF!=0,\"\",CHOOSE(#REF!,1,2,3,4,5)))","v":""},0,null,{"$f":"IF(OR(W133<7,NOT(ISNUMBER(#REF!))),\"\",IF(#REF!=0,\"\",CHOOSE(#REF!,1,2,3,4,5)))","v":""},0,"Saut ",{"$f":"LARGE(K131:K137,1)+LARGE(K131:K137,2)+LARGE(K131:K137,3)","v":0}]
[null,null,null,null,null,"",0,null,null,"",0,null,null,"",0,null,null,"",0,null,{"$f":"IF(OR(T134<7,NOT(ISNUMBER(#REF!))),\"\",IF(#REF!=0,\"\",CHOOSE(#REF!,1,2,3,4,5)))","v":""},0,null,{"$f":"IF(OR(W134<7,NOT(ISNUMBER(#REF!))),\"\",IF(#REF!=0,\"\",CHOOSE(#REF!,1,2,3,4,5)))","v":""},0,"BP ",{"$f":"LARGE(O131:O137,1)+LARGE(O131:O137,2)+LARGE(O131:O137,3)","v":0}]
[null,null,null,null,null,{"$f":"IF(OR(E135<7,NOT(ISNUMBER(D135))),\"\",IF(D135=0,\"\",CHOOSE(D135,1,2,3,4,5)))","v":""},{"$f":"SUM(E135:F135)","v":0},null,null,{"$f":"IF(OR(I135<7,NOT(ISNUMBER(H135))),\"\",IF(H135=0,\"\",CHOOSE(H135,1,2,3,4,5)))","v":""},{"$f":"SUM(I135:J135)","v":0},null,null,{"$f":"IF(OR(M135<7,NOT(ISNUMBER(L135))),\"\",IF(L135=0,\"\",CHOOSE(L135,1,2,3,4,5)))","v":""},{"$f":"SUM(M135:N135)","v":0},null,null,{"$f":"IF(OR(Q135<7,NOT(ISNUMBER(P135))),\"\",IF(P135=0,\"\",CHOOSE(P135,1,2,3,4,5)))","v":""},{"$f":"SUM(Q135:R135)","v":0},null,{"$f":"IF(OR(T135<7,NOT(ISNUMBER(#REF!))),\"\",IF(#REF!=0,\"\",CHOOSE(#REF!,1,2,3,4,5)))","v":""},{"$f":"SUM(T135:U135)","v":0},null,{"$f":"IF(OR(W135<7,NOT(ISNUMBER(#REF!))),\"\",IF(#REF!=0,\"\",CHOOSE(#REF!,1,2,3,4,5)))","v":""},{"$f":"SUM(W135:X135)","v":0},"BF",{"$f":"LARGE(S131:S137,1)+LARGE(S131:S137,2)+LARGE(S131:S137,3)","v":0}]
[null,null,null,null,null,"",0,null,null,"",0,null,null,"",0,null,null,"",0,null,{"$f":"IF(OR(T136<7,NOT(ISNUMBER(#REF!))),\"\",IF(#REF!=0,\"\",CHOOSE(#REF!,1,2,3,4,5)))","v":""},0,null,{"$f":"IF(OR(W136<7,NOT(ISNUMBER(#REF!))),\"\",IF(#REF!=0,\"\",CHOOSE(#REF!,1,2,3,4,5)))","v":""},0,"Arçons ",{"$f":"LARGE(V131:V137,1)+LARGE(V131:V137,2)+LARGE(V131:V137,3)","v":0}]
[null,null,null,null,null,"",null,null,null,null,null,null,null,null,null,null,null,null,null,null,null,null,null,null,null,"Anneaux",{"$f":"LARGE(Y131:Y137,1)+LARGE(Y131:Y137,2)+LARGE(Y131:Y137,3)","v":0}]
[null,null,"Total",null,null,null,{"$f":"SUM(G131:G137)","v":10},null,0,null,{"$f":"SUM(K131:K137)","v":0},null,null,null,{"$f":"SUM(O131:O137)","v":0},null,null,null,{"$f":"SUM(S131:S137)","v":0},{"$f":"SUM(T131:T137)","v":0},null,{"$f":"SUM(V131:V137)","v":0},null,null,{"$f":"SUM(Y131:Y137)","v":0},"Total Gal ",{"$f":"SUM(AA131:AA137)","v":10}]
[]
[]
[]
[]
[]
[]
[]
[]
[]
[]
[12]
[]
[null,"Nom ","Prénom","Degré ","Note ",null,"Sol ","Degré ","Note ",null,"Saut ","Degré ","Note ",null,"BP ","Degré ","Note ",null,"BF","Note ",null,"Arçons","Note ",null,"AN ","Total; des 3 Meilleurs notes "]
[null,null,null,null,null,{"$f":"IF(OR(E152<7,NOT(ISNUMBER(D152))),\"\",IF(D152=0,\"\",CHOOSE(D152,1,2,3,4,5)))","v":""},{"$f":"SUM(E152:F152)","v":0},null,null,{"$f":"IF(OR(I152<7,NOT(ISNUMBER(H152))),\"\",IF(H152=0,\"\",CHOOSE(H152,1,2,3,4,5)))","v":""},{"$f":"SUM(I152:J152)","v":0},null,null,{"$f":"IF(OR(M152<7,NOT(ISNUMBER(L152))),\"\",IF(L152=0,\"\",CHOOSE(L152,1,2,3,4,5)))","v":""},{"$f":"SUM(M152:N152)","v":0},null,null,{"$f":"IF(OR(Q152<7,NOT(ISNUMBER(P152))),\"\",IF(P152=0,\"\",CHOOSE(P152,1,2,3,4,5)))","v":""},{"$f":"SUM(Q152:R152)","v":0},null,{"$f":"IF(OR(T152<7,NOT(ISNUMBER(#REF!))),\"\",IF(#REF!=0,\"\",CHOOSE(#REF!,1,2,3,4,5)))","v":""},{"$f":"SUM(T152:U152)","v":0},null,{"$f":"IF(OR(W152<7,NOT(ISNUMBER(#REF!))),\"\",IF(#REF!=0,\"\",CHOOSE(#REF!,1,2,3,4,5)))","v":""},{"$f":"SUM(W152:X152)","v":0}]
[null,null,null,null,null,{"$f":"IF(OR(E153<7,NOT(ISNUMBER(D153))),\"\",IF(D153=0,\"\",CHOOSE(D153,1,2,3,4,5)))","v":""},{"$f":"SUM(E153:F153)","v":0},null,null,{"$f":"IF(OR(I153<7,NOT(ISNUMBER(H153))),\"\",IF(H153=0,\"\",CHOOSE(H153,1,2,3,4,5)))","v":""},{"$f":"SUM(I153:J153)","v":0},null,null,{"$f":"IF(OR(M153<7,NOT(ISNUMBER(L153))),\"\",IF(L153=0,\"\",CHOOSE(L153,1,2,3,4,5)))","v":""},{"$f":"SUM(M153:N153)","v":0},null,null,{"$f":"IF(OR(Q153<7,NOT(ISNUMBER(P153))),\"\",IF(P153=0,\"\",CHOOSE(P153,1,2,3,4,5)))","v":""},{"$f":"SUM(Q153:R153)","v":0},null,{"$f":"IF(OR(T153<7,NOT(ISNUMBER(#REF!))),\"\",IF(#REF!=0,\"\",CHOOSE(#REF!,1,2,3,4,5)))","v":""},{"$f":"SUM(T153:U153)","v":0},null,{"$f":"IF(OR(W153<7,NOT(ISNUMBER(#REF!))),\"\",IF(#REF!=0,\"\",CHOOSE(#REF!,1,2,3,4,5)))","v":""},{"$f":"SUM(W153:X153)","v":0},"Sol",{"$f":"LARGE(G152:G158,1)+LARGE(G152:G158,2)+LARGE(G152:G158,3)","v":0}]
[null,null,null,null,null,"",0,null,null,"",0,null,null,"",0,null,null,"",0,null,{"$f":"IF(OR(T154<7,NOT(ISNUMBER(#REF!))),\"\",IF(#REF!=0,\"\",CHOOSE(#REF!,1,2,3,4,5)))","v":""},0,null,{"$f":"IF(OR(W154<7,NOT(ISNUMBER(#REF!))),\"\",IF(#REF!=0,\"\",CHOOSE(#REF!,1,2,3,4,5)))","v":""},0,"Saut ",{"$f":"LARGE(K152:K158,1)+LARGE(K152:K158,2)+LARGE(K152:K158,3)","v":0}]
[null,null,null,null,null,"",0,null,null,"",0,null,null,"",0,null,null,"",0,null,{"$f":"IF(OR(T155<7,NOT(ISNUMBER(#REF!))),\"\",IF(#REF!=0,\"\",CHOOSE(#REF!,1,2,3,4,5)))","v":""},0,null,{"$f":"IF(OR(W155<7,NOT(ISNUMBER(#REF!))),\"\",IF(#REF!=0,\"\",CHOOSE(#REF!,1,2,3,4,5)))","v":""},0,"BP ",{"$f":"LARGE(O152:O158,1)+LARGE(O152:O158,2)+LARGE(O152:O158,3)","v":0}]
[null,null,null,null,null,{"$f":"IF(OR(E156<7,NOT(ISNUMBER(D156))),\"\",IF(D156=0,\"\",CHOOSE(D156,1,2,3,4,5)))","v":""},{"$f":"SUM(E156:F156)","v":0},null,null,{"$f":"IF(OR(I156<7,NOT(ISNUMBER(H156))),\"\",IF(H156=0,\"\",CHOOSE(H156,1,2,3,4,5)))","v":""},{"$f":"SUM(I156:J156)","v":0},null,null,{"$f":"IF(OR(M156<7,NOT(ISNUMBER(L156))),\"\",IF(L156=0,\"\",CHOOSE(L156,1,2,3,4,5)))","v":""},{"$f":"SUM(M156:N156)","v":0},null,null,{"$f":"IF(OR(Q156<7,NOT(ISNUMBER(P156))),\"\",IF(P156=0,\"\",CHOOSE(P156,1,2,3,4,5)))","v":""},{"$f":"SUM(Q156:R156)","v":0},null,{"$f":"IF(OR(T156<7,NOT(ISNUMBER(#REF!))),\"\",IF(#REF!=0,\"\",CHOOSE(#REF!,1,2,3,4,5)))","v":""},{"$f":"SUM(T156:U156)","v":0},null,{"$f":"IF(OR(W156<7,NOT(ISNUMBER(#REF!))),\"\",IF(#REF!=0,\"\",CHOOSE(#REF!,1,2,3,4,5)))","v":""},{"$f":"SUM(W156:X156)","v":0},"BF",{"$f":"LARGE(S152:S158,1)+LARGE(S152:S158,2)+LARGE(S152:S158,3)","v":0}]
[null,null,null,null,null,"",0,null,null,"",0,null,null,"",0,null,null,"",0,null,{"$f":"IF(OR(T157<7,NOT(ISNUMBER(#REF!))),\"\",IF(#REF!=0,\"\",CHOOSE(#REF!,1,2,3,4,5)))","v":""},0,null,{"$f":"IF(OR(W157<7,NOT(ISNUMBER(#REF!))),\"\",IF(#REF!=0,\"\",CHOOSE(#REF!,1,2,3,4,5)))","v":""},0,"Arçons ",{"$f":"LARGE(V152:V158,1)+LARGE(V152:V158,2)+LARGE(V152:V158,3)","v":0}]
[null,null,null,null,null,"",null,null,null,null,null,null,null,null,null,null,null,null,null,null,null,null,null,null,null,"Anneaux",{"$f":"LARGE(Y152:Y158,1)+LARGE(Y152:Y158,2)+LARGE(Y152:Y158,3)","v":0}]
[null,null,"Total",null,null,null,{"$f":"SUM(G152:G158)","v":0},null,null,null,{"$f":"SUM(K152:K158)","v":0},null,null,null,{"$f":"SUM(O152:O158)","v":0},null,null,null,{"$f":"SUM(S152:S158)","v":0},{"$f":"SUM(T152:T158)","v":0},null,{"$f":"SUM(V152:V158)","v":0},null,null,{"$f":"SUM(Y152:Y158)","v":0},"Total Gal ",{"$f":"SUM(AA152:AA158)","v":0}]

{"sheet":"Poussins JP R 1","index":3,"n_rows":79,"n_cols":27,"rows_kept":79,"cut":false,"hidden":false,"merged":[]}
[]
[]
[]
[1,"JEANNE ARC ","MOUVAUX "]
[]
[null,"Nom ","Prénom","Degré ","Note ",null,"Sol ","Degré ","Note ",null,"Saut ","Degré ","Note ",null,"BP ","Degré ","Note ",null,"BF","Note ",null,"Arçons","Note ",null,"AN ","Total; des 10 Meilleurs notes "]
[1,null,null,4,8.9499999999999993,{"$f":"IF(OR(E7<7,NOT(ISNUMBER(D7))),\"\",IF(D7=0,\"\",CHOOSE(D7,1,2,3,4,5)))","v":4},{"$f":"SUM(E7:F7)","v":12.95},4,8.75,{"$f":"IF(OR(I7<7,NOT(ISNUMBER(H7))),\"\",IF(H7=0,\"\",CHOOSE(H7,1,2,3,4,5)))","v":4},{"$f":"SUM(I7:J7)","v":12.75},3,8.4,{"$f":"IF(OR(M7<7,NOT(ISNUMBER(L7))),\"\",IF(L7=0,\"\",CHOOSE(L7,1,2,3,4,5)))","v":3},{"$f":"SUM(M7:N7)","v":11.4},4,8.25,{"$f":"IF(OR(Q7<7,NOT(ISNUMBER(P7))),\"\",IF(P7=0,\"\",CHOOSE(P7,1,2,3,4,5)))","v":4},{"$f":"SUM(Q7:R7)","v":12.25},6.45,{"$f":"IF(OR(T7<7,NOT(ISNUMBER(#REF!))),\"\",IF(#REF!=0,\"\",CHOOSE(#REF!,1,2,3,4,5)))","v":""},{"$f":"SUM(T7:U7)","v":6.45},8.25,{"$f":"IF(OR(W7<7,NOT(ISNUMBER(#REF!))),\"\",IF(#REF!=0,\"\",CHOOSE(#REF!,1,2,3,4,5)))","v":""},{"$f":"SUM(W7:X7)","v":8.25}]
[2,null,null,3,8.6999999999999993,{"$f":"IF(OR(E8<7,NOT(ISNUMBER(D8))),\"\",IF(D8=0,\"\",CHOOSE(D8,1,2,3,4,5)))","v":3},{"$f":"SUM(E8:F8)","v":11.7},3,9.4,{"$f":"IF(OR(I8<7,NOT(ISNUMBER(H8))),\"\",IF(H8=0,\"\",CHOOSE(H8,1,2,3,4,5)))","v":3},{"$f":"SUM(I8:J8)","v":12.4},2,9.4,{"$f":"IF(OR(M8<7,NOT(ISNUMBER(L8))),\"\",IF(L8=0,\"\",CHOOSE(L8,1,2,3,4,5)))","v":2},{"$f":"SUM(M8:N8)","v":11.4},3,8.4499999999999993,{"$f":"IF(OR(Q8<7,NOT(ISNUMBER(P8))),\"\",IF(P8=0,\"\",CHOOSE(P8,1,2,3,4,5)))","v":3},{"$f":"SUM(Q8:R8)","v":11.45},6.1,{"$f":"IF(OR(T8<7,NOT(ISNUMBER(#REF!))),\"\",IF(#REF!=0,\"\",CHOOSE(#REF!,1,2,3,4,5)))","v":""},{"$f":"SUM(T8:U8)","v":6.1},5.3,{"$f":"IF(OR(W8<7,NOT(ISNUMBER(#REF!))),\"\",IF(#REF!=0,\"\",CHOOSE(#REF!,1,2,3,4,5)))","v":""},{"$f":"SUM(W8:X8)","v":5.3},"Sol",{"$f":"LARGE(G7:G24,1)+LARGE(G7:G24,2)+LARGE(G7:G24,3)+LARGE(G7:G24,4)+LARGE(G7:G24,5)+LARGE(G7:G24,6)+LARGE(G7:G24,7)+LARGE(G7:G24,8)+LARGE(G7:G24,9)+LARGE(G7:G24,10)","v":112.10000000000001}]
[3,null,null,3,7.5,3,10.5,3,5,"",5,2,9.5,2,11.5,2,9.3000000000000007,2,11.3,4.95,{"$f":"IF(OR(T9<7,NOT(ISNUMBER(#REF!))),\"\",IF(#REF!=0,\"\",CHOOSE(#REF!,1,2,3,4,5)))","v":""},4.95,6.8,{"$f":"IF(OR(W9<7,NOT(ISNUMBER(#REF!))),\"\",IF(#REF!=0,\"\",CHOOSE(#REF!,1,2,3,4,5)))","v":""},6.8,"Saut ",{"$f":"LARGE(K7:K24,1)+LARGE(K7:K24,2)+LARGE(K7:K24,3)+LARGE(K7:K24,4)+LARGE(K7:K24,5)+LARGE(K7:K24,6)+LARGE(K7:K24,7)+LARGE(K7:K24,8)+LARGE(K7:K24,9)+LARGE(K7:K24,10)","v":113.10000000000001}]
[4,null,null,1,7.5,1,8.5,2,8.9,2,10.9,2,7.75,2,9.75,2,8.1,2,10.1,3.4,{"$f":"IF(OR(T10<7,NOT(ISNUMBER(#REF!))),\"\",IF(#REF!=0,\"\",CHOOSE(#REF!,1,2,3,4,5)))","v":""},3.4,8.9,{"$f":"IF(OR(W10<7,NOT(ISNUMBER(#REF!))),\"\",IF(#REF!=0,\"\",CHOOSE(#REF!,1,2,3,4,5)))","v":""},8.9,"BP ",{"$f":"LARGE(O7:O24,1)+LARGE(O7:O24,2)+LARGE(O7:O24,3)+LARGE(O7:O24,4)+LARGE(O7:O24,5)+LARGE(O7:O24,6)+LARGE(O7:O24,7)+LARGE(O7:O24,8)+LARGE(O7:O24,9)+LARGE(O7:O24,10)","v":111.29999999999998}]
[5,null,null,4,7.4,4,11.4,3,9.3000000000000007,3,12.3,3,9.25,3,12.25,4,8.9,4,12.9,6.5,null,6.5,8.3000000000000007,null,8.3000000000000007,"BF ",{"$f":"LARGE(S7:S24,1)+LARGE(S7:S24,2)+LARGE(S7:S24,3)+LARGE(S7:S24,4)+LARGE(S7:S24,5)+LARGE(S7:S24,6)+LARGE(S7:S24,7)+LARGE(S7:S24,8)+LARGE(S7:S24,9)+LARGE(S7:S24,10)","v":116.19999999999999}]
[6,null,null,4,9.3000000000000007,{"$f":"IF(OR(E12<7,NOT(ISNUMBER(D12))),\"\",IF(D12=0,\"\",CHOOSE(D12,1,2,3,4,5)))","v":4},{"$f":"SUM(E12:F12)","v":13.3},4,9.1,{"$f":"IF(OR(I12<7,NOT(ISNUMBER(H12))),\"\",IF(H12=0,\"\",CHOOSE(H12,1,2,3,4,5)))","v":4},{"$f":"SUM(I12:J12)","v":13.1},3,9.6,{"$f":"IF(OR(M12<7,NOT(ISNUMBER(L12))),\"\",IF(L12=0,\"\",CHOOSE(L12,1,2,3,4,5)))","v":3},{"$f":"SUM(M12:N12)","v":12.6},4,9.1999999999999993,{"$f":"IF(OR(Q12<7,NOT(ISNUMBER(P12))),\"\",IF(P12=0,\"\",CHOOSE(P12,1,2,3,4,5)))","v":4},{"$f":"SUM(Q12:R12)","v":13.2},7.6,null,{"$f":"SUM(T12:U12)","v":7.6},7.4,null,{"$f":"SUM(W12:X12)","v":7.4},"Arcons",{"$f":"LARGE(V7:V24,1)+LARGE(V7:V24,2)+LARGE(V7:V24,3)+LARGE(V7:V24,4)+LARGE(V7:V24,5)+LARGE(V7:V24,6)+LARGE(V7:V24,7)+LARGE(V7:V24,8)+LARGE(V7:V24,9)+LARGE(V7:V24,10)","v":54.6}]
[7,null,null,3,7.8,3,10.8,3,9.1,3,12.1,2,8.35,2,10.35,2,8.65,2,10.65,3.85,null,3.85,3.8,null,3.8,"Anneaux ",{"$f":"LARGE(Y7:Y24,1)+LARGE(Y7:Y24,2)+LARGE(Y7:Y24,3)+LARGE(Y7:Y24,4)+LARGE(Y7:Y24,5)+LARGE(Y7:Y24,6)+LARGE(Y7:Y24,7)+LARGE(Y7:Y24,8)+LARGE(Y7:Y24,9)+LARGE(Y7:Y24,10)","v":72}]
[8,null,null,3,8.8000000000000007,3,11.8,3,9.6,3,12.6,3,7.85,3,10.85,3,9.1,3,12.1,5.4,null,5.4,8.35,null,8.35]
[9,null,null,3,8.85,3,11.85,3,8.75,3,11.75,3,9.1999999999999993,3,12.2,3,9.4,3,12.4,6.45,null,6.45,8.35,null,8.35]
[10,null,null,1,8.3000000000000007,1,9.3000000000000007,2,8.1999999999999993,2,10.199999999999999,2,7,2,9,2,7.85,2,9.85,3.9,null,3.9,6.55,null,6.55]
[11,null,null,null,null,"",0,null,null,"",0,null,null,"",0,null,null,"",0,null,null,0,null,null,0]
[12,null,null,null,null,"",0,null,null,"",0,null,null,"",0,null,null,"",0,null,null,0,null,null,0]
[13,null,null,null,null,"",0,null,null,"",0,null,null,"",0,null,null,"",0,null,null,0,null,null,0]
[14,null,null,null,null,"",0,null,null,"",0,null,null,"",0,null,null,"",0,null,null,0,null,null,0]
[15,null,null,null,null,"",0,null,null,{"$f":"IF(OR(I21<7,NOT(ISNUMBER(H21))),\"\",IF(H21=0,\"\",CHOOSE(H21,1,2,3,4,5)))","v":""},{"$f":"SUM(I21:J21)","v":0},null,null,{"$f":"IF(OR(M21<7,NOT(ISNUMBER(L21))),\"\",IF(L21=0,\"\",CHOOSE(L21,1,2,3,4,5)))","v":""},{"$f":"SUM(M21:N21)","v":0},null,null,{"$f":"IF(OR(Q21<7,NOT(ISNUMBER(P21))),\"\",IF(P21=0,\"\",CHOOSE(P21,1,2,3,4,5)))","v":""},{"$f":"SUM(Q21:R21)","v":0},null,null,{"$f":"SUM(T21:U21)","v":0},null,null,{"$f":"SUM(W21:X21)","v":0}]
[16,null,null,null,null,{"$f":"IF(OR(E22<7,NOT(ISNUMBER(D22))),\"\",IF(D22=0,\"\",CHOOSE(D22,1,2,3,4,5)))","v":""},{"$f":"SUM(E22:F22)","v":0},null,null,"",0,null,null,"",0,null,null,"",0,null,null,0,null,null,0]
[17,null,null,null,null,"",0,null,null,"",0,null,null,"",0,null,null,"",0,null,null,0,null,null,0]
[null,null,null,null,null,"",0,null,null,"",0,null,null,null,0,null,null,null,0,null,null,0,null,null,0]
[null,null,"Total",null,null,null,{"$f":"SUM(G7:G24)","v":112.09999999999998},null,null,null,{"$f":"SUM(K7:K24)","v":113.09999999999998},null,null,null,{"$f":"SUM(O7:O24)","v":111.29999999999998},null,null,null,{"$f":"SUM(S7:S24)","v":116.2},null,null,{"$f":"SUM(V7:V24)","v":54.6},null,null,{"$f":"SUM(Y7:Y24)","v":71.999999999999986},"Total Gal ",{"$f":"SUM(AA7:AA23)","v":579.29999999999995}]
[]
[]
[3,"JEUNE GARDE ","ARMENTIERES"]
[]
[null,"Nom ","Prénom","Degré ","Note ",null,"Sol ","Degré ","Note ",null,"Saut ","Degré ","Note ",null,"BP ","Degré ","Note ",null,"BF","Note ",null,"Arçons","Note ",null,"AN ","Total; des 10 Meilleurs notes "]
[1,null,null,3,7.4,{"$f":"IF(OR(E31<7,NOT(ISNUMBER(D31))),\"\",IF(D31=0,\"\",CHOOSE(D31,1,2,3,4,5)))","v":3},{"$f":"SUM(E31:F31)","v":10.4},3,8.1999999999999993,{"$f":"IF(OR(I31<7,NOT(ISNUMBER(H31))),\"\",IF(H31=0,\"\",CHOOSE(H31,1,2,3,4,5)))","v":3},{"$f":"SUM(I31:J31)","v":11.2},3,7.8,{"$f":"IF(OR(M31<7,NOT(ISNUMBER(L31))),\"\",IF(L31=0,\"\",CHOOSE(L31,1,2,3,4,5)))","v":3},{"$f":"SUM(M31:N31)","v":10.8},2,8.6,{"$f":"IF(OR(Q31<7,NOT(ISNUMBER(P31))),\"\",IF(P31=0,\"\",CHOOSE(P31,1,2,3,4,5)))","v":2},{"$f":"SUM(Q31:R31)","v":10.6},3.9,{"$f":"IF(OR(T31<7,NOT(ISNUMBER(#REF!))),\"\",IF(#REF!=0,\"\",CHOOSE(#REF!,1,2,3,4,5)))","v":""},{"$f":"SUM(T31:U31)","v":3.9},4.9000000000000004,{"$f":"IF(OR(W31<7,NOT(ISNUMBER(#REF!))),\"\",IF(#REF!=0,\"\",CHOOSE(#REF!,1,2,3,4,5)))","v":""},{"$f":"SUM(W31:X31)","v":4.9000000000000004}]
[2,null,null,3,6.05,{"$f":"IF(OR(E32<7,NOT(ISNUMBER(D32))),\"\",IF(D32=0,\"\",CHOOSE(D32,1,2,3,4,5)))","v":""},{"$f":"SUM(E32:F32)","v":6.05},2,8.3000000000000007,{"$f":"IF(OR(I32<7,NOT(ISNUMBER(H32))),\"\",IF(H32=0,\"\",CHOOSE(H32,1,2,3,4,5)))","v":2},{"$f":"SUM(I32:J32)","v":10.3},3,7.95,{"$f":"IF(OR(M32<7,NOT(ISNUMBER(L32))),\"\",IF(L32=0,\"\",CHOOSE(L32,1,2,3,4,5)))","v":3},{"$f":"SUM(M32:N32)","v":10.95},2,8.8000000000000007,{"$f":"IF(OR(Q32<7,NOT(ISNUMBER(P32))),\"\",IF(P32=0,\"\",CHOOSE(P32,1,2,3,4,5)))","v":2},{"$f":"SUM(Q32:R32)","v":10.8},2.5,{"$f":"IF(OR(T32<7,NOT(ISNUMBER(#REF!))),\"\",IF(#REF!=0,\"\",CHOOSE(#REF!,1,2,3,4,5)))","v":""},{"$f":"SUM(T32:U32)","v":2.5},7.65,{"$f":"IF(OR(W32<7,NOT(ISNUMBER(#REF!))),\"\",IF(#REF!=0,\"\",CHOOSE(#REF!,1,2,3,4,5)))","v":""},{"$f":"SUM(W32:X32)","v":7.65},"Sol",{"$f":"LARGE(G31:G48,1)+LARGE(G31:G48,2)+LARGE(G31:G48,3)+LARGE(G31:G48,4)+LARGE(G31:G48,5)+LARGE(G31:G48,6)+LARGE(G31:G48,7)+LARGE(G31:G48,8)+LARGE(G31:G48,9)+LARGE(G31:G48,10)","v":98.55}]
[3,null,null,1,8.65,{"$f":"IF(OR(E33<7,NOT(ISNUMBER(D33))),\"\",IF(D33=0,\"\",CHOOSE(D33,1,2,3,4,5)))","v":1},9.65,2,8.4499999999999993,2,10.45,1,8.8000000000000007,1,9.8000000000000007,2,7.25,2,9.25,2.6,{"$f":"IF(OR(T33<7,NOT(ISNUMBER(#REF!))),\"\",IF(#REF!=0,\"\",CHOOSE(#REF!,1,2,3,4,5)))","v":""},{"$f":"SUM(T33:U33)","v":2.6},2.8,{"$f":"IF(OR(W33<7,NOT(ISNUMBER(#REF!))),\"\",IF(#REF!=0,\"\",CHOOSE(#REF!,1,2,3,4,5)))","v":""},2.8,"Saut ",{"$f":"LARGE(K31:K48,1)+LARGE(K31:K48,2)+LARGE(K31:K48,3)+LARGE(K31:K48,4)+LARGE(K31:K48,5)+LARGE(K31:K48,6)+LARGE(K31:K48,7)+LARGE(K31:K48,8)+LARGE(K31:K48,9)+LARGE(K31:K48,10)","v":102.24999999999999}]
[4,null,null,2,5.85,"",5.85,2,8.5500000000000007,2,10.55,2,8.8000000000000007,2,10.8,2,8.85,2,10.85,1.85,{"$f":"IF(OR(T34<7,NOT(ISNUMBER(#REF!))),\"\",IF(#REF!=0,\"\",CHOOSE(#REF!,1,2,3,4,5)))","v":""},1.85,3.35,{"$f":"IF(OR(W34<7,NOT(ISNUMBER(#REF!))),\"\",IF(#REF!=0,\"\",CHOOSE(#REF!,1,2,3,4,5)))","v":""},3.35,"BP ",{"$f":"LARGE(O31:O48,1)+LARGE(O31:O48,2)+LARGE(O31:O48,3)+LARGE(O31:O48,4)+LARGE(O31:O48,5)+LARGE(O31:O48,6)+LARGE(O31:O48,7)+LARGE(O31:O48,8)+LARGE(O31:O48,9)+LARGE(O31:O48,10)","v":107.34999999999998}]
[5,null,null,2,8.1,2,{"$f":"SUM(E35:F35)","v":10.1},2,8.1,2,10.1,2,7.3,2,9.3000000000000007,2,7.3,2,9.3000000000000007,3.7,{"$f":"IF(OR(T35<7,NOT(ISNUMBER(#REF!))),\"\",IF(#REF!=0,\"\",CHOOSE(#REF!,1,2,3,4,5)))","v":""},3.7,1.1499999999999999,{"$f":"IF(OR(W35<7,NOT(ISNUMBER(#REF!))),\"\",IF(#REF!=0,\"\",CHOOSE(#REF!,1,2,3,4,5)))","v":""},1.1499999999999999,"BF",{"$f":"LARGE(S31:S48,1)+LARGE(S31:S48,2)+LARGE(S31:S48,3)+LARGE(S31:S48,4)+LARGE(S31:S48,5)+LARGE(S31:S48,6)+LARGE(S31:S48,7)+LARGE(S31:S48,8)+LARGE(S31:S48,9)+LARGE(S31:S48,10)","v":99.649999999999991}]
[6,null,null,4,7.4,4,11.4,3,7.75,3,10.75,3,9.1999999999999993,3,12.2,3,8.75,3,11.75,3.5,{"$f":"IF(OR(T36<7,NOT(ISNUMBER(#REF!))),\"\",IF(#REF!=0,\"\",CHOOSE(#REF!,1,2,3,4,5)))","v":""},3.5,6.45,{"$f":"IF(OR(W36<7,NOT(ISNUMBER(#REF!))),\"\",IF(#REF!=0,\"\",CHOOSE(#REF!,1,2,3,4,5)))","v":""},6.45,"Arçons ",{"$f":"LARGE(V31:V48,1)+LARGE(V31:V48,2)+LARGE(V31:V48,3)+LARGE(V31:V48,4)+LARGE(V31:V48,5)+LARGE(V31:V48,6)+LARGE(V31:V48,7)+LARGE(V31:V48,8)+LARGE(V31:V48,9)+LARGE(V31:V48,10)","v":33.949999999999996}]
[7,null,null,4,8.4,4,12.4,3,9.4499999999999993,3,12.45,4,9.35,4,13.35,3,9,3,12,7.1,{"$f":"IF(OR(T37<7,NOT(ISNUMBER(#REF!))),\"\",IF(#REF!=0,\"\",CHOOSE(#REF!,1,2,3,4,5)))","v":""},7.1,8.25,{"$f":"IF(OR(W37<7,NOT(ISNUMBER(#REF!))),\"\",IF(#REF!=0,\"\",CHOOSE(#REF!,1,2,3,4,5)))","v":""},8.25,"Anneaux",{"$f":"LARGE(Y31:Y48,1)+LARGE(Y31:Y48,2)+LARGE(Y31:Y48,3)+LARGE(Y31:Y48,4)+LARGE(Y31:Y48,5)+LARGE(Y31:Y48,6)+LARGE(Y31:Y48,7)+LARGE(Y31:Y48,8)+LARGE(Y31:Y48,9)+LARGE(Y31:Y48,10)","v":44.04999999999999}]
[8,null,null,2,7.35,2,9.35,2,7,2,9,2,9.15,2,11.15,2,6.7,"",6.7,2.7,{"$f":"IF(OR(T38<7,NOT(ISNUMBER(#REF!))),\"\",IF(#REF!=0,\"\",CHOOSE(#REF!,1,2,3,4,5)))","v":""},2.7,1.8,{"$f":"IF(OR(W38<7,NOT(ISNUMBER(#REF!))),\"\",IF(#REF!=0,\"\",CHOOSE(#REF!,1,2,3,4,5)))","v":""},1.8]
[9,null,null,2,6.9,"",6.9,2,5,"",5,1,7.8,1,8.8000000000000007,2,6.8,"",6.8,1,{"$f":"IF(OR(T39<7,NOT(ISNUMBER(#REF!))),\"\",IF(#REF!=0,\"\",CHOOSE(#REF!,1,2,3,4,5)))","v":""},1,2.15,{"$f":"IF(OR(W39<7,NOT(ISNUMBER(#REF!))),\"\",IF(#REF!=0,\"\",CHOOSE(#REF!,1,2,3,4,5)))","v":""},2.15]
[10,null,null,2,8.1999999999999993,2,10.199999999999999,2,5,"",5,2,7.75,2,9.75,2,6.65,"",6.65,1,{"$f":"IF(OR(T40<7,NOT(ISNUMBER(#REF!))),\"\",IF(#REF!=0,\"\",CHOOSE(#REF!,1,2,3,4,5)))","v":""},1,1.3,{"$f":"IF(OR(W40<7,NOT(ISNUMBER(#REF!))),\"\",IF(#REF!=0,\"\",CHOOSE(#REF!,1,2,3,4,5)))","v":""},1.3]
[11,null,null,4,8.1,4,12.1,3,9.4499999999999993,3,12.45,2,7.25,2,9.25,3,8.6,3,11.6,5.0999999999999996,{"$f":"IF(OR(T41<7,NOT(ISNUMBER(#REF!))),\"\",IF(#REF!=0,\"\",CHOOSE(#REF!,1,2,3,4,5)))","v":""},5.0999999999999996,5.4,{"$f":"IF(OR(W41<7,NOT(ISNUMBER(#REF!))),\"\",IF(#REF!=0,\"\",CHOOSE(#REF!,1,2,3,4,5)))","v":""},5.4]
[12,null,null,null,null,"",0,null,null,"",0,null,null,"",0,null,null,"",0,null,{"$f":"IF(OR(T42<7,NOT(ISNUMBER(#REF!))),\"\",IF(#REF!=0,\"\",CHOOSE(#REF!,1,2,3,4,5)))","v":""},0,null,{"$f":"IF(OR(W42<7,NOT(ISNUMBER(#REF!))),\"\",IF(#REF!=0,\"\",CHOOSE(#REF!,1,2,3,4,5)))","v":""},0]
[13,null,null,null,null,"",0,null,null,"",0,null,null,"",0,null,null,"",0,null,{"$f":"IF(OR(T43<7,NOT(ISNUMBER(#REF!))),\"\",IF(#REF!=0,\"\",CHOOSE(#REF!,1,2,3,4,5)))","v":""},0,null,{"$f":"IF(OR(W43<7,NOT(ISNUMBER(#REF!))),\"\",IF(#REF!=0,\"\",CHOOSE(#REF!,1,2,3,4,5)))","v":""},0]
[14,null,null,null,null,"",0,null,null,"",0,null,null,"",0,null,null,"",0,null,{"$f":"IF(OR(T44<7,NOT(ISNUMBER(#REF!))),\"\",IF(#REF!=0,\"\",CHOOSE(#REF!,1,2,3,4,5)))","v":""},0,null,{"$f":"IF(OR(W44<7,NOT(ISNUMBER(#REF!))),\"\",IF(#REF!=0,\"\",CHOOSE(#REF!,1,2,3,4,5)))","v":""},0]
[15,null,null,null,null,"",0,null,null,"",0,null,null,"",0,null,null,"",0,null,{"$f":"IF(OR(T45<7,NOT(ISNUMBER(#REF!))),\"\",IF(#REF!=0,\"\",CHOOSE(#REF!,1,2,3,4,5)))","v":""},0,null,{"$f":"IF(OR(W45<7,NOT(ISNUMBER(#REF!))),\"\",IF(#REF!=0,\"\",CHOOSE(#REF!,1,2,3,4,5)))","v":""},0]
[16,null,null,null,null,"",0,null,null,"",0,null,null,"",0,null,null,"",0,null,{"$f":"IF(OR(T46<7,NOT(ISNUMBER(#REF!))),\"\",IF(#REF!=0,\"\",CHOOSE(#REF!,1,2,3,4,5)))","v":""},0,null,{"$f":"IF(OR(W46<7,NOT(ISNUMBER(#REF!))),\"\",IF(#REF!=0,\"\",CHOOSE(#REF!,1,2,3,4,5)))","v":""},0]
[17,null,null,null,null,"",0,null,null,"",0,null,null,"",0,null,null,"",0,null,{"$f":"IF(OR(T47<7,NOT(ISNUMBER(#REF!))),\"\",IF(#REF!=0,\"\",CHOOSE(#REF!,1,2,3,4,5)))","v":""},0,null,{"$f":"IF(OR(W47<7,NOT(ISNUMBER(#REF!))),\"\",IF(#REF!=0,\"\",CHOOSE(#REF!,1,2,3,4,5)))","v":""},0]
[null,null,null,null,null,"",{"$f":"SUM(E48:F48)","v":0},null,null,"",0,null,null,"",0,null,null,"",0,null,{"$f":"IF(OR(T48<7,NOT(ISNUMBER(#REF!))),\"\",IF(#REF!=0,\"\",CHOOSE(#REF!,1,2,3,4,5)))","v":""},0,null,{"$f":"IF(OR(W48<7,NOT(ISNUMBER(#REF!))),\"\",IF(#REF!=0,\"\",CHOOSE(#REF!,1,2,3,4,5)))","v":""},0]
[null,null,"Total",null,null,null,{"$f":"SUM(G31:G48)","v":104.4},null,null,null,{"$f":"SUM(K31:K48)","v":107.25},null,null,null,{"$f":"SUM(O31:O48)","v":116.15},null,null,null,{"$f":"SUM(S31:S48)","v":106.3},null,null,{"$f":"SUM(V31:V48)","v":34.949999999999996},null,null,{"$f":"SUM(Y31:Y48)","v":45.199999999999989},"Total Gal ",{"$f":"SUM(AA31:AA47)","v":485.79999999999995}]
[]
[]
[]
[]
[]
[]
[]
[]
[3,"JEUNE GARDE ","ARMENTIERES"]
[]
[null,"Nom ","Prénom","Degré ","Note ",null,"Sol ","Degré ","Note ",null,"Saut ","Degré ","Note ",null,"BP ","Degré ","Note ",null,"BF","Note ",null,"Arçons","Note ",null,"AN ","Total; des 10 Meilleurs notes "]
[1,null,null,3,7.4,{"$f":"IF(OR(E61<7,NOT(ISNUMBER(D61))),\"\",IF(D61=0,\"\",CHOOSE(D61,1,2,3,4,5)))","v":3},{"$f":"SUM(E61:F61)","v":10.4},3,8.1999999999999993,{"$f":"IF(OR(I61<7,NOT(ISNUMBER(H61))),\"\",IF(H61=0,\"\",CHOOSE(H61,1,2,3,4,5)))","v":3},{"$f":"SUM(I61:J61)","v":11.2},3,7.8,{"$f":"IF(OR(M61<7,NOT(ISNUMBER(L61))),\"\",IF(L61=0,\"\",CHOOSE(L61,1,2,3,4,5)))","v":3},{"$f":"SUM(M61:N61)","v":10.8},2,8.6,{"$f":"IF(OR(Q61<7,NOT(ISNUMBER(P61))),\"\",IF(P61=0,\"\",CHOOSE(P61,1,2,3,4,5)))","v":2},{"$f":"SUM(Q61:R61)","v":10.6},3.9,{"$f":"IF(OR(T61<7,NOT(ISNUMBER(#REF!))),\"\",IF(#REF!=0,\"\",CHOOSE(#REF!,1,2,3,4,5)))","v":""},{"$f":"SUM(T61:U61)","v":3.9},4.9000000000000004,{"$f":"IF(OR(W61<7,NOT(ISNUMBER(#REF!))),\"\",IF(#REF!=0,\"\",CHOOSE(#REF!,1,2,3,4,5)))","v":""},{"$f":"SUM(W61:X61)","v":4.9000000000000004}]
[2,null,null,3,6.05,{"$f":"IF(OR(E62<7,NOT(ISNUMBER(D62))),\"\",IF(D62=0,\"\",CHOOSE(D62,1,2,3,4,5)))","v":""},{"$f":"SUM(E62:F62)","v":6.05},2,8.3000000000000007,{"$f":"IF(OR(I62<7,NOT(ISNUMBER(H62))),\"\",IF(H62=0,\"\",CHOOSE(H62,1,2,3,4,5)))","v":2},{"$f":"SUM(I62:J62)","v":10.3},3,7.95,{"$f":"IF(OR(M62<7,NOT(ISNUMBER(L62))),\"\",IF(L62=0,\"\",CHOOSE(L62,1,2,3,4,5)))","v":3},{"$f":"SUM(M62:N62)","v":10.95},2,8.8000000000000007,{"$f":"IF(OR(Q62<7,NOT(ISNUMBER(P62))),\"\",IF(P62=0,\"\",CHOOSE(P62,1,2,3,4,5)))","v":2},{"$f":"SUM(Q62:R62)","v":10.8},2.5,{"$f":"IF(OR(T62<7,NOT(ISNUMBER(#REF!))),\"\",IF(#REF!=0,\"\",CHOOSE(#REF!,1,2,3,4,5)))","v":""},{"$f":"SUM(T62:U62)","v":2.5},7.65,{"$f":"IF(OR(W62<7,NOT(ISNUMBER(#REF!))),\"\",IF(#REF!=0,\"\",CHOOSE(#REF!,1,2,3,4,5)))","v":""},{"$f":"SUM(W62:X62)","v":7.65},"Sol",{"$f":"LARGE(G61:G78,1)+LARGE(G61:G78,2)+LARGE(G61:G78,3)+LARGE(G61:G78,4)+LARGE(G61:G78,5)+LARGE(G61:G78,6)+LARGE(G61:G78,7)+LARGE(G61:G78,8)+LARGE(G61:G78,9)+LARGE(G61:G78,10)","v":98.55}]
[3,null,null,1,8.65,{"$f":"IF(OR(E63<7,NOT(ISNUMBER(D63))),\"\",IF(D63=0,\"\",CHOOSE(D63,1,2,3,4,5)))","v":1},9.65,2,8.4499999999999993,2,10.45,1,8.8000000000000007,1,9.8000000000000007,2,7.25,2,9.25,2.6,{"$f":"IF(OR(T63<7,NOT(ISNUMBER(#REF!))),\"\",IF(#REF!=0,\"\",CHOOSE(#REF!,1,2,3,4,5)))","v":""},{"$f":"SUM(T63:U63)","v":2.6},2.8,{"$f":"IF(OR(W63<7,NOT(ISNUMBER(#REF!))),\"\",IF(#REF!=0,\"\",CHOOSE(#REF!,1,2,3,4,5)))","v":""},2.8,"Saut ",{"$f":"LARGE(K61:K78,1)+LARGE(K61:K78,2)+LARGE(K61:K78,3)+LARGE(K61:K78,4)+LARGE(K61:K78,5)+LARGE(K61:K78,6)+LARGE(K61:K78,7)+LARGE(K61:K78,8)+LARGE(K61:K78,9)+LARGE(K61:K78,10)","v":102.24999999999999}]
[4,null,null,2,5.85,"",5.85,2,8.5500000000000007,2,10.55,2,8.8000000000000007,2,10.8,2,8.85,2,10.85,1.85,{"$f":"IF(OR(T64<7,NOT(ISNUMBER(#REF!))),\"\",IF(#REF!=0,\"\",CHOOSE(#REF!,1,2,3,4,5)))","v":""},1.85,3.35,{"$f":"IF(OR(W64<7,NOT(ISNUMBER(#REF!))),\"\",IF(#REF!=0,\"\",CHOOSE(#REF!,1,2,3,4,5)))","v":""},3.35,"BP ",{"$f":"LARGE(O61:O78,1)+LARGE(O61:O78,2)+LARGE(O61:O78,3)+LARGE(O61:O78,4)+LARGE(O61:O78,5)+LARGE(O61:O78,6)+LARGE(O61:O78,7)+LARGE(O61:O78,8)+LARGE(O61:O78,9)+LARGE(O61:O78,10)","v":107.34999999999998}]
[5,null,null,2,8.1,{"$f":"IF(OR(E65<7,NOT(ISNUMBER(D65))),\"\",IF(D65=0,\"\",CHOOSE(D65,1,2,3,4,5)))","v":2},{"$f":"SUM(E65:F65)","v":10.1},2,8.1,{"$f":"IF(OR(I65<7,NOT(ISNUMBER(H65))),\"\",IF(H65=0,\"\",CHOOSE(H65,1,2,3,4,5)))","v":2},{"$f":"SUM(I65:J65)","v":10.1},2,7.3,{"$f":"IF(OR(M65<7,NOT(ISNUMBER(L65))),\"\",IF(L65=0,\"\",CHOOSE(L65,1,2,3,4,5)))","v":2},{"$f":"SUM(M65:N65)","v":9.3000000000000007},2,7.3,{"$f":"IF(OR(Q65<7,NOT(ISNUMBER(P65))),\"\",IF(P65=0,\"\",CHOOSE(P65,1,2,3,4,5)))","v":2},{"$f":"SUM(Q65:R65)","v":9.3000000000000007},3.7,{"$f":"IF(OR(T65<7,NOT(ISNUMBER(#REF!))),\"\",IF(#REF!=0,\"\",CHOOSE(#REF!,1,2,3,4,5)))","v":""},{"$f":"SUM(T65:U65)","v":3.7},1.1499999999999999,{"$f":"IF(OR(W65<7,NOT(ISNUMBER(#REF!))),\"\",IF(#REF!=0,\"\",CHOOSE(#REF!,1,2,3,4,5)))","v":""},{"$f":"SUM(W65:X65)","v":1.1499999999999999},"BF",{"$f":"LARGE(S61:S78,1)+LARGE(S61:S78,2)+LARGE(S61:S78,3)+LARGE(S61:S78,4)+LARGE(S61:S78,5)+LARGE(S61:S78,6)+LARGE(S61:S78,7)+LARGE(S61:S78,8)+LARGE(S61:S78,9)+LARGE(S61:S78,10)","v":99.649999999999991}]
[6,null,null,4,7.4,4,11.4,3,7.75,3,10.75,3,9.1999999999999993,3,12.2,3,8.75,3,11.75,3.5,{"$f":"IF(OR(T66<7,NOT(ISNUMBER(#REF!))),\"\",IF(#REF!=0,\"\",CHOOSE(#REF!,1,2,3,4,5)))","v":""},3.5,6.45,{"$f":"IF(OR(W66<7,NOT(ISNUMBER(#REF!))),\"\",IF(#REF!=0,\"\",CHOOSE(#REF!,1,2,3,4,5)))","v":""},6.45,"Arçons ",{"$f":"LARGE(V61:V78,1)+LARGE(V61:V78,2)+LARGE(V61:V78,3)+LARGE(V61:V78,4)+LARGE(V61:V78,5)+LARGE(V61:V78,6)+LARGE(V61:V78,7)+LARGE(V61:V78,8)+LARGE(V61:V78,9)+LARGE(V61:V78,10)","v":33.949999999999996}]
[7,null,null,4,8.4,4,12.4,3,9.4499999999999993,3,12.45,4,9.35,4,13.35,3,9,3,12,7.1,{"$f":"IF(OR(T67<7,NOT(ISNUMBER(#REF!))),\"\",IF(#REF!=0,\"\",CHOOSE(#REF!,1,2,3,4,5)))","v":""},7.1,8.25,{"$f":"IF(OR(W67<7,NOT(ISNUMBER(#REF!))),\"\",IF(#REF!=0,\"\",CHOOSE(#REF!,1,2,3,4,5)))","v":""},8.25,"Anneaux",{"$f":"LARGE(Y61:Y78,1)+LARGE(Y61:Y78,2)+LARGE(Y61:Y78,3)+LARGE(Y61:Y78,4)+LARGE(Y61:Y78,5)+LARGE(Y61:Y78,6)+LARGE(Y61:Y78,7)+LARGE(Y61:Y78,8)+LARGE(Y61:Y78,9)+LARGE(Y61:Y78,10)","v":44.04999999999999}]
[8,null,null,2,7.35,2,9.35,2,7,2,9,2,9.15,2,11.15,2,6.7,"",6.7,2.7,{"$f":"IF(OR(T68<7,NOT(ISNUMBER(#REF!))),\"\",IF(#REF!=0,\"\",CHOOSE(#REF!,1,2,3,4,5)))","v":""},2.7,1.8,{"$f":"IF(OR(W68<7,NOT(ISNUMBER(#REF!))),\"\",IF(#REF!=0,\"\",CHOOSE(#REF!,1,2,3,4,5)))","v":""},1.8]
[9,null,null,2,6.9,"",6.9,2,5,"",5,1,7.8,1,8.8000000000000007,2,6.8,"",6.8,1,{"$f":"IF(OR(T69<7,NOT(ISNUMBER(#REF!))),\"\",IF(#REF!=0,\"\",CHOOSE(#REF!,1,2,3,4,5)))","v":""},1,2.15,{"$f":"IF(OR(W69<7,NOT(ISNUMBER(#REF!))),\"\",IF(#REF!=0,\"\",CHOOSE(#REF!,1,2,3,4,5)))","v":""},2.15]
[10,null,null,2,8.1999999999999993,2,10.199999999999999,2,5,"",5,2,7.75,2,9.75,2,6.65,"",6.65,1,{"$f":"IF(OR(T70<7,NOT(ISNUMBER(#REF!))),\"\",IF(#REF!=0,\"\",CHOOSE(#REF!,1,2,3,4,5)))","v":""},1,1.3,{"$f":"IF(OR(W70<7,NOT(ISNUMBER(#REF!))),\"\",IF(#REF!=0,\"\",CHOOSE(#REF!,1,2,3,4,5)))","v":""},1.3]
[11,null,null,4,8.1,4,12.1,3,9.4499999999999993,3,12.45,2,7.25,2,9.25,3,8.6,3,11.6,5.0999999999999996,{"$f":"IF(OR(T71<7,NOT(ISNUMBER(#REF!))),\"\",IF(#REF!=0,\"\",CHOOSE(#REF!,1,2,3,4,5)))","v":""},5.0999999999999996,5.4,{"$f":"IF(OR(W71<7,NOT(ISNUMBER(#REF!))),\"\",IF(#REF!=0,\"\",CHOOSE(#REF!,1,2,3,4,5)))","v":""},5.4]
[12,null,null,null,null,"",0,null,null,"",0,null,null,"",0,null,null,"",0,null,{"$f":"IF(OR(T72<7,NOT(ISNUMBER(#REF!))),\"\",IF(#REF!=0,\"\",CHOOSE(#REF!,1,2,3,4,5)))","v":""},0,null,{"$f":"IF(OR(W72<7,NOT(ISNUMBER(#REF!))),\"\",IF(#REF!=0,\"\",CHOOSE(#REF!,1,2,3,4,5)))","v":""},0]
[13,null,null,null,null,"",0,null,null,"",0,null,null,"",0,null,null,"",0,null,{"$f":"IF(OR(T73<7,NOT(ISNUMBER(#REF!))),\"\",IF(#REF!=0,\"\",CHOOSE(#REF!,1,2,3,4,5)))","v":""},0,null,{"$f":"IF(OR(W73<7,NOT(ISNUMBER(#REF!))),\"\",IF(#REF!=0,\"\",CHOOSE(#REF!,1,2,3,4,5)))","v":""},0]
[14,null,null,null,null,"",0,null,null,"",0,null,null,"",0,null,null,"",0,null,{"$f":"IF(OR(T74<7,NOT(ISNUMBER(#REF!))),\"\",IF(#REF!=0,\"\",CHOOSE(#REF!,1,2,3,4,5)))","v":""},0,null,{"$f":"IF(OR(W74<7,NOT(ISNUMBER(#REF!))),\"\",IF(#REF!=0,\"\",CHOOSE(#REF!,1,2,3,4,5)))","v":""},0]
[15,null,null,null,null,"",0,null,null,"",0,null,null,"",0,null,null,"",0,null,{"$f":"IF(OR(T75<7,NOT(ISNUMBER(#REF!))),\"\",IF(#REF!=0,\"\",CHOOSE(#REF!,1,2,3,4,5)))","v":""},0,null,{"$f":"IF(OR(W75<7,NOT(ISNUMBER(#REF!))),\"\",IF(#REF!=0,\"\",CHOOSE(#REF!,1,2,3,4,5)))","v":""},0]
[16,null,null,null,null,"",0,null,null,"",0,null,null,"",0,null,null,"",0,null,{"$f":"IF(OR(T76<7,NOT(ISNUMBER(#REF!))),\"\",IF(#REF!=0,\"\",CHOOSE(#REF!,1,2,3,4,5)))","v":""},0,null,{"$f":"IF(OR(W76<7,NOT(ISNUMBER(#REF!))),\"\",IF(#REF!=0,\"\",CHOOSE(#REF!,1,2,3,4,5)))","v":""},0]
[17,null,null,null,null,"",0,null,null,"",0,null,null,"",0,null,null,"",0,null,{"$f":"IF(OR(T77<7,NOT(ISNUMBER(#REF!))),\"\",IF(#REF!=0,\"\",CHOOSE(#REF!,1,2,3,4,5)))","v":""},0,null,{"$f":"IF(OR(W77<7,NOT(ISNUMBER(#REF!))),\"\",IF(#REF!=0,\"\",CHOOSE(#REF!,1,2,3,4,5)))","v":""},0]
[null,null,null,null,null,"",0,null,null,"",0,null,null,"",0,null,null,"",0,null,{"$f":"IF(OR(T78<7,NOT(ISNUMBER(#REF!))),\"\",IF(#REF!=0,\"\",CHOOSE(#REF!,1,2,3,4,5)))","v":""},0,null,{"$f":"IF(OR(W78<7,NOT(ISNUMBER(#REF!))),\"\",IF(#REF!=0,\"\",CHOOSE(#REF!,1,2,3,4,5)))","v":""},0]
[null,null,"Total",null,null,null,{"$f":"SUM(G61:G78)","v":104.4},null,null,null,{"$f":"SUM(K61:K78)","v":107.25},null,null,null,{"$f":"SUM(O61:O78)","v":116.15},null,null,null,{"$f":"SUM(S61:S78)","v":106.3},null,null,{"$f":"SUM(V61:V78)","v":34.949999999999996},null,null,{"$f":"SUM(Y61:Y78)","v":45.199999999999989},"Total Gal ",{"$f":"SUM(AA61:AA77)","v":485.79999999999995}]

{"sheet":"Challenge ","index":4,"n_rows":157,"n_cols":27,"rows_kept":157,"cut":false,"hidden":false,"merged":[]}
["JP1","JEANNE ARC "]
[null,"MOUVAUX "]
[1,"Nom ","Prénom","Degré ","Note ",null,"Sol ","Degré ","Note ",null,"Saut ","Degré ","Note ",null,"BP ","Degré ","Note ",null,"BF","Note ",null,"Arçons","Note ",null,"AN ","Total; des  3 notes "]
[null,null,null,3,7.4,{"$f":"IF(OR(E4<7,NOT(ISNUMBER(D4))),\"\",IF(D4=0,\"\",CHOOSE(D4,1,2,3,4,5)))","v":3},{"$f":"SUM(E4:F4)","v":10.4},3,8.1999999999999993,{"$f":"IF(OR(I4<7,NOT(ISNUMBER(H4))),\"\",IF(H4=0,\"\",CHOOSE(H4,1,2,3,4,5)))","v":3},{"$f":"SUM(I4:J4)","v":11.2},3,7.8,{"$f":"IF(OR(M4<7,NOT(ISNUMBER(L4))),\"\",IF(L4=0,\"\",CHOOSE(L4,1,2,3,4,5)))","v":3},{"$f":"SUM(M4:N4)","v":10.8},2,8.6,{"$f":"IF(OR(Q4<7,NOT(ISNUMBER(P4))),\"\",IF(P4=0,\"\",CHOOSE(P4,1,2,3,4,5)))","v":2},{"$f":"SUM(Q4:R4)","v":10.6},3.9,{"$f":"IF(OR(T4<7,NOT(ISNUMBER(#REF!))),\"\",IF(#REF!=0,\"\",CHOOSE(#REF!,1,2,3,4,5)))","v":""},{"$f":"SUM(T4:U4)","v":3.9},4.9000000000000004,{"$f":"IF(OR(W4<7,NOT(ISNUMBER(#REF!))),\"\",IF(#REF!=0,\"\",CHOOSE(#REF!,1,2,3,4,5)))","v":""},{"$f":"SUM(W4:X4)","v":4.9000000000000004}]
[null,null,null,3,6.05,{"$f":"IF(OR(E5<7,NOT(ISNUMBER(D5))),\"\",IF(D5=0,\"\",CHOOSE(D5,1,2,3,4,5)))","v":""},{"$f":"SUM(E5:F5)","v":6.05},2,8.3000000000000007,{"$f":"IF(OR(I5<7,NOT(ISNUMBER(H5))),\"\",IF(H5=0,\"\",CHOOSE(H5,1,2,3,4,5)))","v":2},{"$f":"SUM(I5:J5)","v":10.3},3,7.95,{"$f":"IF(OR(M5<7,NOT(ISNUMBER(L5))),\"\",IF(L5=0,\"\",CHOOSE(L5,1,2,3,4,5)))","v":3},{"$f":"SUM(M5:N5)","v":10.95},2,8.8000000000000007,{"$f":"IF(OR(Q5<7,NOT(ISNUMBER(P5))),\"\",IF(P5=0,\"\",CHOOSE(P5,1,2,3,4,5)))","v":2},{"$f":"SUM(Q5:R5)","v":10.8},2.5,{"$f":"IF(OR(T5<7,NOT(ISNUMBER(#REF!))),\"\",IF(#REF!=0,\"\",CHOOSE(#REF!,1,2,3,4,5)))","v":""},{"$f":"SUM(T5:U5)","v":2.5},7.65,{"$f":"IF(OR(W5<7,NOT(ISNUMBER(#REF!))),\"\",IF(#REF!=0,\"\",CHOOSE(#REF!,1,2,3,4,5)))","v":""},{"$f":"SUM(W5:X5)","v":7.65},"Sol",{"$f":"LARGE(G4:G21,1)+LARGE(G4:G21,2)+LARGE(G4:G21,3)","v":35.9}]
[null,null,null,1,8.65,{"$f":"IF(OR(E6<7,NOT(ISNUMBER(D6))),\"\",IF(D6=0,\"\",CHOOSE(D6,1,2,3,4,5)))","v":1},9.65,2,8.4499999999999993,2,10.45,1,8.8000000000000007,1,9.8000000000000007,2,7.25,2,9.25,2.6,{"$f":"IF(OR(T6<7,NOT(ISNUMBER(#REF!))),\"\",IF(#REF!=0,\"\",CHOOSE(#REF!,1,2,3,4,5)))","v":""},{"$f":"SUM(T6:U6)","v":2.6},2.8,{"$f":"IF(OR(W6<7,NOT(ISNUMBER(#REF!))),\"\",IF(#REF!=0,\"\",CHOOSE(#REF!,1,2,3,4,5)))","v":""},2.8,"Saut ",{"$f":"LARGE(K4:K21,1)+LARGE(K4:K21,2)+LARGE(K4:K21,3)","v":36.099999999999994}]
[null,null,null,2,5.85,"",5.85,2,8.5500000000000007,2,10.55,2,8.8000000000000007,2,10.8,2,8.85,2,10.85,1.85,{"$f":"IF(OR(T7<7,NOT(ISNUMBER(#REF!))),\"\",IF(#REF!=0,\"\",CHOOSE(#REF!,1,2,3,4,5)))","v":""},1.85,3.35,{"$f":"IF(OR(W7<7,NOT(ISNUMBER(#REF!))),\"\",IF(#REF!=0,\"\",CHOOSE(#REF!,1,2,3,4,5)))","v":""},3.35,"BP ",{"$f":"LARGE(O4:O21,1)+LARGE(O4:O21,2)+LARGE(O4:O21,3)","v":36.699999999999996}]
[null,null,null,2,8.1,2,{"$f":"SUM(E8:F8)","v":10.1},2,8.1,2,10.1,2,7.3,2,9.3000000000000007,2,7.3,2,9.3000000000000007,3.7,{"$f":"IF(OR(T8<7,NOT(ISNUMBER(#REF!))),\"\",IF(#REF!=0,\"\",CHOOSE(#REF!,1,2,3,4,5)))","v":""},3.7,1.1499999999999999,{"$f":"IF(OR(W8<7,NOT(ISNUMBER(#REF!))),\"\",IF(#REF!=0,\"\",CHOOSE(#REF!,1,2,3,4,5)))","v":""},1.1499999999999999,"BF ",{"$f":"LARGE(S4:S21,1)+LARGE(S4:S21,2)+LARGE(S4:S21,3)","v":35.35}]
[null,null,null,4,7.4,4,11.4,3,7.75,3,10.75,3,9.1999999999999993,3,12.2,3,8.75,3,11.75,3.5,{"$f":"IF(OR(T9<7,NOT(ISNUMBER(#REF!))),\"\",IF(#REF!=0,\"\",CHOOSE(#REF!,1,2,3,4,5)))","v":""},3.5,6.45,{"$f":"IF(OR(W9<7,NOT(ISNUMBER(#REF!))),\"\",IF(#REF!=0,\"\",CHOOSE(#REF!,1,2,3,4,5)))","v":""},6.45,"Arcons",{"$f":"LARGE(V4:V21,1)+LARGE(V4:V21,2)+LARGE(V4:V21,3)","v":16.099999999999998}]
[null,null,null,4,8.4,4,12.4,3,9.4499999999999993,3,12.45,4,9.35,4,13.35,3,9,3,12,7.1,{"$f":"IF(OR(T10<7,NOT(ISNUMBER(#REF!))),\"\",IF(#REF!=0,\"\",CHOOSE(#REF!,1,2,3,4,5)))","v":""},7.1,8.25,{"$f":"IF(OR(W10<7,NOT(ISNUMBER(#REF!))),\"\",IF(#REF!=0,\"\",CHOOSE(#REF!,1,2,3,4,5)))","v":""},8.25,"Anneaux ",{"$f":"LARGE(Y4:Y21,1)+LARGE(Y4:Y21,2)+LARGE(Y4:Y21,3)","v":22.35}]
[null,null,null,2,7.35,2,9.35,2,7,2,9,2,9.15,2,11.15,2,6.7,"",6.7,2.7,{"$f":"IF(OR(T11<7,NOT(ISNUMBER(#REF!))),\"\",IF(#REF!=0,\"\",CHOOSE(#REF!,1,2,3,4,5)))","v":""},2.7,1.8,{"$f":"IF(OR(W11<7,NOT(ISNUMBER(#REF!))),\"\",IF(#REF!=0,\"\",CHOOSE(#REF!,1,2,3,4,5)))","v":""},1.8]
[null,null,null,2,6.9,"",6.9,2,5,"",5,1,7.8,1,8.8000000000000007,2,6.8,"",6.8,1,{"$f":"IF(OR(T12<7,NOT(ISNUMBER(#REF!))),\"\",IF(#REF!=0,\"\",CHOOSE(#REF!,1,2,3,4,5)))","v":""},1,2.15,{"$f":"IF(OR(W12<7,NOT(ISNUMBER(#REF!))),\"\",IF(#REF!=0,\"\",CHOOSE(#REF!,1,2,3,4,5)))","v":""},2.15]
[null,null,null,2,8.1999999999999993,2,10.199999999999999,2,5,"",5,2,7.75,2,9.75,2,6.65,"",6.65,1,{"$f":"IF(OR(T13<7,NOT(ISNUMBER(#REF!))),\"\",IF(#REF!=0,\"\",CHOOSE(#REF!,1,2,3,4,5)))","v":""},1,1.3,{"$f":"IF(OR(W13<7,NOT(ISNUMBER(#REF!))),\"\",IF(#REF!=0,\"\",CHOOSE(#REF!,1,2,3,4,5)))","v":""},1.3]
[null,null,null,4,8.1,4,12.1,3,9.4499999999999993,3,12.45,2,7.25,2,9.25,3,8.6,3,11.6,5.0999999999999996,{"$f":"IF(OR(T14<7,NOT(ISNUMBER(#REF!))),\"\",IF(#REF!=0,\"\",CHOOSE(#REF!,1,2,3,4,5)))","v":""},5.0999999999999996,5.4,{"$f":"IF(OR(W14<7,NOT(ISNUMBER(#REF!))),\"\",IF(#REF!=0,\"\",CHOOSE(#REF!,1,2,3,4,5)))","v":""},5.4]
[null,null,null,null,null,"",0,null,null,"",0,null,null,"",0,null,null,"",0,null,{"$f":"IF(OR(T15<7,NOT(ISNUMBER(#REF!))),\"\",IF(#REF!=0,\"\",CHOOSE(#REF!,1,2,3,4,5)))","v":""},0,null,{"$f":"IF(OR(W15<7,NOT(ISNUMBER(#REF!))),\"\",IF(#REF!=0,\"\",CHOOSE(#REF!,1,2,3,4,5)))","v":""},0]
[null,null,null,null,null,{"$f":"IF(OR(E16<7,NOT(ISNUMBER(D16))),\"\",IF(D16=0,\"\",CHOOSE(D16,1,2,3,4,5)))","v":""},{"$f":"SUM(E16:F16)","v":0},null,null,{"$f":"IF(OR(I16<7,NOT(ISNUMBER(H16))),\"\",IF(H16=0,\"\",CHOOSE(H16,1,2,3,4,5)))","v":""},{"$f":"SUM(I16:J16)","v":0},null,null,{"$f":"IF(OR(M16<7,NOT(ISNUMBER(L16))),\"\",IF(L16=0,\"\",CHOOSE(L16,1,2,3,4,5)))","v":""},{"$f":"SUM(M16:N16)","v":0},null,null,{"$f":"IF(OR(Q16<7,NOT(ISNUMBER(P16))),\"\",IF(P16=0,\"\",CHOOSE(P16,1,2,3,4,5)))","v":""},{"$f":"SUM(Q16:R16)","v":0},null,{"$f":"IF(OR(T16<7,NOT(ISNUMBER(#REF!))),\"\",IF(#REF!=0,\"\",CHOOSE(#REF!,1,2,3,4,5)))","v":""},{"$f":"SUM(T16:U16)","v":0},null,{"$f":"IF(OR(W16<7,NOT(ISNUMBER(#REF!))),\"\",IF(#REF!=0,\"\",CHOOSE(#REF!,1,2,3,4,5)))","v":""},{"$f":"SUM(W16:X16)","v":0}]
[null,null,null,null,null,"",0,null,null,"",0,null,null,"",0,null,null,"",0,null,null,{"$f":"SUM(T17:U17)","v":0},null,{"$f":"IF(OR(W17<7,NOT(ISNUMBER(#REF!))),\"\",IF(#REF!=0,\"\",CHOOSE(#REF!,1,2,3,4,5)))","v":""},0]
[null,null,null,null,null,"",0,null,null,"",0,null,null,"",0,null,null,"",0,null,null,{"$f":"SUM(T18:U18)","v":0},null,null,{"$f":"SUM(W18:X18)","v":0}]
[null,null,null,null,null,{"$f":"IF(OR(E19<7,NOT(ISNUMBER(D19))),\"\",IF(D19=0,\"\",CHOOSE(D19,1,2,3,4,5)))","v":""},{"$f":"SUM(E19:F19)","v":0},null,null,{"$f":"IF(OR(I19<7,NOT(ISNUMBER(H19))),\"\",IF(H19=0,\"\",CHOOSE(H19,1,2,3,4,5)))","v":""},{"$f":"SUM(I19:J19)","v":0},null,null,{"$f":"IF(OR(M19<7,NOT(ISNUMBER(L19))),\"\",IF(L19=0,\"\",CHOOSE(L19,1,2,3,4,5)))","v":""},{"$f":"SUM(M19:N19)","v":0},null,null,{"$f":"IF(OR(Q19<7,NOT(ISNUMBER(P19))),\"\",IF(P19=0,\"\",CHOOSE(P19,1,2,3,4,5)))","v":""},{"$f":"SUM(Q19:R19)","v":0},null,null,{"$f":"SUM(T19:U19)","v":0},null,null,{"$f":"SUM(W19:X19)","v":0}]
[null,null,null,null,null,"",0,null,null,"",0,null,null,"",0,null,null,"",0,null,null,0,null,null,0]
[null,null,null,null,null,"",0,null,null,"",0,null,null,null,0,null,null,null,0,null,null,0,null,null,0]
[null,null,"Total",null,null,null,{"$f":"SUM(G4:G21)","v":104.4},null,null,null,{"$f":"SUM(K4:K21)","v":107.25},null,null,null,{"$f":"SUM(O4:O21)","v":116.15},null,null,null,{"$f":"SUM(S4:S21)","v":106.3},null,null,{"$f":"SUM(V4:V21)","v":34.949999999999996},null,null,{"$f":"SUM(Y4:Y21)","v":45.199999999999989},"Total Gal ",{"$f":"SUM(AA4:AA20)","v":182.49999999999997}]
[]
[]
[]
[]
[]
[]
[]
[]
[]
[]
[]
[]
[]
[]
[]
[2,"JEUNE GARDE "]
[null,"ARMENTERES"]
[null,"Nom ","Prénom","Degré ","Note ",null,"Sol ","Degré ","Note ",null,"Saut ","Degré ","Note ",null,"BP ","Degré ","Note ",null,"BF","Note ",null,"Arçons","Note ",null,"AN ","Total; des 3 notes "]
[null,null,null,4,8.9499999999999993,{"$f":"IF(OR(E41<7,NOT(ISNUMBER(D41))),\"\",IF(D41=0,\"\",CHOOSE(D41,1,2,3,4,5)))","v":4},{"$f":"SUM(E41:F41)","v":12.95},4,8.75,{"$f":"IF(OR(I41<7,NOT(ISNUMBER(H41))),\"\",IF(H41=0,\"\",CHOOSE(H41,1,2,3,4,5)))","v":4},{"$f":"SUM(I41:J41)","v":12.75},3,8.4,{"$f":"IF(OR(M41<7,NOT(ISNUMBER(L41))),\"\",IF(L41=0,\"\",CHOOSE(L41,1,2,3,4,5)))","v":3},{"$f":"SUM(M41:N41)","v":11.4},4,8.25,{"$f":"IF(OR(Q41<7,NOT(ISNUMBER(P41))),\"\",IF(P41=0,\"\",CHOOSE(P41,1,2,3,4,5)))","v":4},{"$f":"SUM(Q41:R41)","v":12.25},6.45,{"$f":"IF(OR(T41<7,NOT(ISNUMBER(#REF!))),\"\",IF(#REF!=0,\"\",CHOOSE(#REF!,1,2,3,4,5)))","v":""},{"$f":"SUM(T41:U41)","v":6.45},8.25,{"$f":"IF(OR(W41<7,NOT(ISNUMBER(#REF!))),\"\",IF(#REF!=0,\"\",CHOOSE(#REF!,1,2,3,4,5)))","v":""},{"$f":"SUM(W41:X41)","v":8.25}]
[null,null,null,3,8.6999999999999993,{"$f":"IF(OR(E42<7,NOT(ISNUMBER(D42))),\"\",IF(D42=0,\"\",CHOOSE(D42,1,2,3,4,5)))","v":3},{"$f":"SUM(E42:F42)","v":11.7},3,9.4,{"$f":"IF(OR(I42<7,NOT(ISNUMBER(H42))),\"\",IF(H42=0,\"\",CHOOSE(H42,1,2,3,4,5)))","v":3},{"$f":"SUM(I42:J42)","v":12.4},2,9.4,{"$f":"IF(OR(M42<7,NOT(ISNUMBER(L42))),\"\",IF(L42=0,\"\",CHOOSE(L42,1,2,3,4,5)))","v":2},{"$f":"SUM(M42:N42)","v":11.4},3,8.4499999999999993,{"$f":"IF(OR(Q42<7,NOT(ISNUMBER(P42))),\"\",IF(P42=0,\"\",CHOOSE(P42,1,2,3,4,5)))","v":3},{"$f":"SUM(Q42:R42)","v":11.45},6.1,{"$f":"IF(OR(T42<7,NOT(ISNUMBER(#REF!))),\"\",IF(#REF!=0,\"\",CHOOSE(#REF!,1,2,3,4,5)))","v":""},{"$f":"SUM(T42:U42)","v":6.1},5.3,{"$f":"IF(OR(W42<7,NOT(ISNUMBER(#REF!))),\"\",IF(#REF!=0,\"\",CHOOSE(#REF!,1,2,3,4,5)))","v":""},{"$f":"SUM(W42:X42)","v":5.3},"Sol",{"$f":"LARGE(G41:G56,1)+LARGE(G41:G56,2)+LARGE(G41:G56,3)","v":38.1}]
[null,null,null,3,7.5,3,10.5,3,5,"",5,2,9.5,2,11.5,2,9.3000000000000007,2,11.3,4.95,{"$f":"IF(OR(T43<7,NOT(ISNUMBER(#REF!))),\"\",IF(#REF!=0,\"\",CHOOSE(#REF!,1,2,3,4,5)))","v":""},4.95,6.8,{"$f":"IF(OR(W43<7,NOT(ISNUMBER(#REF!))),\"\",IF(#REF!=0,\"\",CHOOSE(#REF!,1,2,3,4,5)))","v":""},6.8,"Saut ",{"$f":"LARGE(K41:K56,1)+LARGE(K41:K56,2)+LARGE(K41:K56,3)","v":38.450000000000003}]
[null,null,null,1,7.5,1,8.5,2,8.9,2,10.9,2,7.75,2,9.75,2,8.1,2,10.1,3.4,{"$f":"IF(OR(T44<7,NOT(ISNUMBER(#REF!))),\"\",IF(#REF!=0,\"\",CHOOSE(#REF!,1,2,3,4,5)))","v":""},3.4,8.9,{"$f":"IF(OR(W44<7,NOT(ISNUMBER(#REF!))),\"\",IF(#REF!=0,\"\",CHOOSE(#REF!,1,2,3,4,5)))","v":""},8.9,"BP ",{"$f":"LARGE(O41:O56,1)+LARGE(O41:O56,2)+LARGE(O41:O56,3)","v":37.049999999999997}]
[null,null,null,4,7.4,4,11.4,3,9.3000000000000007,3,12.3,3,9.25,3,12.25,4,8.9,4,12.9,6.5,null,6.5,8.3000000000000007,null,8.3000000000000007,"BF",{"$f":"LARGE(S41:S56,1)+LARGE(S41:S56,2)+LARGE(S41:S56,3)","v":38.5}]
[null,null,null,4,9.3000000000000007,4,13.3,4,9.1,4,13.1,3,9.6,3,12.6,4,9.1999999999999993,4,13.2,7.6,null,{"$f":"SUM(T46:U46)","v":7.6},7.4,null,{"$f":"SUM(W46:X46)","v":7.4},"Arçons ",{"$f":"LARGE(V41:V56,1)+LARGE(V41:V56,2)+LARGE(V41:V56,3)","v":20.55}]
[null,null,null,3,7.8,3,10.8,3,9.1,3,12.1,2,8.35,2,10.35,2,8.65,2,10.65,3.85,null,3.85,3.8,null,3.8,"Anneaux",{"$f":"LARGE(Y41:Y56,1)+LARGE(Y41:Y56,2)+LARGE(Y41:Y56,3)","v":25.6}]
[null,null,null,3,8.8000000000000007,3,11.8,3,9.6,3,12.6,3,7.85,3,10.85,3,9.1,3,12.1,5.4,null,5.4,8.35,null,8.35]
[null,null,null,3,8.85,3,11.85,3,8.75,3,11.75,3,9.1999999999999993,3,12.2,3,9.4,3,12.4,6.45,null,6.45,8.35,null,8.35]
[null,null,null,1,8.3000000000000007,1,9.3000000000000007,2,8.1999999999999993,2,10.199999999999999,2,7,2,9,2,7.85,2,9.85,3.9,null,3.9,6.55,null,6.55]
[null,null,null,null,null,"",0,null,null,"",0,null,null,"",0,null,null,"",0,null,null,0,null,null,0]
[null,null,null,null,null,{"$f":"IF(OR(E52<7,NOT(ISNUMBER(D52))),\"\",IF(D52=0,\"\",CHOOSE(D52,1,2,3,4,5)))","v":""},{"$f":"SUM(E52:F52)","v":0},null,null,{"$f":"IF(OR(I52<7,NOT(ISNUMBER(H52))),\"\",IF(H52=0,\"\",CHOOSE(H52,1,2,3,4,5)))","v":""},{"$f":"SUM(I52:J52)","v":0},null,null,{"$f":"IF(OR(M52<7,NOT(ISNUMBER(L52))),\"\",IF(L52=0,\"\",CHOOSE(L52,1,2,3,4,5)))","v":""},{"$f":"SUM(M52:N52)","v":0},null,null,{"$f":"IF(OR(Q52<7,NOT(ISNUMBER(P52))),\"\",IF(P52=0,\"\",CHOOSE(P52,1,2,3,4,5)))","v":""},{"$f":"SUM(Q52:R52)","v":0},null,{"$f":"IF(OR(T52<7,NOT(ISNUMBER(#REF!))),\"\",IF(#REF!=0,\"\",CHOOSE(#REF!,1,2,3,4,5)))","v":""},{"$f":"SUM(T52:U52)","v":0},null,{"$f":"IF(OR(W52<7,NOT(ISNUMBER(#REF!))),\"\",IF(#REF!=0,\"\",CHOOSE(#REF!,1,2,3,4,5)))","v":""},{"$f":"SUM(W52:X52)","v":0}]
[null,null,null,null,null,"",0,null,null,"",0,null,null,"",0,null,null,"",0,null,{"$f":"IF(OR(T53<7,NOT(ISNUMBER(#REF!))),\"\",IF(#REF!=0,\"\",CHOOSE(#REF!,1,2,3,4,5)))","v":""},0,null,{"$f":"IF(OR(W53<7,NOT(ISNUMBER(#REF!))),\"\",IF(#REF!=0,\"\",CHOOSE(#REF!,1,2,3,4,5)))","v":""},0]
[null,null,null,null,null,"",0,null,null,"",0,null,null,"",0,null,null,"",0,null,{"$f":"IF(OR(T54<7,NOT(ISNUMBER(#REF!))),\"\",IF(#REF!=0,\"\",CHOOSE(#REF!,1,2,3,4,5)))","v":""},0,null,{"$f":"IF(OR(W54<7,NOT(ISNUMBER(#REF!))),\"\",IF(#REF!=0,\"\",CHOOSE(#REF!,1,2,3,4,5)))","v":""},0]
[null,null,null,null,null,"",0,null,null,"",0,null,null,"",0,null,null,"",0,null,null,0,null,null,0]
[null,null,null,null,null,"",0,null,null,"",0,null,null,"",0,null,null,"",0,null,null,0,null,null,0]
[null,null,null,null,null,null,0,null,null,"",0,null,null,"",0,null,null,null,0,null,null,0,null,null,0]
[null,null,"Total",null,null,null,{"$f":"SUM(G40:G57)","v":112.09999999999998},null,null,null,{"$f":"SUM(K40:K57)","v":113.09999999999998},null,null,null,{"$f":"SUM(O40:O57)","v":111.29999999999998},null,null,null,{"$f":"SUM(S40:S57)","v":116.2},null,null,{"$f":"SUM(V40:V57)","v":54.6},null,null,{"$f":"SUM(Y40:Y57)","v":71.999999999999986},"Total Gal ",{"$f":"SUM(AA40:AA57)","v":198.25000000000003}]
[]
[]
[]
["JP2","LA LORRAINE ","RACHES "]
[]
[null,"Nom ","Prénom","Degré ","Note ",null,"Sol ","Degré ","Note ",null,"Saut ","Degré ","Note ",null,"BP ","Degré ","Note ",null,"BF","Note ",null,"Arçons","Note ",null,"AN ","Total; des 3 Meilleurs notes "]
[null,null,null,1,7.75,{"$f":"IF(OR(E65<7,NOT(ISNUMBER(D65))),\"\",IF(D65=0,\"\",CHOOSE(D65,1,2,3,4,5)))","v":1},{"$f":"SUM(E65:F65)","v":8.75},2,8.25,{"$f":"IF(OR(I65<7,NOT(ISNUMBER(H65))),\"\",IF(H65=0,\"\",CHOOSE(H65,1,2,3,4,5)))","v":2},{"$f":"SUM(I65:J65)","v":10.25},1,7.25,{"$f":"IF(OR(M65<7,NOT(ISNUMBER(L65))),\"\",IF(L65=0,\"\",CHOOSE(L65,1,2,3,4,5)))","v":1},{"$f":"SUM(M65:N65)","v":8.25},2,7.65,{"$f":"IF(OR(Q65<7,NOT(ISNUMBER(P65))),\"\",IF(P65=0,\"\",CHOOSE(P65,1,2,3,4,5)))","v":2},{"$f":"SUM(Q65:R65)","v":9.65},3.05,0,{"$f":"SUM(T65:U65)","v":3.05},1,{"$f":"IF(OR(W65<7,NOT(ISNUMBER(#REF!))),\"\",IF(#REF!=0,\"\",CHOOSE(#REF!,1,2,3,4,5)))","v":""},{"$f":"SUM(W65:X65)","v":1}]
[null,null,null,4,8.15,{"$f":"IF(OR(E66<7,NOT(ISNUMBER(D66))),\"\",IF(D66=0,\"\",CHOOSE(D66,1,2,3,4,5)))","v":4},{"$f":"SUM(E66:F66)","v":12.15},4,7.7,4,{"$f":"SUM(I66:J66)","v":11.7},3,8.5,{"$f":"IF(OR(M66<7,NOT(ISNUMBER(L66))),\"\",IF(L66=0,\"\",CHOOSE(L66,1,2,3,4,5)))","v":3},{"$f":"SUM(M66:N66)","v":11.5},3,8.5500000000000007,{"$f":"IF(OR(Q66<7,NOT(ISNUMBER(P66))),\"\",IF(P66=0,\"\",CHOOSE(P66,1,2,3,4,5)))","v":3},{"$f":"SUM(Q66:R66)","v":11.55},5.15,0,{"$f":"SUM(T66:U66)","v":5.15},8.3000000000000007,{"$f":"IF(OR(W66<7,NOT(ISNUMBER(#REF!))),\"\",IF(#REF!=0,\"\",CHOOSE(#REF!,1,2,3,4,5)))","v":""},{"$f":"SUM(W66:X66)","v":8.3000000000000007},"Sol",{"$f":"LARGE(G65:G74,1)+LARGE(G65:G74,2)+LARGE(G65:G74,3)","v":37.049999999999997}]
[null,null,null,3,8.4499999999999993,3,11.45,3,9.1,3,12.1,3,9.5,3,12.5,3,8.9,3,11.9,6.15,0,6.15,7.9,{"$f":"IF(OR(W67<7,NOT(ISNUMBER(#REF!))),\"\",IF(#REF!=0,\"\",CHOOSE(#REF!,1,2,3,4,5)))","v":""},7.9,"Saut ",{"$f":"LARGE(K65:K74,1)+LARGE(K65:K74,2)+LARGE(K65:K74,3)","v":38.099999999999994}]
[null,null,null,4,8.15,4,12.15,2,8.25,2,10.25,4,8.5,4,12.5,3,8.9499999999999993,3,11.95,6.9,0,6.9,8.0500000000000007,{"$f":"IF(OR(W68<7,NOT(ISNUMBER(#REF!))),\"\",IF(#REF!=0,\"\",CHOOSE(#REF!,1,2,3,4,5)))","v":""},8.0500000000000007,"BP ",{"$f":"LARGE(O65:O74,1)+LARGE(O65:O74,2)+LARGE(O65:O74,3)","v":36.9}]
[null,null,null,1,8.5,1,9.5,3,9.3000000000000007,3,12.3,2,7.6,2,9.6,2,7.9,2,9.9,3.8,0,3.8,3.2,{"$f":"IF(OR(W69<7,NOT(ISNUMBER(#REF!))),\"\",IF(#REF!=0,\"\",CHOOSE(#REF!,1,2,3,4,5)))","v":""},3.2,"BF",{"$f":"LARGE(S65:S74,1)+LARGE(S65:S74,2)+LARGE(S65:S74,3)","v":35.799999999999997}]
[null,null,null,4,8.75,4,12.75,3,9.25,3,12.25,3,7.4,3,10.4,3,8.9499999999999993,3,11.95,5.85,0,5.85,8.6999999999999993,null,8.6999999999999993,"Arcons",{"$f":"LARGE(V65:V74,1)+LARGE(V65:V74,2)+LARGE(V65:V74,3)","v":18.899999999999999}]
[null,null,null,3,8.5500000000000007,3,11.55,4,9.1999999999999993,4,13.2,3,8.9,3,11.9,3,7.15,3,10.15,4.95,0,4.95,7.9,null,7.9,"Anneaux",{"$f":"LARGE(Y65:Y74,1)+LARGE(Y65:Y74,2)+LARGE(Y65:Y74,3)","v":25.1}]
[null,null,null,3,8.1999999999999993,3,11.2,3,9.6,3,12.6,3,7.7,3,10.7,3,8.0500000000000007,3,11.05,3.5,0,3.5,8.1,null,8.1]
[null,null,null,null,null,{"$f":"IF(OR(E73<7,NOT(ISNUMBER(D73))),\"\",IF(D73=0,\"\",CHOOSE(D73,1,2,3,4,5)))","v":""},{"$f":"SUM(E73:F73)","v":0},null,null,{"$f":"IF(OR(I73<7,NOT(ISNUMBER(H73))),\"\",IF(H73=0,\"\",CHOOSE(H73,1,2,3,4,5)))","v":""},{"$f":"SUM(I73:J73)","v":0},null,null,{"$f":"IF(OR(M73<7,NOT(ISNUMBER(L73))),\"\",IF(L73=0,\"\",CHOOSE(L73,1,2,3,4,5)))","v":""},{"$f":"SUM(M73:N73)","v":0},null,null,{"$f":"IF(OR(Q73<7,NOT(ISNUMBER(P73))),\"\",IF(P73=0,\"\",CHOOSE(P73,1,2,3,4,5)))","v":""},{"$f":"SUM(Q73:R73)","v":0},null,0,{"$f":"SUM(T73:U73)","v":0},null,null,{"$f":"SUM(W73:X73)","v":0}]
[null,null,null,null,null,"",null,null,null,"",null,null,null,"",null,null,null,"",null,null,{"$f":"IF(OR(T74<7,NOT(ISNUMBER(#REF!))),\"\",IF(#REF!=0,\"\",CHOOSE(#REF!,1,2,3,4,5)))","v":""},null,null,{"$f":"IF(OR(W74<7,NOT(ISNUMBER(#REF!))),\"\",IF(#REF!=0,\"\",CHOOSE(#REF!,1,2,3,4,5)))","v":""}]
[null,null,"Total",null,null,null,{"$f":"SUM(G65:G74)","v":89.5},null,null,null,{"$f":"SUM(K65:K74)","v":94.649999999999991},null,null,null,{"$f":"SUM(O65:O74)","v":87.350000000000009},null,null,null,{"$f":"SUM(S65:S74)","v":88.1},null,null,{"$f":"SUM(V65:V74)","v":39.35},null,null,{"$f":"SUM(Y65:Y74)","v":53.150000000000006},"Total Gal ",{"$f":"SUM(AA65:AA74)","v":191.84999999999997}]
[]
[]
[]
[2,"L'AMANDINOISE ","ST AMAND "]
[]
[null,"Nom ","Prénom","Degré ","Note ",null,"Sol ","Degré ","Note ",null,"Saut ","Degré ","Note ",null,"BP ","Degré ","Note ",null,"BF","Note ",null,"Arçons","Note ",null,"AN ","Total; des 3 Meilleurs notes "]
[null,null,null,1,8.5,{"$f":"IF(OR(E82<7,NOT(ISNUMBER(D82))),\"\",IF(D82=0,\"\",CHOOSE(D82,1,2,3,4,5)))","v":1},{"$f":"SUM(E82:F82)","v":9.5},2,8.1999999999999993,{"$f":"IF(OR(I82<7,NOT(ISNUMBER(H82))),\"\",IF(H82=0,\"\",CHOOSE(H82,1,2,3,4,5)))","v":2},{"$f":"SUM(I82:J82)","v":10.199999999999999},2,7.65,{"$f":"IF(OR(M82<7,NOT(ISNUMBER(L82))),\"\",IF(L82=0,\"\",CHOOSE(L82,1,2,3,4,5)))","v":2},{"$f":"SUM(M82:N82)","v":9.65},2,8.8000000000000007,{"$f":"IF(OR(Q82<7,NOT(ISNUMBER(P82))),\"\",IF(P82=0,\"\",CHOOSE(P82,1,2,3,4,5)))","v":2},{"$f":"SUM(Q82:R82)","v":10.8},2.9,{"$f":"IF(OR(T82<7,NOT(ISNUMBER(#REF!))),\"\",IF(#REF!=0,\"\",CHOOSE(#REF!,1,2,3,4,5)))","v":""},{"$f":"SUM(T82:U82)","v":2.9},7.75,{"$f":"IF(OR(W82<7,NOT(ISNUMBER(#REF!))),\"\",IF(#REF!=0,\"\",CHOOSE(#REF!,1,2,3,4,5)))","v":""},{"$f":"SUM(W82:X82)","v":7.75}]
[null,null,null,3,7.6,{"$f":"IF(OR(E83<7,NOT(ISNUMBER(D83))),\"\",IF(D83=0,\"\",CHOOSE(D83,1,2,3,4,5)))","v":3},{"$f":"SUM(E83:F83)","v":10.6},3,9.1999999999999993,{"$f":"IF(OR(I83<7,NOT(ISNUMBER(H83))),\"\",IF(H83=0,\"\",CHOOSE(H83,1,2,3,4,5)))","v":3},{"$f":"SUM(I83:J83)","v":12.2},3,8.6999999999999993,{"$f":"IF(OR(M83<7,NOT(ISNUMBER(L83))),\"\",IF(L83=0,\"\",CHOOSE(L83,1,2,3,4,5)))","v":3},{"$f":"SUM(M83:N83)","v":11.7},3,8.75,{"$f":"IF(OR(Q83<7,NOT(ISNUMBER(P83))),\"\",IF(P83=0,\"\",CHOOSE(P83,1,2,3,4,5)))","v":3},{"$f":"SUM(Q83:R83)","v":11.75},3.55,{"$f":"IF(OR(T83<7,NOT(ISNUMBER(#REF!))),\"\",IF(#REF!=0,\"\",CHOOSE(#REF!,1,2,3,4,5)))","v":""},{"$f":"SUM(T83:U83)","v":3.55},7.95,{"$f":"IF(OR(W83<7,NOT(ISNUMBER(#REF!))),\"\",IF(#REF!=0,\"\",CHOOSE(#REF!,1,2,3,4,5)))","v":""},{"$f":"SUM(W83:X83)","v":7.95},"Sol",{"$f":"LARGE(G82:G91,1)+LARGE(G82:G91,2)+LARGE(G82:G91,3)","v":34.5}]
[null,null,null,2,8.4499999999999993,2,10.45,2,8.4,2,10.4,2,9.4,2,11.4,2,8.8000000000000007,2,10.8,4.25,{"$f":"IF(OR(T84<7,NOT(ISNUMBER(#REF!))),\"\",IF(#REF!=0,\"\",CHOOSE(#REF!,1,2,3,4,5)))","v":""},4.25,6.9,{"$f":"IF(OR(W84<7,NOT(ISNUMBER(#REF!))),\"\",IF(#REF!=0,\"\",CHOOSE(#REF!,1,2,3,4,5)))","v":""},6.9,"Saut ",{"$f":"LARGE(K82:K91,1)+LARGE(K82:K91,2)+LARGE(K82:K91,3)","v":37.449999999999996}]
[null,null,null,4,7.35,4,11.35,4,8.4499999999999993,4,12.45,3,8.5500000000000007,3,11.55,3,9,3,12,5.85,{"$f":"IF(OR(T85<7,NOT(ISNUMBER(#REF!))),\"\",IF(#REF!=0,\"\",CHOOSE(#REF!,1,2,3,4,5)))","v":""},{"$f":"SUM(T85:U85)","v":5.85},8.4499999999999993,null,8.4499999999999993,"BP ",{"$f":"LARGE(O82:O91,1)+LARGE(O82:O91,2)+LARGE(O82:O91,3)","v":34.65}]
[null,null,null,2,7.95,2,9.9499999999999993,2,8.8000000000000007,2,10.8,2,9.0500000000000007,2,11.05,2,8.15,2,10.15,4.5999999999999996,{"$f":"IF(OR(T86<7,NOT(ISNUMBER(#REF!))),\"\",IF(#REF!=0,\"\",CHOOSE(#REF!,1,2,3,4,5)))","v":""},4.5999999999999996,7.7,null,7.7,"BF",{"$f":"LARGE(S82:S91,1)+LARGE(S82:S91,2)+LARGE(S82:S91,3)","v":35.799999999999997}]
[null,null,null,3,8.0500000000000007,3,11.05,3,8.6999999999999993,3,11.7,2,8.75,2,10.75,3,9,3,12,4.25,{"$f":"IF(OR(T87<7,NOT(ISNUMBER(#REF!))),\"\",IF(#REF!=0,\"\",CHOOSE(#REF!,1,2,3,4,5)))","v":""},4.25,8.1,null,8.1,"Arçons ",{"$f":"LARGE(V82:V91,1)+LARGE(V82:V91,2)+LARGE(V82:V91,3)","v":15.899999999999999}]
[null,null,null,3,8.3000000000000007,3,11.3,3,9.6,3,12.6,2,9.3000000000000007,2,11.3,3,8.6,3,11.6,5.35,{"$f":"IF(OR(T88<7,NOT(ISNUMBER(#REF!))),\"\",IF(#REF!=0,\"\",CHOOSE(#REF!,1,2,3,4,5)))","v":""},5.35,8.1999999999999993,{"$f":"IF(OR(W88<7,NOT(ISNUMBER(#REF!))),\"\",IF(#REF!=0,\"\",CHOOSE(#REF!,1,2,3,4,5)))","v":""},8.1999999999999993,"Anneaux",{"$f":"LARGE(Y82:Y91,1)+LARGE(Y82:Y91,2)+LARGE(Y82:Y91,3)","v":24.75}]
[null,null,null,4,7.85,4,11.85,3,9.4,3,12.4,2,9,2,11,3,8.8000000000000007,3,11.8,4.7,{"$f":"IF(OR(T89<7,NOT(ISNUMBER(#REF!))),\"\",IF(#REF!=0,\"\",CHOOSE(#REF!,1,2,3,4,5)))","v":""},4.7,7.6,null,7.6]
[null,null,null,null,null,{"$f":"IF(OR(E90<7,NOT(ISNUMBER(D90))),\"\",IF(D90=0,\"\",CHOOSE(D90,1,2,3,4,5)))","v":""},{"$f":"SUM(E90:F90)","v":0},null,null,{"$f":"IF(OR(I90<7,NOT(ISNUMBER(H90))),\"\",IF(H90=0,\"\",CHOOSE(H90,1,2,3,4,5)))","v":""},{"$f":"SUM(I90:J90)","v":0},null,null,{"$f":"IF(OR(M90<7,NOT(ISNUMBER(L90))),\"\",IF(L90=0,\"\",CHOOSE(L90,1,2,3,4,5)))","v":""},{"$f":"SUM(M90:N90)","v":0},null,null,{"$f":"IF(OR(Q90<7,NOT(ISNUMBER(P90))),\"\",IF(P90=0,\"\",CHOOSE(P90,1,2,3,4,5)))","v":""},{"$f":"SUM(Q90:R90)","v":0},null,{"$f":"IF(OR(T90<7,NOT(ISNUMBER(#REF!))),\"\",IF(#REF!=0,\"\",CHOOSE(#REF!,1,2,3,4,5)))","v":""},{"$f":"SUM(T90:U90)","v":0},null,null,{"$f":"SUM(W90:X90)","v":0}]
[null,null,null,null,null,""]
[null,null,"Total",null,null,null,{"$f":"SUM(G82:G91)","v":86.049999999999983},null,null,null,{"$f":"SUM(K82:K91)","v":92.75},null,null,null,{"$f":"SUM(O82:O91)","v":88.399999999999991},null,null,null,{"$f":"SUM(S82:S91)","v":90.899999999999991},null,null,{"$f":"SUM(V82:V91)","v":35.450000000000003},null,null,{"$f":"SUM(Y82:Y91)","v":62.65},"Total Gal ",{"$f":"SUM(AA82:AA91)","v":183.04999999999998}]
[]
[3,"JEANNE ARC ","FOURNES"]
[]
[null,"Nom ","Prénom","Degré ","Note ",null,"Sol ","Degré ","Note ",null,"Saut ","Degré ","Note ",null,"BP ","Degré ","Note ",null,"BF","Note ",null,"Arçons","Note ",null,"AN ","Total; des 3 Meilleurs notes "]
[null,null,null,4,7.45,{"$f":"IF(OR(E97<7,NOT(ISNUMBER(D97))),\"\",IF(D97=0,\"\",CHOOSE(D97,1,2,3,4,5)))","v":4},{"$f":"SUM(E97:F97)","v":11.45},3,9.1,{"$f":"IF(OR(I97<7,NOT(ISNUMBER(H97))),\"\",IF(H97=0,\"\",CHOOSE(H97,1,2,3,4,5)))","v":3},{"$f":"SUM(I97:J97)","v":12.1},4,8.6,{"$f":"IF(OR(M97<7,NOT(ISNUMBER(L97))),\"\",IF(L97=0,\"\",CHOOSE(L97,1,2,3,4,5)))","v":4},{"$f":"SUM(M97:N97)","v":12.6},4,9.1,{"$f":"IF(OR(Q97<7,NOT(ISNUMBER(P97))),\"\",IF(P97=0,\"\",CHOOSE(P97,1,2,3,4,5)))","v":4},{"$f":"SUM(Q97:R97)","v":13.1},7.95,{"$f":"IF(OR(T97<7,NOT(ISNUMBER(#REF!))),\"\",IF(#REF!=0,\"\",CHOOSE(#REF!,1,2,3,4,5)))","v":""},{"$f":"SUM(T97:U97)","v":7.95},8.15,{"$f":"IF(OR(W97<7,NOT(ISNUMBER(#REF!))),\"\",IF(#REF!=0,\"\",CHOOSE(#REF!,1,2,3,4,5)))","v":""},{"$f":"SUM(W97:X97)","v":8.15}]
[null,null,null,4,8.4,{"$f":"IF(OR(E98<7,NOT(ISNUMBER(D98))),\"\",IF(D98=0,\"\",CHOOSE(D98,1,2,3,4,5)))","v":4},{"$f":"SUM(E98:F98)","v":12.4},3,9.0500000000000007,{"$f":"IF(OR(I98<7,NOT(ISNUMBER(H98))),\"\",IF(H98=0,\"\",CHOOSE(H98,1,2,3,4,5)))","v":3},{"$f":"SUM(I98:J98)","v":12.05},3,9.4499999999999993,{"$f":"IF(OR(M98<7,NOT(ISNUMBER(L98))),\"\",IF(L98=0,\"\",CHOOSE(L98,1,2,3,4,5)))","v":3},{"$f":"SUM(M98:N98)","v":12.45},4,8.65,{"$f":"IF(OR(Q98<7,NOT(ISNUMBER(P98))),\"\",IF(P98=0,\"\",CHOOSE(P98,1,2,3,4,5)))","v":4},{"$f":"SUM(Q98:R98)","v":12.65},7.5,{"$f":"IF(OR(T98<7,NOT(ISNUMBER(#REF!))),\"\",IF(#REF!=0,\"\",CHOOSE(#REF!,1,2,3,4,5)))","v":""},{"$f":"SUM(T98:U98)","v":7.5},7.7,{"$f":"IF(OR(W98<7,NOT(ISNUMBER(#REF!))),\"\",IF(#REF!=0,\"\",CHOOSE(#REF!,1,2,3,4,5)))","v":""},{"$f":"SUM(W98:X98)","v":7.7},"Sol",{"$f":"LARGE(G97:G106,1)+LARGE(G97:G106,2)+LARGE(G97:G106,3)","v":37.299999999999997}]
[null,null,null,3,7,3,10,3,8.5,3,11.5,3,8.5,3,11.5,3,8.8000000000000007,3,11.8,3.95,{"$f":"IF(OR(T99<7,NOT(ISNUMBER(#REF!))),\"\",IF(#REF!=0,\"\",CHOOSE(#REF!,1,2,3,4,5)))","v":""},3.95,7.7,null,7.7,"Saut ",{"$f":"LARGE(K97:K106,1)+LARGE(K97:K106,2)+LARGE(K97:K106,3)","v":38.1}]
[null,null,null,2,8.25,2,10.25,3,5,"",5,2,9,2,11,2,8.8000000000000007,2,10.8,4.45,{"$f":"IF(OR(T100<7,NOT(ISNUMBER(#REF!))),\"\",IF(#REF!=0,\"\",CHOOSE(#REF!,1,2,3,4,5)))","v":""},4.45,7.7,null,7.7,"BP ",{"$f":"LARGE(O97:O106,1)+LARGE(O97:O106,2)+LARGE(O97:O106,3)","v":38.65}]
[null,null,null,3,7.3,3,10.3,3,9.1,3,12.1,3,9.4,3,12.4,3,8.6999999999999993,3,11.7,4.4000000000000004,{"$f":"IF(OR(T101<7,NOT(ISNUMBER(#REF!))),\"\",IF(#REF!=0,\"\",CHOOSE(#REF!,1,2,3,4,5)))","v":""},4.4000000000000004,5,null,5,"BF",{"$f":"LARGE(S97:S106,1)+LARGE(S97:S106,2)+LARGE(S97:S106,3)","v":39.449999999999996}]
[null,null,null,2,7.55,2,9.5500000000000007,2,8.4,2,10.4,2,8.5500000000000007,2,10.55,2,8.6999999999999993,2,10.7,4.4000000000000004,{"$f":"IF(OR(T102<7,NOT(ISNUMBER(#REF!))),\"\",IF(#REF!=0,\"\",CHOOSE(#REF!,1,2,3,4,5)))","v":""},4.4000000000000004,5.4,{"$f":"IF(OR(W102<7,NOT(ISNUMBER(#REF!))),\"\",IF(#REF!=0,\"\",CHOOSE(#REF!,1,2,3,4,5)))","v":""},5.4,"Arçons ",{"$f":"LARGE(V97:V106,1)+LARGE(V97:V106,2)+LARGE(V97:V106,3)","v":25.15}]
[null,null,null,4,9.4499999999999993,4,13.45,4,9.8000000000000007,4,13.8,4,9.6,4,13.6,4,9.6999999999999993,4,13.7,9.6999999999999993,{"$f":"IF(OR(T103<7,NOT(ISNUMBER(#REF!))),\"\",IF(#REF!=0,\"\",CHOOSE(#REF!,1,2,3,4,5)))","v":""},9.6999999999999993,8.35,{"$f":"IF(OR(W103<7,NOT(ISNUMBER(#REF!))),\"\",IF(#REF!=0,\"\",CHOOSE(#REF!,1,2,3,4,5)))","v":""},8.35,"Anneaux",{"$f":"LARGE(Y97:Y106,1)+LARGE(Y97:Y106,2)+LARGE(Y97:Y106,3)","v":24.45}]
[null,null,null,3,7.9,3,10.9,3,9.1999999999999993,3,12.2,3,9.35,3,12.35,3,7.35,3,10.35,6.5,{"$f":"IF(OR(T104<7,NOT(ISNUMBER(#REF!))),\"\",IF(#REF!=0,\"\",CHOOSE(#REF!,1,2,3,4,5)))","v":""},6.5,7.95,null,7.95]
[null,null,null,null,null,{"$f":"IF(OR(E105<7,NOT(ISNUMBER(D105))),\"\",IF(D105=0,\"\",CHOOSE(D105,1,2,3,4,5)))","v":""},{"$f":"SUM(E105:F105)","v":0},null,null,{"$f":"IF(OR(I105<7,NOT(ISNUMBER(H105))),\"\",IF(H105=0,\"\",CHOOSE(H105,1,2,3,4,5)))","v":""},{"$f":"SUM(I105:J105)","v":0},null,null,{"$f":"IF(OR(M105<7,NOT(ISNUMBER(L105))),\"\",IF(L105=0,\"\",CHOOSE(L105,1,2,3,4,5)))","v":""},{"$f":"SUM(M105:N105)","v":0},null,null,{"$f":"IF(OR(Q105<7,NOT(ISNUMBER(P105))),\"\",IF(P105=0,\"\",CHOOSE(P105,1,2,3,4,5)))","v":""},{"$f":"SUM(Q105:R105)","v":0},null,{"$f":"IF(OR(T105<7,NOT(ISNUMBER(#REF!))),\"\",IF(#REF!=0,\"\",CHOOSE(#REF!,1,2,3,4,5)))","v":""},{"$f":"SUM(T105:U105)","v":0},null,null,{"$f":"SUM(W105:X105)","v":0}]
[null,null,null,null,null,""]
[null,null,"Total",null,null,null,{"$f":"SUM(G97:G106)","v":88.300000000000011},null,null,null,{"$f":"SUM(K97:K106)","v":89.15},null,null,null,{"$f":"SUM(O97:O106)","v":96.449999999999989},null,null,null,{"$f":"SUM(S97:S106)","v":94.8},null,null,{"$f":"SUM(V97:V106)","v":48.849999999999994},null,null,{"$f":"SUM(Y97:Y106)","v":57.95},"Total Gal ",{"$f":"SUM(AA97:AA106)","v":203.1}]
[]
[]
[]
[]
[]
[]
[]
[]
[]
[]
[]
[4,"LA BAILLEULOISE ","BAILLEUL"]
[]
[null,"Nom ","Prénom","Degré ","Note ",null,"Sol ","Degré ","Note ",null,"Saut ","Degré ","Note ",null,"BP ","Degré ","Note ",null,"BF","Note ",null,"Arçons","Note ",null,"AN ","Total; des 3 Meilleurs notes "]
[null,null,null,2,7.75,{"$f":"IF(OR(E122<7,NOT(ISNUMBER(D122))),\"\",IF(D122=0,\"\",CHOOSE(D122,1,2,3,4,5)))","v":2},{"$f":"SUM(E122:F122)","v":9.75},2,7.25,{"$f":"IF(OR(I122<7,NOT(ISNUMBER(H122))),\"\",IF(H122=0,\"\",CHOOSE(H122,1,2,3,4,5)))","v":2},{"$f":"SUM(I122:J122)","v":9.25},2,8.5500000000000007,{"$f":"IF(OR(M122<7,NOT(ISNUMBER(L122))),\"\",IF(L122=0,\"\",CHOOSE(L122,1,2,3,4,5)))","v":2},{"$f":"SUM(M122:N122)","v":10.55},2,8.9,{"$f":"IF(OR(Q122<7,NOT(ISNUMBER(P122))),\"\",IF(P122=0,\"\",CHOOSE(P122,1,2,3,4,5)))","v":2},{"$f":"SUM(Q122:R122)","v":10.9},2.65,{"$f":"IF(OR(T122<7,NOT(ISNUMBER(#REF!))),\"\",IF(#REF!=0,\"\",CHOOSE(#REF!,1,2,3,4,5)))","v":""},{"$f":"SUM(T122:U122)","v":2.65},5.9,{"$f":"IF(OR(W122<7,NOT(ISNUMBER(#REF!))),\"\",IF(#REF!=0,\"\",CHOOSE(#REF!,1,2,3,4,5)))","v":""},{"$f":"SUM(W122:X122)","v":5.9}]
[null,null,null,3,6.9,{"$f":"IF(OR(E123<7,NOT(ISNUMBER(D123))),\"\",IF(D123=0,\"\",CHOOSE(D123,1,2,3,4,5)))","v":""},{"$f":"SUM(E123:F123)","v":6.9},2,8.5,{"$f":"IF(OR(I123<7,NOT(ISNUMBER(H123))),\"\",IF(H123=0,\"\",CHOOSE(H123,1,2,3,4,5)))","v":2},{"$f":"SUM(I123:J123)","v":10.5},2,9.1,{"$f":"IF(OR(M123<7,NOT(ISNUMBER(L123))),\"\",IF(L123=0,\"\",CHOOSE(L123,1,2,3,4,5)))","v":2},{"$f":"SUM(M123:N123)","v":11.1},3,8.6,{"$f":"IF(OR(Q123<7,NOT(ISNUMBER(P123))),\"\",IF(P123=0,\"\",CHOOSE(P123,1,2,3,4,5)))","v":3},{"$f":"SUM(Q123:R123)","v":11.6},3.65,{"$f":"IF(OR(T123<7,NOT(ISNUMBER(#REF!))),\"\",IF(#REF!=0,\"\",CHOOSE(#REF!,1,2,3,4,5)))","v":""},{"$f":"SUM(T123:U123)","v":3.65},6.75,{"$f":"IF(OR(W123<7,NOT(ISNUMBER(#REF!))),\"\",IF(#REF!=0,\"\",CHOOSE(#REF!,1,2,3,4,5)))","v":""},{"$f":"SUM(W123:X123)","v":6.75},"Sol",{"$f":"LARGE(G122:G131,1)+LARGE(G122:G131,2)+LARGE(G122:G131,3)","v":35.849999999999994}]
[null,null,null,3,7.95,3,10.95,3,9.1,3,12.1,3,8.9499999999999993,3,11.95,3,8.8000000000000007,3,11.8,4.05,{"$f":"IF(OR(T124<7,NOT(ISNUMBER(#REF!))),\"\",IF(#REF!=0,\"\",CHOOSE(#REF!,1,2,3,4,5)))","v":""},4.05,8.1,{"$f":"IF(OR(W124<7,NOT(ISNUMBER(#REF!))),\"\",IF(#REF!=0,\"\",CHOOSE(#REF!,1,2,3,4,5)))","v":""},8.1,"Saut ",{"$f":"LARGE(K122:K131,1)+LARGE(K122:K131,2)+LARGE(K122:K131,3)","v":36.049999999999997}]
[null,null,null,4,8.1999999999999993,4,12.2,3,8.9,3,11.9,3,9.1,3,12.1,3,7.45,3,10.45,7.55,{"$f":"IF(OR(T125<7,NOT(ISNUMBER(#REF!))),\"\",IF(#REF!=0,\"\",CHOOSE(#REF!,1,2,3,4,5)))","v":""},7.55,8.5,{"$f":"IF(OR(W125<7,NOT(ISNUMBER(#REF!))),\"\",IF(#REF!=0,\"\",CHOOSE(#REF!,1,2,3,4,5)))","v":""},8.5,"BP ",{"$f":"LARGE(O122:O131,1)+LARGE(O122:O131,2)+LARGE(O122:O131,3)","v":36.099999999999994}]
[null,null,null,4,6.6,"",6.6,3,8.1,3,11.1,3,8.0500000000000007,3,11.05,3,7.1,3,10.1,6.05,{"$f":"IF(OR(T126<7,NOT(ISNUMBER(#REF!))),\"\",IF(#REF!=0,\"\",CHOOSE(#REF!,1,2,3,4,5)))","v":""},6.05,7.4,{"$f":"IF(OR(W126<7,NOT(ISNUMBER(#REF!))),\"\",IF(#REF!=0,\"\",CHOOSE(#REF!,1,2,3,4,5)))","v":""},7.4,"BF",{"$f":"LARGE(S122:S131,1)+LARGE(S122:S131,2)+LARGE(S122:S131,3)","v":35.85}]
[null,null,null,3,6.9,"",6.9,2,8.1999999999999993,2,10.199999999999999,2,9.15,2,11.15,2,8.9,2,10.9,4.55,{"$f":"IF(OR(T127<7,NOT(ISNUMBER(#REF!))),\"\",IF(#REF!=0,\"\",CHOOSE(#REF!,1,2,3,4,5)))","v":""},4.55,8.15,{"$f":"IF(OR(W127<7,NOT(ISNUMBER(#REF!))),\"\",IF(#REF!=0,\"\",CHOOSE(#REF!,1,2,3,4,5)))","v":""},8.15,"Arçons ",{"$f":"LARGE(V122:V131,1)+LARGE(V122:V131,2)+LARGE(V122:V131,3)","v":19.899999999999999}]
[null,null,null,4,8.6999999999999993,4,12.7,3,9.0500000000000007,3,12.05,3,9.0500000000000007,3,12.05,4,8.4499999999999993,4,12.45,6.3,{"$f":"IF(OR(T128<7,NOT(ISNUMBER(#REF!))),\"\",IF(#REF!=0,\"\",CHOOSE(#REF!,1,2,3,4,5)))","v":""},6.3,6,{"$f":"IF(OR(W128<7,NOT(ISNUMBER(#REF!))),\"\",IF(#REF!=0,\"\",CHOOSE(#REF!,1,2,3,4,5)))","v":""},6,"Anneaux",{"$f":"LARGE(Y122:Y131,1)+LARGE(Y122:Y131,2)+LARGE(Y122:Y131,3)","v":24.75}]
[null,null,null,3,7.85,3,10.85,3,8.6999999999999993,3,11.7,2,9.1999999999999993,2,11.2,2,8.75,2,10.75,2.6,{"$f":"IF(OR(T129<7,NOT(ISNUMBER(#REF!))),\"\",IF(#REF!=0,\"\",CHOOSE(#REF!,1,2,3,4,5)))","v":""},2.6,4.9000000000000004,{"$f":"IF(OR(W129<7,NOT(ISNUMBER(#REF!))),\"\",IF(#REF!=0,\"\",CHOOSE(#REF!,1,2,3,4,5)))","v":""},4.9000000000000004]
[null,null,null,1,8.1999999999999993,1,9.1999999999999993,2,7.7,2,9.6999999999999993,2,9.4,2,11.4,2,8.8000000000000007,2,10.8,4.3499999999999996,{"$f":"IF(OR(T130<7,NOT(ISNUMBER(#REF!))),\"\",IF(#REF!=0,\"\",CHOOSE(#REF!,1,2,3,4,5)))","v":""},4.3499999999999996,null,{"$f":"IF(OR(W130<7,NOT(ISNUMBER(#REF!))),\"\",IF(#REF!=0,\"\",CHOOSE(#REF!,1,2,3,4,5)))","v":""},0]
[null,null,null,null,null,{"$f":"IF(OR(E131<7,NOT(ISNUMBER(D131))),\"\",IF(D131=0,\"\",CHOOSE(D131,1,2,3,4,5)))","v":""}]
[null,null,"Total",null,null,null,{"$f":"SUM(G122:G131)","v":86.05},null,null,null,{"$f":"SUM(K122:K131)","v":98.5},null,null,null,{"$f":"SUM(O122:O131)","v":102.55000000000001},null,null,null,{"$f":"SUM(S122:S131)","v":99.75},null,null,{"$f":"SUM(V122:V131)","v":41.75},null,null,{"$f":"SUM(Y122:Y131)","v":55.699999999999996},"Total Gal ",{"$f":"SUM(AA122:AA131)","v":188.5}]
[]
["JP3"]
[1,"USSA ","ST ANDRE "]
[]
[null,"Nom ","Prénom","Degré ","Note ",null,"Sol ","Degré ","Note ",null,"Saut ","Degré ","Note ",null,"BP ","Degré ","Note ",null,"BF","Note ",null,"Arçons","Note ",null,"AN ","Total; des 3 Meilleurs notes "]
[null,null,null,4,8.1,{"$f":"IF(OR(E138<7,NOT(ISNUMBER(D138))),\"\",IF(D138=0,\"\",CHOOSE(D138,1,2,3,4,5)))","v":4},{"$f":"SUM(E138:F138)","v":12.1},3,9,{"$f":"IF(OR(I138<7,NOT(ISNUMBER(H138))),\"\",IF(H138=0,\"\",CHOOSE(H138,1,2,3,4,5)))","v":3},{"$f":"SUM(I138:J138)","v":12},3,9.15,{"$f":"IF(OR(M138<7,NOT(ISNUMBER(L138))),\"\",IF(L138=0,\"\",CHOOSE(L138,1,2,3,4,5)))","v":3},{"$f":"SUM(M138:N138)","v":12.15},3,8.65,{"$f":"IF(OR(Q138<7,NOT(ISNUMBER(P138))),\"\",IF(P138=0,\"\",CHOOSE(P138,1,2,3,4,5)))","v":3},{"$f":"SUM(Q138:R138)","v":11.65},5.25,{"$f":"IF(OR(T138<7,NOT(ISNUMBER(#REF!))),\"\",IF(#REF!=0,\"\",CHOOSE(#REF!,1,2,3,4,5)))","v":""},{"$f":"SUM(T138:U138)","v":5.25},8.4,{"$f":"IF(OR(W138<7,NOT(ISNUMBER(#REF!))),\"\",IF(#REF!=0,\"\",CHOOSE(#REF!,1,2,3,4,5)))","v":""},{"$f":"SUM(W138:X138)","v":8.4}]
[null,null,null,2,8.15,{"$f":"IF(OR(E139<7,NOT(ISNUMBER(D139))),\"\",IF(D139=0,\"\",CHOOSE(D139,1,2,3,4,5)))","v":2},{"$f":"SUM(E139:F139)","v":10.15},3,8.4499999999999993,3,11.45,3,8,{"$f":"IF(OR(M139<7,NOT(ISNUMBER(L139))),\"\",IF(L139=0,\"\",CHOOSE(L139,1,2,3,4,5)))","v":3},{"$f":"SUM(M139:N139)","v":11},2,8.8000000000000007,{"$f":"IF(OR(Q139<7,NOT(ISNUMBER(P139))),\"\",IF(P139=0,\"\",CHOOSE(P139,1,2,3,4,5)))","v":2},{"$f":"SUM(Q139:R139)","v":10.8},3,{"$f":"IF(OR(T139<7,NOT(ISNUMBER(#REF!))),\"\",IF(#REF!=0,\"\",CHOOSE(#REF!,1,2,3,4,5)))","v":""},{"$f":"SUM(T139:U139)","v":3},7.7,{"$f":"IF(OR(W139<7,NOT(ISNUMBER(#REF!))),\"\",IF(#REF!=0,\"\",CHOOSE(#REF!,1,2,3,4,5)))","v":""},{"$f":"SUM(W139:X139)","v":7.7},"Sol",{"$f":"LARGE(G138:G144,1)+LARGE(G138:G144,2)+LARGE(G138:G144,3)","v":32.449999999999996}]
[null,null,null,2,7.65,2,9.65,2,8.5,2,10.5,2,7.9,2,9.9,2,6.25,"",6.25,3.3,{"$f":"IF(OR(T140<7,NOT(ISNUMBER(#REF!))),\"\",IF(#REF!=0,\"\",CHOOSE(#REF!,1,2,3,4,5)))","v":""},3.3,1,{"$f":"IF(OR(W140<7,NOT(ISNUMBER(#REF!))),\"\",IF(#REF!=0,\"\",CHOOSE(#REF!,1,2,3,4,5)))","v":""},1,"Saut ",{"$f":"LARGE(K138:K144,1)+LARGE(K138:K144,2)+LARGE(K138:K144,3)","v":34.65}]
[null,null,null,2,7.8,2,9.8000000000000007,2,8.5500000000000007,2,10.55,2,8.85,2,10.85,2,7.55,2,9.5500000000000007,3.7,{"$f":"IF(OR(T141<7,NOT(ISNUMBER(#REF!))),\"\",IF(#REF!=0,\"\",CHOOSE(#REF!,1,2,3,4,5)))","v":""},3.7,7.5,{"$f":"IF(OR(W141<7,NOT(ISNUMBER(#REF!))),\"\",IF(#REF!=0,\"\",CHOOSE(#REF!,1,2,3,4,5)))","v":""},7.5,"BP ",{"$f":"LARGE(O138:O144,1)+LARGE(O138:O144,2)+LARGE(O138:O144,3)","v":34}]
[null,null,null,3,7.2,3,10.199999999999999,3,8.1999999999999993,3,11.2,3,6.55,"",6.55,2,8,2,10,3,{"$f":"IF(OR(T142<7,NOT(ISNUMBER(#REF!))),\"\",IF(#REF!=0,\"\",CHOOSE(#REF!,1,2,3,4,5)))","v":""},3,7.7,{"$f":"IF(OR(W142<7,NOT(ISNUMBER(#REF!))),\"\",IF(#REF!=0,\"\",CHOOSE(#REF!,1,2,3,4,5)))","v":""},7.7,"BF",{"$f":"LARGE(S138:S144,1)+LARGE(S138:S144,2)+LARGE(S138:S144,3)","v":32.450000000000003}]
[null,null,null,null,null,"",0,null,null,"",0,null,null,"",0,null,null,"",0,null,{"$f":"IF(OR(T143<7,NOT(ISNUMBER(#REF!))),\"\",IF(#REF!=0,\"\",CHOOSE(#REF!,1,2,3,4,5)))","v":""},0,null,{"$f":"IF(OR(W143<7,NOT(ISNUMBER(#REF!))),\"\",IF(#REF!=0,\"\",CHOOSE(#REF!,1,2,3,4,5)))","v":""},0,"Arçons ",{"$f":"LARGE(V138:V144,1)+LARGE(V138:V144,2)+LARGE(V138:V144,3)","v":12.25}]
[null,null,null,null,null,{"$f":"IF(OR(E144<7,NOT(ISNUMBER(D144))),\"\",IF(D144=0,\"\",CHOOSE(D144,1,2,3,4,5)))","v":""},null,null,null,{"$f":"IF(OR(I144<7,NOT(ISNUMBER(H144))),\"\",IF(H144=0,\"\",CHOOSE(H144,1,2,3,4,5)))","v":""},null,null,null,{"$f":"IF(OR(M144<7,NOT(ISNUMBER(L144))),\"\",IF(L144=0,\"\",CHOOSE(L144,1,2,3,4,5)))","v":""},null,null,null,{"$f":"IF(OR(Q144<7,NOT(ISNUMBER(P144))),\"\",IF(P144=0,\"\",CHOOSE(P144,1,2,3,4,5)))","v":""},null,null,{"$f":"IF(OR(T144<7,NOT(ISNUMBER(#REF!))),\"\",IF(#REF!=0,\"\",CHOOSE(#REF!,1,2,3,4,5)))","v":""},null,null,{"$f":"IF(OR(W144<7,NOT(ISNUMBER(#REF!))),\"\",IF(#REF!=0,\"\",CHOOSE(#REF!,1,2,3,4,5)))","v":""},null,"Anneaux",{"$f":"LARGE(Y138:Y144,1)+LARGE(Y138:Y144,2)+LARGE(Y138:Y144,3)","v":23.8}]
[null,null,"Total",null,null,null,{"$f":"SUM(G138:G144)","v":51.900000000000006},null,null,null,{"$f":"SUM(K138:K144)","v":55.7},null,null,null,{"$f":"SUM(O138:O144)","v":50.449999999999996},null,null,null,{"$f":"SUM(S138:S144)","v":48.25},null,null,{"$f":"SUM(V138:V144)","v":18.25},null,null,{"$f":"SUM(Y138:Y144)","v":32.300000000000004},"Total Gal ",{"$f":"SUM(AA138:AA144)","v":169.60000000000002}]
[]
[2,"JEANNE ARC ESTAIRES"]
[]
[null,"Nom ","Prénom","Degré ","Note ",null,"Sol ","Degré ","Note ",null,"Saut ","Degré ","Note ",null,"BP ","Degré ","Note ",null,"BF","Note ",null,"Arçons","Note ",null,"AN ","Total; des 3 Meilleurs notes "]
[null,null,null,2,7.6,{"$f":"IF(OR(E150<7,NOT(ISNUMBER(D150))),\"\",IF(D150=0,\"\",CHOOSE(D150,1,2,3,4,5)))","v":2},{"$f":"SUM(E150:F150)","v":9.6},2,8.5,{"$f":"IF(OR(I150<7,NOT(ISNUMBER(H150))),\"\",IF(H150=0,\"\",CHOOSE(H150,1,2,3,4,5)))","v":2},{"$f":"SUM(I150:J150)","v":10.5},2,6.55,{"$f":"IF(OR(M150<7,NOT(ISNUMBER(L150))),\"\",IF(L150=0,\"\",CHOOSE(L150,1,2,3,4,5)))","v":""},{"$f":"SUM(M150:N150)","v":6.55},2,8.15,{"$f":"IF(OR(Q150<7,NOT(ISNUMBER(P150))),\"\",IF(P150=0,\"\",CHOOSE(P150,1,2,3,4,5)))","v":2},{"$f":"SUM(Q150:R150)","v":10.15},3.25,{"$f":"IF(OR(T150<7,NOT(ISNUMBER(#REF!))),\"\",IF(#REF!=0,\"\",CHOOSE(#REF!,1,2,3,4,5)))","v":""},{"$f":"SUM(T150:U150)","v":3.25},8.1999999999999993,{"$f":"IF(OR(W150<7,NOT(ISNUMBER(#REF!))),\"\",IF(#REF!=0,\"\",CHOOSE(#REF!,1,2,3,4,5)))","v":""},{"$f":"SUM(W150:X150)","v":8.1999999999999993}]
[null,null,null,4,8.15,{"$f":"IF(OR(E151<7,NOT(ISNUMBER(D151))),\"\",IF(D151=0,\"\",CHOOSE(D151,1,2,3,4,5)))","v":4},{"$f":"SUM(E151:F151)","v":12.15},3,8.9,{"$f":"IF(OR(I151<7,NOT(ISNUMBER(H151))),\"\",IF(H151=0,\"\",CHOOSE(H151,1,2,3,4,5)))","v":3},{"$f":"SUM(I151:J151)","v":11.9},3,9,{"$f":"IF(OR(M151<7,NOT(ISNUMBER(L151))),\"\",IF(L151=0,\"\",CHOOSE(L151,1,2,3,4,5)))","v":3},{"$f":"SUM(M151:N151)","v":12},2,8.9,{"$f":"IF(OR(Q151<7,NOT(ISNUMBER(P151))),\"\",IF(P151=0,\"\",CHOOSE(P151,1,2,3,4,5)))","v":2},{"$f":"SUM(Q151:R151)","v":10.9},6.35,{"$f":"IF(OR(T151<7,NOT(ISNUMBER(#REF!))),\"\",IF(#REF!=0,\"\",CHOOSE(#REF!,1,2,3,4,5)))","v":""},{"$f":"SUM(T151:U151)","v":6.35},5.8,{"$f":"IF(OR(W151<7,NOT(ISNUMBER(#REF!))),\"\",IF(#REF!=0,\"\",CHOOSE(#REF!,1,2,3,4,5)))","v":""},{"$f":"SUM(W151:X151)","v":5.8},"Sol",{"$f":"LARGE(G150:G156,1)+LARGE(G150:G156,2)+LARGE(G150:G156,3)","v":35.799999999999997}]
[null,null,null,2,8.65,2,10.65,3,9.1999999999999993,3,12.2,3,8.5500000000000007,3,11.55,2,8.9,2,10.9,2.95,{"$f":"IF(OR(T152<7,NOT(ISNUMBER(#REF!))),\"\",IF(#REF!=0,\"\",CHOOSE(#REF!,1,2,3,4,5)))","v":""},2.95,8,{"$f":"IF(OR(W152<7,NOT(ISNUMBER(#REF!))),\"\",IF(#REF!=0,\"\",CHOOSE(#REF!,1,2,3,4,5)))","v":""},8,"Saut ",{"$f":"LARGE(K150:K156,1)+LARGE(K150:K156,2)+LARGE(K150:K156,3)","v":36.25}]
[null,null,null,4,7.55,4,11.55,3,9,3,12,3,9.0500000000000007,3,12.05,3,9.1,3,12.1,5.9,{"$f":"IF(OR(T153<7,NOT(ISNUMBER(#REF!))),\"\",IF(#REF!=0,\"\",CHOOSE(#REF!,1,2,3,4,5)))","v":""},5.9,8.3000000000000007,{"$f":"IF(OR(W153<7,NOT(ISNUMBER(#REF!))),\"\",IF(#REF!=0,\"\",CHOOSE(#REF!,1,2,3,4,5)))","v":""},8.3000000000000007,"BP ",{"$f":"LARGE(O150:O156,1)+LARGE(O150:O156,2)+LARGE(O150:O156,3)","v":36.549999999999997}]
[null,null,null,4,8.1,4,12.1,3,9.0500000000000007,3,12.05,3,9.5,3,12.5,2,9.15,2,11.15,4.8499999999999996,null,4.8499999999999996,8.6,null,8.6,"BF",{"$f":"LARGE(S150:S156,1)+LARGE(S150:S156,2)+LARGE(S150:S156,3)","v":34.15}]
[null,null,null,null,null,"",0,null,null,null,0,null,null,null,0,null,null,null,0,null,null,0,null,null,0,"Arçons ",{"$f":"LARGE(V150:V156,1)+LARGE(V150:V156,2)+LARGE(V150:V156,3)","v":17.100000000000001}]
[null,null,null,null,null,{"$f":"IF(OR(E156<7,NOT(ISNUMBER(D156))),\"\",IF(D156=0,\"\",CHOOSE(D156,1,2,3,4,5)))","v":""},null,null,null,null,null,null,null,null,null,null,null,null,null,null,null,null,null,null,null,"Anneaux",{"$f":"LARGE(Y150:Y156,1)+LARGE(Y150:Y156,2)+LARGE(Y150:Y156,3)","v":25.099999999999998}]
[null,null,"Total",null,null,null,{"$f":"SUM(G150:G156)","v":56.050000000000004},null,null,null,{"$f":"SUM(K150:K156)","v":58.649999999999991},null,null,null,{"$f":"SUM(O150:O156)","v":54.650000000000006},null,null,null,{"$f":"SUM(S150:S156)","v":55.2},null,null,{"$f":"SUM(V150:V156)","v":23.300000000000004},null,null,{"$f":"SUM(Y150:Y156)","v":38.9},"Total Gal ",{"$f":"SUM(AA150:AA156)","v":184.95}]

{"sheet":"total ","index":5,"n_rows":25,"n_cols":4,"rows_kept":25,"cut":false,"hidden":false,"merged":[]}
[]
["Nombre EQUIPES REGIONAL POUSSINS"]
[]
["Club ","Poussins R1","Poussins R2","Poussins R3"]
[]
["ARMENTIERES ",1]
["BAILLEUL ",1]
["CYSOING"]
["DUNKERQUE"]
["ESTAIRES ",null,null,1]
["FOURNES EN WEPPES",null,1]
["HEM"]
["LAMBRES LEZ DOUAI"]
["MARQUILLIES"]
["MOUVAUX ",1]
["NEUVILLE ST REMY"]
["PERENCHIES"]
["RACHES",null,1]
["SAINT AMAND",null,1]
["SAINT ANDRE",null,null,1]
["SECLIN "]
["VILLENEUVE D'ASCQ"]
[]
[]
["TOTAL ",{"$f":"SUM(B6:B23)","v":3},{"$f":"SUM(C6:C23)","v":3},{"$f":"SUM(D6:D23)","v":2}]

{"sheet":"juges","index":6,"n_rows":4,"n_cols":1,"rows_kept":4,"cut":false,"hidden":true,"merged":[]}
[]
[]
[]
["JUGES MANQUANTS"]